BEGIN:VCALENDAR
VERSION:2.0
PRODID:-//MA250 - ECPv6.5.1.5//NONSGML v1.0//EN
CALSCALE:GREGORIAN
METHOD:PUBLISH
X-WR-CALNAME:MA250
X-ORIGINAL-URL:https://massachusetts250.org
X-WR-CALDESC:Events for MA250
REFRESH-INTERVAL;VALUE=DURATION:PT1H
X-Robots-Tag:noindex
X-PUBLISHED-TTL:PT1H
BEGIN:VTIMEZONE
TZID:America/New_York
BEGIN:DAYLIGHT
TZOFFSETFROM:-0500
TZOFFSETTO:-0400
TZNAME:EDT
DTSTART:20240310T070000
END:DAYLIGHT
BEGIN:STANDARD
TZOFFSETFROM:-0400
TZOFFSETTO:-0500
TZNAME:EST
DTSTART:20241103T060000
END:STANDARD
BEGIN:DAYLIGHT
TZOFFSETFROM:-0500
TZOFFSETTO:-0400
TZNAME:EDT
DTSTART:20250309T070000
END:DAYLIGHT
BEGIN:STANDARD
TZOFFSETFROM:-0400
TZOFFSETTO:-0500
TZNAME:EST
DTSTART:20251102T060000
END:STANDARD
BEGIN:DAYLIGHT
TZOFFSETFROM:-0500
TZOFFSETTO:-0400
TZNAME:EDT
DTSTART:20260308T070000
END:DAYLIGHT
BEGIN:STANDARD
TZOFFSETFROM:-0400
TZOFFSETTO:-0500
TZNAME:EST
DTSTART:20261101T060000
END:STANDARD
END:VTIMEZONE
BEGIN:VEVENT
DTSTART;TZID=America/New_York:20260201T100000
DTEND;TZID=America/New_York:20260201T160000
DTSTAMP:20260424T140427
CREATED:20260105T155104Z
LAST-MODIFIED:20260105T155104Z
UID:10004304-1769940000-1769961600@massachusetts250.org
SUMMARY:Knox Train of Artillery
DESCRIPTION:Visit Old Sturbridge Village this January for a unique event to start off America’s 250th celebrations. In collaboration with Fort Ticonderoga\, this event commemorates the Knox Train as it moved through central Massachusetts. Follow Colonel Henry Knox’s journey from New York to Boston to deliver more than 50 cannons in the winter of 1776 and see reenactment group Knox’s Artillery as they interpret the history behind moving cannons from Fort Ticonderoga to Dorchester Heights. Explore the historic Village and interact with costumed historians as they demonstrate the facets of daily life after the Revolution\, hear stories from reenacted patriots who marched on the Trail\, see cannon demonstrations\, and learn about the impacts the Revolution had on people in the 1830s. \nMore Highlights Include:\n• See Knox’s Artillery reenactment group interpret the history of moving guns from Fort Ticonderoga to Dorchester Heights.\n• Meet a team of guest oxen and learn about how they helped in the transport of artillery during Knox’s journey.\n• Watch cannon demonstrations and see 7 cannon brought by the staff of Fort Ticonderoga.\n• Learn about American artillery of the Revolution compared to the Massachusetts Artillery of the 1830s.\n• See our cabinetmakers building a log sled based on one in our collection.\n• Learn about using draft animals and their importance to early 19th-century farmers\, featuring our ox teams.\n• See our blacksmiths forging wheels to be used to transport the cannons.\n• Hear stories from a recreated patriot who marched on the Knox Trail from Pittsfield to Cambridge in 1976.
URL:https://massachusetts250.org/event/knox-train-of-artillery/2026-02-01/
LOCATION:Old Sturbridge Village\, 1 Old Sturbridge Village Road\, Sturbridge\, MA\, 01566\, United States
CATEGORIES:Commemoration,Event,Outdoors,Reenactment
ATTACH;FMTTYPE=image/jpeg:https://massachusetts250.org/wp-content/uploads/2025/12/Knox-Thumbnail-2.jpg
ORGANIZER;CN="Old Sturbridge Village":MAILTO:kmorrill@osv.org
GEO:42.1040101;-72.0930962
X-APPLE-STRUCTURED-LOCATION;VALUE=URI;X-ADDRESS=Old Sturbridge Village 1 Old Sturbridge Village Road Sturbridge MA 01566 United States;X-APPLE-RADIUS=500;X-TITLE=1 Old Sturbridge Village Road:geo:-72.0930962,42.1040101
END:VEVENT
BEGIN:VEVENT
DTSTART;TZID=America/New_York:20260131T100000
DTEND;TZID=America/New_York:20260131T160000
DTSTAMP:20260424T140427
CREATED:20260105T155104Z
LAST-MODIFIED:20260105T155104Z
UID:10004303-1769853600-1769875200@massachusetts250.org
SUMMARY:Knox Train of Artillery
DESCRIPTION:Visit Old Sturbridge Village this January for a unique event to start off America’s 250th celebrations. In collaboration with Fort Ticonderoga\, this event commemorates the Knox Train as it moved through central Massachusetts. Follow Colonel Henry Knox’s journey from New York to Boston to deliver more than 50 cannons in the winter of 1776 and see reenactment group Knox’s Artillery as they interpret the history behind moving cannons from Fort Ticonderoga to Dorchester Heights. Explore the historic Village and interact with costumed historians as they demonstrate the facets of daily life after the Revolution\, hear stories from reenacted patriots who marched on the Trail\, see cannon demonstrations\, and learn about the impacts the Revolution had on people in the 1830s. \nMore Highlights Include:\n• See Knox’s Artillery reenactment group interpret the history of moving guns from Fort Ticonderoga to Dorchester Heights.\n• Meet a team of guest oxen and learn about how they helped in the transport of artillery during Knox’s journey.\n• Watch cannon demonstrations and see 7 cannon brought by the staff of Fort Ticonderoga.\n• Learn about American artillery of the Revolution compared to the Massachusetts Artillery of the 1830s.\n• See our cabinetmakers building a log sled based on one in our collection.\n• Learn about using draft animals and their importance to early 19th-century farmers\, featuring our ox teams.\n• See our blacksmiths forging wheels to be used to transport the cannons.\n• Hear stories from a recreated patriot who marched on the Knox Trail from Pittsfield to Cambridge in 1976.
URL:https://massachusetts250.org/event/knox-train-of-artillery/2026-01-31/
LOCATION:Old Sturbridge Village\, 1 Old Sturbridge Village Road\, Sturbridge\, MA\, 01566\, United States
CATEGORIES:Commemoration,Event,Outdoors,Reenactment
ATTACH;FMTTYPE=image/jpeg:https://massachusetts250.org/wp-content/uploads/2025/12/Knox-Thumbnail-2.jpg
ORGANIZER;CN="Old Sturbridge Village":MAILTO:kmorrill@osv.org
GEO:42.1040101;-72.0930962
X-APPLE-STRUCTURED-LOCATION;VALUE=URI;X-ADDRESS=Old Sturbridge Village 1 Old Sturbridge Village Road Sturbridge MA 01566 United States;X-APPLE-RADIUS=500;X-TITLE=1 Old Sturbridge Village Road:geo:-72.0930962,42.1040101
END:VEVENT
BEGIN:VEVENT
DTSTART;TZID=America/New_York:20250803T093000
DTEND;TZID=America/New_York:20250803T170000
DTSTAMP:20260424T140427
CREATED:20250714T141915Z
LAST-MODIFIED:20250714T141915Z
UID:10001558-1754213400-1754240400@massachusetts250.org
SUMMARY:Redcoats and Rebels
DESCRIPTION:Step back in time on August 2nd and 3rd as hundreds of reenactors portraying soldiers\, artisans\, and civilian camp followers recreate the sights\, sounds\, and stories of the American Revolution. Watch thrilling drills\, musket and cannon demonstrations\, and battles\, chat with artisan craftspeople\, tour the military encampments\, listen to fife and drum music\, and chat with both reenactors and Old Sturbridge Village’s costumed historians. Don’t miss this immersive\, two-day event\, perfect for families\, history buffs\, and curious minds of all ages.
URL:https://massachusetts250.org/event/redcoats-and-rebels-2/2025-08-03/
LOCATION:Old Sturbridge Village\, 1 Old Sturbridge Village Road\, Sturbridge\, MA\, 01566\, United States
CATEGORIES:Event,Reenactment
ATTACH;FMTTYPE=image/png:https://massachusetts250.org/wp-content/uploads/2025/07/MA250_Redcoats.png
GEO:42.1040101;-72.0930962
X-APPLE-STRUCTURED-LOCATION;VALUE=URI;X-ADDRESS=Old Sturbridge Village 1 Old Sturbridge Village Road Sturbridge MA 01566 United States;X-APPLE-RADIUS=500;X-TITLE=1 Old Sturbridge Village Road:geo:-72.0930962,42.1040101
END:VEVENT
BEGIN:VEVENT
DTSTART;TZID=America/New_York:20250802T093000
DTEND;TZID=America/New_York:20250802T180000
DTSTAMP:20260424T140427
CREATED:20250714T141915Z
LAST-MODIFIED:20250714T141915Z
UID:10001557-1754127000-1754157600@massachusetts250.org
SUMMARY:Redcoats and Rebels
DESCRIPTION:Step back in time on August 2nd and 3rd as hundreds of reenactors portraying soldiers\, artisans\, and civilian camp followers recreate the sights\, sounds\, and stories of the American Revolution. Watch thrilling drills\, musket and cannon demonstrations\, and battles\, chat with artisan craftspeople\, tour the military encampments\, listen to fife and drum music\, and chat with both reenactors and Old Sturbridge Village’s costumed historians. Don’t miss this immersive\, two-day event\, perfect for families\, history buffs\, and curious minds of all ages.
URL:https://massachusetts250.org/event/redcoats-and-rebels-2/2025-08-02/
LOCATION:Old Sturbridge Village\, 1 Old Sturbridge Village Road\, Sturbridge\, MA\, 01566\, United States
CATEGORIES:Event,Reenactment
ATTACH;FMTTYPE=image/png:https://massachusetts250.org/wp-content/uploads/2025/07/MA250_Redcoats.png
GEO:42.1040101;-72.0930962
X-APPLE-STRUCTURED-LOCATION;VALUE=URI;X-ADDRESS=Old Sturbridge Village 1 Old Sturbridge Village Road Sturbridge MA 01566 United States;X-APPLE-RADIUS=500;X-TITLE=1 Old Sturbridge Village Road:geo:-72.0930962,42.1040101
END:VEVENT
BEGIN:VEVENT
DTSTART;TZID=America/New_York:20240831T093000
DTEND;TZID=America/New_York:20240831T170000
DTSTAMP:20260424T140427
CREATED:20240809T163109Z
LAST-MODIFIED:20240809T163109Z
UID:10000145-1725096600-1725123600@massachusetts250.org
SUMMARY:Muster Day
DESCRIPTION:To supplement the meager armed forces\, most early 19th-century farmers and craftsmen were required by law to serve in local militia units – the forerunner of today’s National Guard. Militia musters often saw the various militia companies of several towns coming together for a regimental muster. These would have been grand spectacles with townspeople coming out to view visiting militia companies in their dashing uniforms. Come and join us for our muster day and cheer on your favorite militia company! \n\nTalk to members of two uniformed volunteer militia companies.\nListen to early 19th-century martial music.\nWatch musket and cannon firing demonstrations.\nSee a “Sham Fight” as rival militia companies square off against each other in the field.\nOur young visitors will get the chance to learn early 19th-century drill and marching with the militia officer’s instruction and a toy musket.\nLearn why many New Englanders were pushing for reforms to the militia system and the role that intemperance played in those reforms.\nHear the Singing School practice for a concert to welcome Lafayette.\n\nPLUS: This Muster Day\, we’re getting ready for the arrival of the Marquis de Lafayette! This year marks the Bicentennial celebration of Lafayette’s Farewell Tour of the United States and to commemorate this tour\, the American Friends of Lafayette are hosting educational programs across the United States in the same cities and towns that Lafayette visited on his tour. On Muster Day\, view an exhibit from the American Friends of Lafayette and some objects in the OSV Museum Collection commemorating Lafayette’s visit\, purchase some gingerbread based on Mary Washington’s Lafayette gingerbread receipt (recipe)\, and make your own “Welcome Lafayette” ribbon. Then\, on September 3rd\, join us on the Sturbridge Common (NOT the Old Sturbridge Village Common)\, the exact ground where Lafayette stopped on September 3\, 1824\, for a Commemorative ceremony celebrating Lafayette’s arrival in Sturbridge\, MA. Learn more about the Commemoration of the 200th anniversary of Lafayette’s Farewell Tour here. \n  \nCost: Included with standard daytime admission or Village membership. Standard daytime admission is $30 for adults\, $28 for seniors (55+)\, $15 for youth (4-17)\, $15 for college students (with a valid college ID)\, and free for children 3 and under. SAVE $3/person by purchasing your tickets online instead of at the door! Food and drink are also available for purchase.
URL:https://massachusetts250.org/event/muster-day/
LOCATION:Old Sturbridge Village\, 1 Old Sturbridge Village Road\, Sturbridge\, MA\, 01566\, United States
CATEGORIES:Event,Reenactment
ATTACH;FMTTYPE=image/png:https://massachusetts250.org/wp-content/uploads/2024/08/Muster-Day-Demonstration-on-the-Common.png
GEO:42.1040101;-72.0930962
X-APPLE-STRUCTURED-LOCATION;VALUE=URI;X-ADDRESS=Old Sturbridge Village 1 Old Sturbridge Village Road Sturbridge MA 01566 United States;X-APPLE-RADIUS=500;X-TITLE=1 Old Sturbridge Village Road:geo:-72.0930962,42.1040101
END:VEVENT
BEGIN:VEVENT
DTSTART;VALUE=DATE:20240803
DTEND;VALUE=DATE:20240805
DTSTAMP:20260424T140427
CREATED:20240628T005511Z
LAST-MODIFIED:20240628T210319Z
UID:10000042-1722643200-1722815999@massachusetts250.org
SUMMARY:Sturbridge Village Redcoats and Rebels
DESCRIPTION:See the largest military re-enactment in New England with hundreds of costumed Revolutionary War reenactors\, both soldiers and civilians\, encamped on the Village Common. Visitors can explore our exhibits and galleries\, watch demonstrations\, and talk with our costumed historians about everyday life in early New England. In addition\, visitors can tour the camps\, witness recreated skirmishes and battles\, see special presentations\, chat with guest craftspeople\, and enjoy fife and drum music.
URL:https://massachusetts250.org/event/redcoats-and-rebels/
LOCATION:Old Sturbridge Village\, 1 Old Sturbridge Village Road\, Sturbridge\, MA\, 01566\, United States
CATEGORIES:Reenactment
GEO:42.1040101;-72.0930962
X-APPLE-STRUCTURED-LOCATION;VALUE=URI;X-ADDRESS=Old Sturbridge Village 1 Old Sturbridge Village Road Sturbridge MA 01566 United States;X-APPLE-RADIUS=500;X-TITLE=1 Old Sturbridge Village Road:geo:-72.0930962,42.1040101
END:VEVENT
END:VCALENDAR