BEGIN:VCALENDAR
VERSION:2.0
PRODID:-//MA250 - ECPv6.5.1.5//NONSGML v1.0//EN
CALSCALE:GREGORIAN
METHOD:PUBLISH
X-ORIGINAL-URL:https://massachusetts250.org
X-WR-CALDESC:Events for MA250
REFRESH-INTERVAL;VALUE=DURATION:PT1H
X-Robots-Tag:noindex
X-PUBLISHED-TTL:PT1H
BEGIN:VTIMEZONE
TZID:America/New_York
BEGIN:DAYLIGHT
TZOFFSETFROM:-0500
TZOFFSETTO:-0400
TZNAME:EDT
DTSTART:20240310T070000
END:DAYLIGHT
BEGIN:STANDARD
TZOFFSETFROM:-0400
TZOFFSETTO:-0500
TZNAME:EST
DTSTART:20241103T060000
END:STANDARD
BEGIN:DAYLIGHT
TZOFFSETFROM:-0500
TZOFFSETTO:-0400
TZNAME:EDT
DTSTART:20250309T070000
END:DAYLIGHT
BEGIN:STANDARD
TZOFFSETFROM:-0400
TZOFFSETTO:-0500
TZNAME:EST
DTSTART:20251102T060000
END:STANDARD
END:VTIMEZONE
BEGIN:VEVENT
DTSTART;TZID=America/New_York:20250927T100000
DTEND;TZID=America/New_York:20250927T160000
DTSTAMP:20260425T223237
CREATED:20250923T155356Z
LAST-MODIFIED:20250923T155356Z
UID:10003861-1758967200-1758988800@massachusetts250.org
SUMMARY:Colonial Faire and Muster of Fifes and Drums
DESCRIPTION:Celebrate New England’s revolutionary heritage as historic Longfellow’s Wayside Inn hosts a Colonial Faire and Muster of Fife & Drums. From military drills to contradancing\, cooking and blacksmithing to 18th century children’s games\, engage with living history reenactors demonstrating life in MA circa 1775. The air will be filled with the music that helped inspire the birth of a nation\, as the grand parade steps off at 12:00. This will be followed by performances by 25 corps from throughout the northeast\, featuring the US Army’s “Old Guard” Fife & Drum Corps\, the presidential ceremonial honor guard from Washington\, DC. There will also be craft vendors\, as well as a food court and beer garden.
URL:https://massachusetts250.org/event/colonial-faire-and-muster-of-fifes-and-drums/
LOCATION:Longfellow’s Wayside Inn\, 72 Wayside Inn Road\, Sudbury\, MA\, 01776\, United States
CATEGORIES:Celebration
ATTACH;FMTTYPE=image/jpeg:https://massachusetts250.org/wp-content/uploads/2025/09/Old-Guard.jpg
ORGANIZER;CN="Sudbury 250 Committee":MAILTO:sudbury250@sudbury.ma.us
GEO:42.3572337;-71.4739235
X-APPLE-STRUCTURED-LOCATION;VALUE=URI;X-ADDRESS=Longfellow’s Wayside Inn 72 Wayside Inn Road Sudbury MA 01776 United States;X-APPLE-RADIUS=500;X-TITLE=72 Wayside Inn Road:geo:-71.4739235,42.3572337
END:VEVENT
BEGIN:VEVENT
DTSTART;TZID=America/New_York:20250419T173000
DTEND;TZID=America/New_York:20250419T200000
DTSTAMP:20260425T223237
CREATED:20250320T181731Z
LAST-MODIFIED:20250331T192538Z
UID:10001169-1745083800-1745092800@massachusetts250.org
SUMMARY:Historic 1700s Colonial Dinner
DESCRIPTION:Longfellow’s Wayside Inn Historic Dinner \nTickets:\n$65 | Per Person ($10 off for those who dress up in colonial attire!) (Tickets at RESY.com)\n$55 | TWIF members (Please call 978-443-1776×1) \nThis event is non-refundable.\nEach ticket includes taxes and gratuity.\nAlcohol served to 21+ only. \nAbout:\nCome celebrate with us at The Historic 1700s Colonial Dinner presented by The Wayside Inn. \n5:30 p.m. – Guest Arrival & Cocktail Hour\nCoow Woow upon arrival\, possible Sudbury Ancient Fifes playing during cocktail hour. Cash bar available. \n6:15 p.m. – Historic discussion around what led to the Revolutionary War & Sudbury’s involvement. \n6:30 p.m. – Presentation and served first course. Colonial Clam Chowder\, Basket of Corn Muffins & Anadama bread. \nBuffet Dinner to follow:\n(includes authentic food from early 1700s) \nFricassee of Chicken with pastry crust\nYe Olde Beef Stew\nTraditional Colonist’s Haddock with cream sauce\nMashed potatoes\nRoot vegetables \n8 p.m.-Ye Olde apple pie with whipped cream
URL:https://massachusetts250.org/event/historic-1700s-colonial-dinner/
LOCATION:Longfellow’s Wayside Inn\, 72 Wayside Inn Road\, Sudbury\, MA\, 01776\, United States
CATEGORIES:Culinary,Event
ATTACH;FMTTYPE=image/png:https://massachusetts250.org/wp-content/uploads/2025/03/dinner-1.png
GEO:42.3572337;-71.4739235
X-APPLE-STRUCTURED-LOCATION;VALUE=URI;X-ADDRESS=Longfellow’s Wayside Inn 72 Wayside Inn Road Sudbury MA 01776 United States;X-APPLE-RADIUS=500;X-TITLE=72 Wayside Inn Road:geo:-71.4739235,42.3572337
END:VEVENT
BEGIN:VEVENT
DTSTART;VALUE=DATE:20241026
DTEND;VALUE=DATE:20241028
DTSTAMP:20260425T223237
CREATED:20240628T005621Z
LAST-MODIFIED:20241017T163638Z
UID:10000075-1729900800-1730073599@massachusetts250.org
SUMMARY:Sudbury Battle of Red Horse Tavern
DESCRIPTION:Come to the historic Wayside Inn on October 26\, 2024 for an experience like never before. Start the day by listening to colonial music\, talking with reenactors\, visiting sutlers\, observing cannon firing demonstrations and more. Then watch as the Colonial and British armies battle for control of the Red Horse Tavern. \nEighteenth century taverns were important in the Colonies as a place to hear the news and other current events\, engage in commerce\, conduct militia drills and provide respite for weary travelers. The Red Horse Tavern\, sitting along the Boston Post Road\, the major east-west route to and from Boston and New York\, was crucial in that anyone or anything travelling into or out of Boston to/from the west would have to pass by its door. Which ever side controlled the Tavern could control the flow of supplies\, troops and information. \nThe Redcoats are determined to wrest control\, no matter the cost\, while the Colonists will do all they can to stop them and send them back to Boston. \nWho will control the tavern? Come and find out. \n  \nProgram of the Day: \n11:00 am\nTroop formation\n11:15 am\nEngagement – East field\n12:00 noon\n Sudbury Fyfe & Drum Companie\nCannon demonstration\nNooning\n1:15 pm\nTroop formation\n1:30 pm\nEngagement – South fields\n\n\n  \nFor reenactors only\, contact the lt. colonel for morning activities. \n\nThis event is free and open to the public. \nPlease park in the designated parking area for the reenactment. \nFor more information contact the adjutant@sudburyminutemen.org. \n\n\n\nYou can view slideshows and videos of past Battles of Red Horse Tavern.
URL:https://massachusetts250.org/event/battle-of-red-horse-tavern/
LOCATION:Longfellow’s Wayside Inn\, 72 Wayside Inn Road\, Sudbury\, MA\, 01776\, United States
CATEGORIES:Reenactment
GEO:42.3572337;-71.4739235
X-APPLE-STRUCTURED-LOCATION;VALUE=URI;X-ADDRESS=Longfellow’s Wayside Inn 72 Wayside Inn Road Sudbury MA 01776 United States;X-APPLE-RADIUS=500;X-TITLE=72 Wayside Inn Road:geo:-71.4739235,42.3572337
END:VEVENT
BEGIN:VEVENT
DTSTART;TZID=America/New_York:20240928T100000
DTEND;TZID=America/New_York:20240928T160000
DTSTAMP:20260425T223237
CREATED:20240628T005617Z
LAST-MODIFIED:20240628T214453Z
UID:10000072-1727517600-1727539200@massachusetts250.org
SUMMARY:Sudbury Colonial Faire and Muster
DESCRIPTION:Thrill to the sights and sounds of early America on the beautiful grounds of historic Longfellow’s Wayside Inn. Dozes of craft booths offer beautiful handmade authentic gift items\, while old-time games and farm animals delight the kids. Sample both Colonial and modern food and drink while browsing the history exhibits.
URL:https://massachusetts250.org/event/sudbury-colonial-faire-and-muster/
LOCATION:Longfellow’s Wayside Inn\, 72 Wayside Inn Road\, Sudbury\, MA\, 01776\, United States
CATEGORIES:Reenactment
GEO:42.3572337;-71.4739235
X-APPLE-STRUCTURED-LOCATION;VALUE=URI;X-ADDRESS=Longfellow’s Wayside Inn 72 Wayside Inn Road Sudbury MA 01776 United States;X-APPLE-RADIUS=500;X-TITLE=72 Wayside Inn Road:geo:-71.4739235,42.3572337
END:VEVENT
END:VCALENDAR