BEGIN:VCALENDAR
VERSION:2.0
PRODID:-//MA250 - ECPv6.5.1.5//NONSGML v1.0//EN
CALSCALE:GREGORIAN
METHOD:PUBLISH
X-WR-CALNAME:MA250
X-ORIGINAL-URL:https://massachusetts250.org
X-WR-CALDESC:Events for MA250
REFRESH-INTERVAL;VALUE=DURATION:PT1H
X-Robots-Tag:noindex
X-PUBLISHED-TTL:PT1H
BEGIN:VTIMEZONE
TZID:America/New_York
BEGIN:DAYLIGHT
TZOFFSETFROM:-0500
TZOFFSETTO:-0400
TZNAME:EDT
DTSTART:20240310T070000
END:DAYLIGHT
BEGIN:STANDARD
TZOFFSETFROM:-0400
TZOFFSETTO:-0500
TZNAME:EST
DTSTART:20241103T060000
END:STANDARD
BEGIN:DAYLIGHT
TZOFFSETFROM:-0500
TZOFFSETTO:-0400
TZNAME:EDT
DTSTART:20250309T070000
END:DAYLIGHT
BEGIN:STANDARD
TZOFFSETFROM:-0400
TZOFFSETTO:-0500
TZNAME:EST
DTSTART:20251102T060000
END:STANDARD
END:VTIMEZONE
BEGIN:VEVENT
DTSTART;TZID=America/New_York:20250710T193000
DTEND;TZID=America/New_York:20250710T203000
DTSTAMP:20260425T223034
CREATED:20250418T143349Z
LAST-MODIFIED:20250418T143349Z
UID:10001361-1752175800-1752179400@massachusetts250.org
SUMMARY:"Freedom in All Its Forms": Band Concert by MetWinds
DESCRIPTION:Join the MetWinds\, Guest Conductor Meghan MacFadden\, and the Town of Lexington as we celebrate the 250th anniversary of the Battles of Lexington and Concord. The music will reflect on America’s continuing quest for freedom from the first shots of the Revolutionary War to today. Guest Narrator Frank Oglesby Jr. (the “Voice of the MBTA”) will recite the stirring text of Aaron Copland’s classic Lincoln Portrait. Other favorites include Charles Ives’ mischievous Variations On America\, Kimberly Archer’s delightful medley American Labor Songs\, and Gala Flagello’s swaggering fanfare Bravado. This concert is supported by grants from the Lexington Council for the Arts and the Massachusetts Cultural Council.
URL:https://massachusetts250.org/event/freedom-in-all-its-forms-band-concert-by-metwinds/
LOCATION:Hastings Park\, 10 Lincoln St\, Lexington\, 02421\, United States
CATEGORIES:Event,Outdoors
ATTACH;FMTTYPE=image/jpeg:https://massachusetts250.org/wp-content/uploads/2025/04/359812590_782742517188096_3236649916360830621_n.jpg
ORGANIZER;CN="Metropolitan Wind Symphony":MAILTO:info@metwinds.org
GEO:42.4476108;-71.2380364
X-APPLE-STRUCTURED-LOCATION;VALUE=URI;X-ADDRESS=Hastings Park 10 Lincoln St Lexington 02421 United States;X-APPLE-RADIUS=500;X-TITLE=10 Lincoln St:geo:-71.2380364,42.4476108
END:VEVENT
BEGIN:VEVENT
DTSTART;TZID=America/New_York:20250421T130000
DTEND;TZID=America/New_York:20250421T170000
DTSTAMP:20260425T223034
CREATED:20250403T180859Z
LAST-MODIFIED:20250407T172416Z
UID:10001305-1745240400-1745254800@massachusetts250.org
SUMMARY:Arrival of Paul Revere & William Dawes on Horseback from Boston at Hastings Park
DESCRIPTION:Every year on Patriot’s Day\, the National Lancers reenact the rides of Paul Revere and William Dawes. \nPaul Revere leaves on horseback from the North End\, Boston and William Dawes on horseback leaves from John Elliot Square\, 10 Putnam St.\, Roxbury\, warning the people while on their way to Lexington of the pending arrival of the British Regulars. They arrive separately after Revere travels through Charlestown\, Somerville\, Medford and Arlington. While Dawes travels through Roxbury\, Brookline\, Cambridge and Arlington en route to Lexington.
URL:https://massachusetts250.org/event/arrival-of-paul-revere-william-dawes-on-horseback-from-boston-at-hastings-park/
LOCATION:Hastings Park\, 10 Lincoln St\, Lexington\, 02421\, United States
CATEGORIES:Anniversary,Celebration,Commemoration,Event,Memorial,Outdoors,Reenactment
ATTACH;FMTTYPE=image/png:https://massachusetts250.org/wp-content/uploads/2025/04/ride.png
GEO:42.4476108;-71.2380364
X-APPLE-STRUCTURED-LOCATION;VALUE=URI;X-ADDRESS=Hastings Park 10 Lincoln St Lexington 02421 United States;X-APPLE-RADIUS=500;X-TITLE=10 Lincoln St:geo:-71.2380364,42.4476108
END:VEVENT
BEGIN:VEVENT
DTSTART;TZID=America/New_York:20250421T110000
DTEND;TZID=America/New_York:20250421T143000
DTSTAMP:20260425T223034
CREATED:20250415T133127Z
LAST-MODIFIED:20250415T133127Z
UID:10001362-1745233200-1745245800@massachusetts250.org
SUMMARY:Lexington’s Patriotic Picnic in the Park
DESCRIPTION:Sign up today for Lexington’s Patriotic Picnic in the Park\, featuring food from local restaurants and an exceptional performance by members of the Boston Pops\, with Keith Lockhart conducting inside the Hastings Park Gazebo. Close out a momentous weekend honoring the first shot of the American Revolution with the Lex250 Patriotic Picnic in the Park on Monday\, April 21\, 2025\, from 11 a.m. to 2:30 p.m. at Hastings Park (10 Lincoln St\, Lexington\, MA)! \nExperience the power of history\, music\, and community at this once-in-a-lifetime signature event. Members of the Boston Pops will perform. Rock out with the band Malin\, and witness special appearances by the Lexington Minute Men\, the National Lancers\, and more. Don’t miss a thrilling visit from the National Lancers featuring “Paul Revere” and “William Dawes” on horseback\, bringing history to life before your eyes.
URL:https://massachusetts250.org/event/lexingtons-patriotic-picnic-in-the-park/
LOCATION:Hastings Park\, 10 Lincoln St\, Lexington\, 02421\, United States
CATEGORIES:Celebration,Event,Outdoors
ATTACH;FMTTYPE=image/png:https://massachusetts250.org/wp-content/uploads/2025/04/PPP.png
ORGANIZER;CN="lex250":MAILTO:lex250@jgrp.net
GEO:42.4476108;-71.2380364
X-APPLE-STRUCTURED-LOCATION;VALUE=URI;X-ADDRESS=Hastings Park 10 Lincoln St Lexington 02421 United States;X-APPLE-RADIUS=500;X-TITLE=10 Lincoln St:geo:-71.2380364,42.4476108
END:VEVENT
BEGIN:VEVENT
DTSTART;TZID=America/New_York:20250421T110000
DTEND;TZID=America/New_York:20250421T143000
DTSTAMP:20260425T223034
CREATED:20250404T204347Z
LAST-MODIFIED:20250407T180009Z
UID:10001292-1745233200-1745245800@massachusetts250.org
SUMMARY:Patriotic Picnic in Hastings Park
DESCRIPTION:Close out a momentous weekend honoring the first shot of the American Revolution with the Lex250 Patriotic Picnic in Hastings Park on Monday\, April 21\, 2025\, from 11:00 AM to 2:30 PM at Hastings Park (10 Lincoln St\, Lexington\, MA)! \nExperience the power of history\, music\, and community at this once-in-a-lifetime signature event. Members of the Boston Pops will perform. Rock out with the band Malin\, and witness special appearances by the Lexington Minute Men\, the Lancers\, and more. Don’t miss a thrilling visit from the Lancers featuring “Paul Revere” and “William Dawes” on horseback\, bringing history to life before your eyes.
URL:https://massachusetts250.org/event/patriotic-picnic-in-hastings-park/
LOCATION:Hastings Park\, 10 Lincoln St\, Lexington\, 02421\, United States
CATEGORIES:Anniversary,Celebration,Commemoration,Event,Outdoors
ORGANIZER;CN="lex250":MAILTO:lex250@jgrp.net
GEO:42.4476108;-71.2380364
X-APPLE-STRUCTURED-LOCATION;VALUE=URI;X-ADDRESS=Hastings Park 10 Lincoln St Lexington 02421 United States;X-APPLE-RADIUS=500;X-TITLE=10 Lincoln St:geo:-71.2380364,42.4476108
END:VEVENT
BEGIN:VEVENT
DTSTART;TZID=America/New_York:20240704T190000
DTEND;TZID=America/New_York:20240704T201500
DTSTAMP:20260425T223034
CREATED:20240628T005509Z
LAST-MODIFIED:20240628T205748Z
UID:10000034-1720119600-1720124100@massachusetts250.org
SUMMARY:Lexington 4th of July Reading of the Declaration of Independence.
DESCRIPTION:This dramatic presentation\, created by Freedom’s Way National Heritage Area\, aims to find out how our local towns read and reacted to the Declaration of Independence.
URL:https://massachusetts250.org/event/4th-of-july-2/
LOCATION:Hastings Park\, 10 Lincoln St\, Lexington\, 02421\, United States
CATEGORIES:Commemoration
GEO:42.4476108;-71.2380364
X-APPLE-STRUCTURED-LOCATION;VALUE=URI;X-ADDRESS=Hastings Park 10 Lincoln St Lexington 02421 United States;X-APPLE-RADIUS=500;X-TITLE=10 Lincoln St:geo:-71.2380364,42.4476108
END:VEVENT
END:VCALENDAR