BEGIN:VCALENDAR
VERSION:2.0
PRODID:-//MA250 - ECPv6.5.1.5//NONSGML v1.0//EN
CALSCALE:GREGORIAN
METHOD:PUBLISH
X-ORIGINAL-URL:https://massachusetts250.org
X-WR-CALDESC:Events for MA250
REFRESH-INTERVAL;VALUE=DURATION:PT1H
X-Robots-Tag:noindex
X-PUBLISHED-TTL:PT1H
BEGIN:VTIMEZONE
TZID:America/New_York
BEGIN:DAYLIGHT
TZOFFSETFROM:-0500
TZOFFSETTO:-0400
TZNAME:EDT
DTSTART:20250309T070000
END:DAYLIGHT
BEGIN:STANDARD
TZOFFSETFROM:-0400
TZOFFSETTO:-0500
TZNAME:EST
DTSTART:20251102T060000
END:STANDARD
END:VTIMEZONE
BEGIN:VEVENT
DTSTART;TZID=America/New_York:20250612T190000
DTEND;TZID=America/New_York:20250612T203000
DTSTAMP:20260421T090541
CREATED:20250604T183831Z
LAST-MODIFIED:20250604T183831Z
UID:10001470-1749754800-1749760200@massachusetts250.org
SUMMARY:“Sounds of the 1700s” with Lexington Strings
DESCRIPTION:Lexington Strings will present a recital of music contemporary to the April 19\, 1775 skirmish on the Lexington Battle Green. The performance will take place at Estabrook Auditorium in the Cary Memorial Building. \nThe concert program includes:\n• Antonio Vivaldi: Concerto in G major for Solo Violin\, Strings and Continuo\, Op. 3 “L’Estro Armonico”\, No. 3\, RV 310 (1711)\n• Wolfgang Amadeus Mozart: Violin Concerto No. 4 in D major\, K. 218 (1775)\n• Ludwig van Beethoven: Sonata No. 3 in Eb major for Violin and Piano\, Op. 12\, No. 3 (1797-1798)\n• Johann Sebastian Bach: Brandenburg Concerto No. 4 in G major for Violin\, Two Recorders\, Strings and Continuo\, BWV 1049 (1721) \nBased in Lexington\, Massachusetts since 1984\, Lexington Strings are musicians Letitia Hom\, Yukiko Ueno Egozy\, Michael Valdez and Vida Baterina Hom. \nMs. Hom plays a violin originally commissioned by and made for Roman Totenberg in 1982. Created by luthier Guy Rabut in New York City\, the violin is patterned after Mr. Totenberg’s 1736 Giuseppe “del Gesù” Guarneri violin made in Cremona\, Italy. \nThis program is made possible by the generous donors to the Cary Library Foundation.
URL:https://massachusetts250.org/event/sounds-of-the-1700s-with-lexington-strings/
LOCATION:Estabrook Auditorium\, Cary Memorial Building\, 1605 Massachusetts Avenue\, Lexington\, MA\, 02420\, United States
CATEGORIES:Celebration,Event
ATTACH;FMTTYPE=image/jpeg:https://massachusetts250.org/wp-content/uploads/2025/06/LexStrings-SoundsOfThe1700s-MA250.jpg
ORGANIZER;CN="Lexington Strings":MAILTO:music@LexingtonStrings.com
GEO:42.4469771;-71.2239875
X-APPLE-STRUCTURED-LOCATION;VALUE=URI;X-ADDRESS=Estabrook Auditorium Cary Memorial Building 1605 Massachusetts Avenue Lexington MA 02420 United States;X-APPLE-RADIUS=500;X-TITLE=1605 Massachusetts Avenue:geo:-71.2239875,42.4469771
END:VEVENT
END:VCALENDAR