BEGIN:VCALENDAR
VERSION:2.0
PRODID:-//MA250 - ECPv6.5.1.5//NONSGML v1.0//EN
CALSCALE:GREGORIAN
METHOD:PUBLISH
X-WR-CALNAME:MA250
X-ORIGINAL-URL:https://massachusetts250.org
X-WR-CALDESC:Events for MA250
REFRESH-INTERVAL;VALUE=DURATION:PT1H
X-Robots-Tag:noindex
X-PUBLISHED-TTL:PT1H
BEGIN:VTIMEZONE
TZID:America/New_York
BEGIN:DAYLIGHT
TZOFFSETFROM:-0500
TZOFFSETTO:-0400
TZNAME:EDT
DTSTART:20250309T070000
END:DAYLIGHT
BEGIN:STANDARD
TZOFFSETFROM:-0400
TZOFFSETTO:-0500
TZNAME:EST
DTSTART:20251102T060000
END:STANDARD
END:VTIMEZONE
BEGIN:VEVENT
DTSTART;TZID=America/New_York:20250704T190000
DTEND;TZID=America/New_York:20250704T220000
DTSTAMP:20260419T115956
CREATED:20250218T220403Z
LAST-MODIFIED:20250512T205337Z
UID:10000993-1751655600-1751666400@massachusetts250.org
SUMMARY:Boston Pops Fourth of July Fireworks Spectacular
DESCRIPTION:Celebrate July 4th with music by Keith Lockhart and the Boston Pops and special guest stars. 2025 marks the 51st year of the Fireworks Spectacular and Lockhart’s 30th anniversary as Pops conductor. Gates to the Oval lawn in front of the Hatch Shell open at 12 noon\, concert begins at 7 pm\, and fireworks over the Charles River follow around 9:40 pm. Free and open to the public (no ticket required).
URL:https://massachusetts250.org/event/boston-pops-fourth-of-july-fireworks-spectacular/
LOCATION:DCR Hatch Shell\, Charles River Esplanade\, 47 David G Mugar Way\, Boston\, MA\, 02114\, United States
CATEGORIES:Anniversary,Celebration,Event,Outdoors
ATTACH;FMTTYPE=image/jpeg:https://massachusetts250.org/wp-content/uploads/2025/02/7.4.22-Fans-camping-out-on-the-lawn-RESIZED.jpg
ORGANIZER;CN="Boston Symphony Orchestra":MAILTO:jdevereux@bso.org
GEO:42.3573189;-71.07368
X-APPLE-STRUCTURED-LOCATION;VALUE=URI;X-ADDRESS=DCR Hatch Shell Charles River Esplanade 47 David G Mugar Way Boston MA 02114 United States;X-APPLE-RADIUS=500;X-TITLE=47 David G Mugar Way:geo:-71.07368,42.3573189
END:VEVENT
END:VCALENDAR