BEGIN:VCALENDAR
VERSION:2.0
PRODID:-//MA250 - ECPv6.5.1.5//NONSGML v1.0//EN
CALSCALE:GREGORIAN
METHOD:PUBLISH
X-WR-CALNAME:MA250
X-ORIGINAL-URL:https://massachusetts250.org
X-WR-CALDESC:Events for MA250
REFRESH-INTERVAL;VALUE=DURATION:PT1H
X-Robots-Tag:noindex
X-PUBLISHED-TTL:PT1H
BEGIN:VTIMEZONE
TZID:America/New_York
BEGIN:DAYLIGHT
TZOFFSETFROM:-0500
TZOFFSETTO:-0400
TZNAME:EDT
DTSTART:20240310T070000
END:DAYLIGHT
BEGIN:STANDARD
TZOFFSETFROM:-0400
TZOFFSETTO:-0500
TZNAME:EST
DTSTART:20241103T060000
END:STANDARD
BEGIN:DAYLIGHT
TZOFFSETFROM:-0500
TZOFFSETTO:-0400
TZNAME:EDT
DTSTART:20250309T070000
END:DAYLIGHT
BEGIN:STANDARD
TZOFFSETFROM:-0400
TZOFFSETTO:-0500
TZNAME:EST
DTSTART:20251102T060000
END:STANDARD
END:VTIMEZONE
BEGIN:VEVENT
DTSTART;TZID=America/New_York:20250617T151500
DTEND;TZID=America/New_York:20250617T164500
DTSTAMP:20260422T044713
CREATED:20250612T210909Z
LAST-MODIFIED:20250612T210909Z
UID:10001519-1750173300-1750178700@massachusetts250.org
SUMMARY:Battle of Bunker Hill 250: Remembrance on the High Ground
DESCRIPTION:The National Parks of Boston\, American Legion J.W. Conway Bunker Hill Post 26\, and Bunker Hill Monument Association will host this ceremony commemorating the 250th anniversary of the Battle of Bunker Hill. This event will be held on the grounds of the Monument and will feature local\, national\, and international figures.
URL:https://massachusetts250.org/event/battle-of-bunker-hill-250-remembrance-on-the-high-ground/
LOCATION:Bunker Hill Monument\, Monument Square\, Boston\, MA\, 02129\, United States
CATEGORIES:Anniversary,Commemoration,Event
ATTACH;FMTTYPE=image/png:https://massachusetts250.org/wp-content/uploads/2025/06/17th-Design_simple_v2-1.png
ORGANIZER;CN="National Parks of Boston":MAILTO:mark_powell@nps.gov
GEO:42.3760848;-71.0600216
X-APPLE-STRUCTURED-LOCATION;VALUE=URI;X-ADDRESS=Bunker Hill Monument Monument Square Boston MA 02129 United States;X-APPLE-RADIUS=500;X-TITLE=Monument Square:geo:-71.0600216,42.3760848
END:VEVENT
BEGIN:VEVENT
DTSTART;TZID=America/New_York:20250614T110000
DTEND;TZID=America/New_York:20250614T130000
DTSTAMP:20260422T044713
CREATED:20250515T201037Z
LAST-MODIFIED:20250515T201037Z
UID:10001438-1749898800-1749906000@massachusetts250.org
SUMMARY:A Salute to the U.S. Army on its 250th Anniversary
DESCRIPTION:Celebrating the birth of the U.S. Army\, the Old Guard (U.S. Army 3rd Infantry Regiment) will perform a tribute including music by The Fife and Drum Corps (FDC) and the Commander-in-Chief’s Guard (CinC). \nMore information is coming soon about the time and events. \nHosts: Bunker Hill Monument Association\, The National Parks of Boston\, U.S. Army
URL:https://massachusetts250.org/event/a-salute-to-the-u-s-army-on-its-250th-anniversary/
LOCATION:Bunker Hill Monument\, Monument Square\, Boston\, MA\, 02129\, United States
CATEGORIES:Anniversary,Celebration,Commemoration,Event,Outdoors
ATTACH;FMTTYPE=image/jpeg:https://massachusetts250.org/wp-content/uploads/2025/05/DSC_0473_1.jpg
ORGANIZER;CN="National Parks of Boston":MAILTO:mark_powell@nps.gov
GEO:42.3760848;-71.0600216
X-APPLE-STRUCTURED-LOCATION;VALUE=URI;X-ADDRESS=Bunker Hill Monument Monument Square Boston MA 02129 United States;X-APPLE-RADIUS=500;X-TITLE=Monument Square:geo:-71.0600216,42.3760848
END:VEVENT
BEGIN:VEVENT
DTSTART;TZID=America/New_York:20250614T100000
DTEND;TZID=America/New_York:20250614T110000
DTSTAMP:20260422T044713
CREATED:20250519T131839Z
LAST-MODIFIED:20250519T131839Z
UID:10001437-1749895200-1749898800@massachusetts250.org
SUMMARY:Flag Day Ceremony
DESCRIPTION:Observe a Flag Day Ceremony at the memorial flag garden on the grounds of the Bunker Hill Monument. \nThe public is invited to join the reading of names of lives lost on or as a result of the battle on June 17\, 1775. \nHosts: The National Parks of Boston\, British Consulate\, American Legion J.W. Conway Bunker Hill Post 26\, and Home Base
URL:https://massachusetts250.org/event/flag-day-ceremony/
LOCATION:Bunker Hill Monument\, Monument Square\, Boston\, MA\, 02129\, United States
CATEGORIES:Anniversary,Celebration,Commemoration,Event,Outdoors
ATTACH;FMTTYPE=image/jpeg:https://massachusetts250.org/wp-content/uploads/2025/05/2024-06-12_Boston_NPS_CG-1.jpg
ORGANIZER;CN="National Parks of Boston":MAILTO:mark_powell@nps.gov
GEO:42.3760848;-71.0600216
X-APPLE-STRUCTURED-LOCATION;VALUE=URI;X-ADDRESS=Bunker Hill Monument Monument Square Boston MA 02129 United States;X-APPLE-RADIUS=500;X-TITLE=Monument Square:geo:-71.0600216,42.3760848
END:VEVENT
BEGIN:VEVENT
DTSTART;VALUE=DATE:20250613
DTEND;VALUE=DATE:20250618
DTSTAMP:20260422T044713
CREATED:20250519T132653Z
LAST-MODIFIED:20250519T132653Z
UID:10001436-1749772800-1750204799@massachusetts250.org
SUMMARY:Memorial Flag Garden
DESCRIPTION:More than 1\,500 flags (American and British) will be placed in the Flag Garden. \nHosts: The National Parks of Boston
URL:https://massachusetts250.org/event/memorial-flag-garden/
LOCATION:Bunker Hill Monument\, Monument Square\, Boston\, MA\, 02129\, United States
CATEGORIES:Anniversary,Celebration,Commemoration,Event,Memorial,Outdoors
ATTACH;FMTTYPE=image/jpeg:https://massachusetts250.org/wp-content/uploads/2025/05/2024-06-12_Boston_NPS_CG.jpg
ORGANIZER;CN="National Parks of Boston":MAILTO:mark_powell@nps.gov
GEO:42.3760848;-71.0600216
X-APPLE-STRUCTURED-LOCATION;VALUE=URI;X-ADDRESS=Bunker Hill Monument Monument Square Boston MA 02129 United States;X-APPLE-RADIUS=500;X-TITLE=Monument Square:geo:-71.0600216,42.3760848
END:VEVENT
BEGIN:VEVENT
DTSTART;TZID=America/New_York:20250612T110000
DTEND;TZID=America/New_York:20250612T120000
DTSTAMP:20260422T044713
CREATED:20250515T193605Z
LAST-MODIFIED:20250515T193605Z
UID:10001435-1749726000-1749729600@massachusetts250.org
SUMMARY:Naturalization Ceremony
DESCRIPTION:United States Citizenship and Immigration Services will hold a naturalization ceremony at the Bunker Hill Monument. Two hundred-fifty new citizen candidates will be sworn in and receive a Passport to their National Parks. New citizens will be invited to plant the first flags of the Flag Garden. The Monument will be closed for the morning and reopen for climbing following the ceremony. \nHosts: The National Parks of Boston\, Home Base\, U.S. CIS
URL:https://massachusetts250.org/event/naturalization-ceremony-2/
LOCATION:Bunker Hill Monument\, Monument Square\, Boston\, MA\, 02129\, United States
CATEGORIES:Celebration,Event,Outdoors
ATTACH;FMTTYPE=image/jpeg:https://massachusetts250.org/wp-content/uploads/2025/05/f56e06b1-4b6d-4db3-96e1-293a094af4c8HiResProxy-scaled.jpg
ORGANIZER;CN="National Parks of Boston":MAILTO:mark_powell@nps.gov
GEO:42.3760848;-71.0600216
X-APPLE-STRUCTURED-LOCATION;VALUE=URI;X-ADDRESS=Bunker Hill Monument Monument Square Boston MA 02129 United States;X-APPLE-RADIUS=500;X-TITLE=Monument Square:geo:-71.0600216,42.3760848
END:VEVENT
BEGIN:VEVENT
DTSTART;VALUE=DATE:20250609
DTEND;VALUE=DATE:20250621
DTSTAMP:20260422T044713
CREATED:20250521T133857Z
LAST-MODIFIED:20250521T133857Z
UID:10001434-1749427200-1750463999@massachusetts250.org
SUMMARY:Bunker Hill Revealed: Archaeological Investigation of the 1775 Redoubt
DESCRIPTION:Join the City of Boston Archaeology and American Veterans Archaeological Recovery teams as they excavate a portion of the redoubt built on the night of June 16\, 1775\, triggering the start of the Battle of Bunker Hill. \nExcavations should reach the bottom of the trench dug that evening by the end of the first week. Visitors to the 250th events on the Monument park site will have an opportunity to see the remains of the actual fortifications. \nBackfilling of the trench will commence June 18th or 19th- so don’t miss it! \nHosts: The National Parks of Boston\, City of Boston Archaeology
URL:https://massachusetts250.org/event/bunker-hill-revealed-archaeological-investigation-of-the-1775-redoubt/
LOCATION:Bunker Hill Monument\, Monument Square\, Boston\, MA\, 02129\, United States
CATEGORIES:Anniversary,Commemoration,Event,Exhibit,Outdoors
ATTACH;FMTTYPE=image/png:https://massachusetts250.org/wp-content/uploads/2025/05/Leventhal-Bunker-Hill-map.png
GEO:42.3760848;-71.0600216
X-APPLE-STRUCTURED-LOCATION;VALUE=URI;X-ADDRESS=Bunker Hill Monument Monument Square Boston MA 02129 United States;X-APPLE-RADIUS=500;X-TITLE=Monument Square:geo:-71.0600216,42.3760848
END:VEVENT
BEGIN:VEVENT
DTSTART;TZID=America/New_York:20250608T110000
DTEND;TZID=America/New_York:20250608T120000
DTSTAMP:20260422T044713
CREATED:20250521T133124Z
LAST-MODIFIED:20250521T133124Z
UID:10001433-1749380400-1749384000@massachusetts250.org
SUMMARY:Sun Battle of Bunker Hill Flag Raising + Veteran Wreath
DESCRIPTION:The Bunker Hill flag will be raised at the Monument followed by a speaking ceremony to recognize and honor the service and sacrifice of Charlestown veterans. Coffee and treats will be served. \nInvited Guests: Bunker Hill Parade Chief Marshal James Chambers + General Ralph Rizzo \nHosts: The National Parks of Boston\, Bunker Hill Associates
URL:https://massachusetts250.org/event/sun-battle-of-bunker-hill-flag-raising-veteran-wreath/
LOCATION:Bunker Hill Monument\, Monument Square\, Boston\, MA\, 02129\, United States
CATEGORIES:Commemoration,Event,Memorial,Outdoors,Speakers
ATTACH;FMTTYPE=image/jpeg:https://massachusetts250.org/wp-content/uploads/2025/05/4025D7AF-C181-8A91-80CA9058F48DB795.jpg
ORGANIZER;CN="Bunker Hill Associates":MAILTO:BunkerHillAssociates@gmail.com
GEO:42.3760848;-71.0600216
X-APPLE-STRUCTURED-LOCATION;VALUE=URI;X-ADDRESS=Bunker Hill Monument Monument Square Boston MA 02129 United States;X-APPLE-RADIUS=500;X-TITLE=Monument Square:geo:-71.0600216,42.3760848
END:VEVENT
BEGIN:VEVENT
DTSTART;TZID=America/New_York:20240825T100000
DTEND;TZID=America/New_York:20240825T110000
DTSTAMP:20260422T044713
CREATED:20240628T005528Z
LAST-MODIFIED:20240628T210922Z
UID:10000048-1724580000-1724583600@massachusetts250.org
SUMMARY:Charlestown Lafayette Bicentennial Visit
DESCRIPTION:Lafayette Bicentennial Bunker Hill event.
URL:https://massachusetts250.org/event/lafayette-bicentennial-visit-5/
LOCATION:Bunker Hill Monument\, Monument Square\, Boston\, MA\, 02129\, United States
CATEGORIES:Reenactment
GEO:42.3760848;-71.0600216
X-APPLE-STRUCTURED-LOCATION;VALUE=URI;X-ADDRESS=Bunker Hill Monument Monument Square Boston MA 02129 United States;X-APPLE-RADIUS=500;X-TITLE=Monument Square:geo:-71.0600216,42.3760848
END:VEVENT
END:VCALENDAR