BEGIN:VCALENDAR
VERSION:2.0
PRODID:-//MA250 - ECPv6.5.1.5//NONSGML v1.0//EN
CALSCALE:GREGORIAN
METHOD:PUBLISH
X-ORIGINAL-URL:https://massachusetts250.org
X-WR-CALDESC:Events for MA250
REFRESH-INTERVAL;VALUE=DURATION:PT1H
X-Robots-Tag:noindex
X-PUBLISHED-TTL:PT1H
BEGIN:VTIMEZONE
TZID:America/New_York
BEGIN:DAYLIGHT
TZOFFSETFROM:-0500
TZOFFSETTO:-0400
TZNAME:EDT
DTSTART:20250309T070000
END:DAYLIGHT
BEGIN:STANDARD
TZOFFSETFROM:-0400
TZOFFSETTO:-0500
TZNAME:EST
DTSTART:20251102T060000
END:STANDARD
END:VTIMEZONE
BEGIN:VEVENT
DTSTART;TZID=America/New_York:20250823T100000
DTEND;TZID=America/New_York:20250823T150000
DTSTAMP:20260421T235635
CREATED:20250911T181450Z
LAST-MODIFIED:20250911T181450Z
UID:10003787-1755943200-1755961200@massachusetts250.org
SUMMARY:LexSeeHer Presents: “Spinning HERstory”
DESCRIPTION:Celebrate 250 years of bold women\, girls\, and fiber arts with a day full of history\, music\, colonial games\, crafts\, food\, and family fun! \n✨ Highlights of the Day:\n• Historic Re-enactment: Anna Harrington’s 1769 Spinning Protest\n• 2025 Visibility Banner Honoree Ceremony\n• Singalong of Protest Songs (1775–2025)\n• Live Performance by Maya Salafia\n• LexSeeHer Marketplace: blanket-making\, knit-in\, crochet-in\, demonstrations\, vendors\, LexSeeHer merchandise & food trucks \n👧 Children’s Activities (10–12:30)\nStep into the past with Colonial Games like hoop rolling\, graces\, jack straws\, and cup-and-ball—plus corn hole with real corn! Kids can get creative making friendship bracelets\, bead jewelry\, cup-and-ball toys\, and coloring pages. For extra fun\, try life-size Scrabble and giant tic-tac-toe! \n🕰️ Historic Re-enactment (1:00 pm)\nTravel back to 1769 as we re-enact the day when Anna Harrington rallied her neighbors in a dramatic spinning protest\, turning women’s fiber arts into a bold act of resistance. This powerful re-enactment brings history to life and connects Lexington’s past to the present. \n🌟 Visibility Banner Honoree Ceremony (following the Re-enactment)\nCelebrate the 2025 Visibility Banner Honorees as we shine a spotlight on inspiring women whose leadership\, vision\, and courage continue to shape our Lexington community today. \n🍴 Food Trucks to Delight Everyone!\nSavor the flavors of Golden Grillz BBQ\, featuring their famous creamy mac & cheese\, and cool off with a sweet treat from our beloved Mo’s Ice Cream Truck. Perfect fuel for a day of history\, crafts\, and fun! \nFor more information\, visit: LexSeeHer.com
URL:https://massachusetts250.org/event/lexseeher-presents-spinning-herstory/
LOCATION:Lexington Women’s Monument\, Massachusetts Avenue 1875\, Lexington\, Massachusetts\, 02420\, United States
CATEGORIES:Celebration,Commemoration,Event,Outdoors,Reenactment,Women's History
ATTACH;FMTTYPE=image/jpeg:https://massachusetts250.org/wp-content/uploads/2025/08/Re-enactment-of-Spinning-Protest.jpg
ORGANIZER;CN="LexSeeHer%2C Inc.":MAILTO:lexmonument@gmail.com
GEO:42.4491403;-71.228998
X-APPLE-STRUCTURED-LOCATION;VALUE=URI;X-ADDRESS=Lexington Women’s Monument Massachusetts Avenue 1875 Lexington Massachusetts 02420 United States;X-APPLE-RADIUS=500;X-TITLE=Massachusetts Avenue 1875:geo:-71.228998,42.4491403
END:VEVENT
BEGIN:VEVENT
DTSTART;TZID=America/New_York:20250823T110000
DTEND;TZID=America/New_York:20250823T120000
DTSTAMP:20260421T235635
CREATED:20250911T181520Z
LAST-MODIFIED:20250911T181521Z
UID:10003784-1755946800-1755950400@massachusetts250.org
SUMMARY:Gallery Tour\, "Protest & Promise: The American Revolution in Lexington"
DESCRIPTION:In 2025\, the Scottish Rite Masonic Museum & Library is celebrating its 50th anniversary with special gallery talks\, engaging lectures\, and exhibitions drawn from our rich collections. Our gallery exhibition “Protest & Promise: The American Revolution in Lexington” examines how an entire community—women\, men\, black\, white\, young\, old\, enslaved\, and free—helped spark a revolution. \nJoin museum staff on Saturday August 23 for a free gallery tour that focuses on women’s roles before\, during\, and after the Revolutionary War. This tour complements the reenactment of the 1769 Lexington spinning protest which will be held at the Women’s Liberty Monument from 10 AM – 3 PM. \nLearn more about “Protest & Promise” at https://bit.ly/41YYh34 and the spinning protest reenactment at https://bit.ly/3H6CsIz.
URL:https://massachusetts250.org/event/gallery-tour-protest-promise-the-american-revolution-in-lexington-2/
LOCATION:Scottish Rite Masonic Museum & Library\, 33 Marrett Road\, Lexington\, MA\, 02421\, United States
CATEGORIES:Anniversary,Black History,Commemoration,Exhibit,Women's History
ATTACH;FMTTYPE=image/png:https://massachusetts250.org/wp-content/uploads/2025/08/Social-Media-Template.png
ORGANIZER;CN="Scottish Rite Masonic Museum &amp%3B Library":MAILTO:info@srmml.org
GEO:42.4367685;-71.2141633
X-APPLE-STRUCTURED-LOCATION;VALUE=URI;X-ADDRESS=Scottish Rite Masonic Museum & Library 33 Marrett Road Lexington MA 02421 United States;X-APPLE-RADIUS=500;X-TITLE=33 Marrett Road:geo:-71.2141633,42.4367685
END:VEVENT
END:VCALENDAR