BEGIN:VCALENDAR
VERSION:2.0
PRODID:-//MA250 - ECPv6.5.1.5//NONSGML v1.0//EN
CALSCALE:GREGORIAN
METHOD:PUBLISH
X-ORIGINAL-URL:https://massachusetts250.org
X-WR-CALDESC:Events for MA250
REFRESH-INTERVAL;VALUE=DURATION:PT1H
X-Robots-Tag:noindex
X-PUBLISHED-TTL:PT1H
BEGIN:VTIMEZONE
TZID:America/New_York
BEGIN:DAYLIGHT
TZOFFSETFROM:-0500
TZOFFSETTO:-0400
TZNAME:EDT
DTSTART:20250309T070000
END:DAYLIGHT
BEGIN:STANDARD
TZOFFSETFROM:-0400
TZOFFSETTO:-0500
TZNAME:EST
DTSTART:20251102T060000
END:STANDARD
END:VTIMEZONE
BEGIN:VEVENT
DTSTART;TZID=America/New_York:20250531T093000
DTEND;TZID=America/New_York:20250531T120000
DTSTAMP:20260422T031546
CREATED:20250506T192028Z
LAST-MODIFIED:20250506T192028Z
UID:10001384-1748683800-1748692800@massachusetts250.org
SUMMARY:Gallery Tours: “Swept Up in Revolution” and “Protest & Promise: The American Revolution in Lexington”
DESCRIPTION:Join curators at Lexington History Museums and the Scottish Rite Masonic Museum & Library to learn more about Lexington’s role in the American Revolution. The program begins at 9:30 a.m. at Buckman Tavern with a tour of “Swept Up in Revolution” with Jesse Hilton\, Curator\, Lexington History Museums. The event continues at 11:00 AM at the Scottish Rite Masonic Museum & Library with a tour of “Protest & Promise: The American Revolution in Lexington” with the museum’s Assistant Curator\, Stacey Fraser. \nRegistration includes admission to both tours. There is no charge for this program\, but registration is required.
URL:https://massachusetts250.org/event/gallery-tours-swept-up-in-revolution-and-protest-promise-the-american-revolution-in-lexington/
LOCATION:Scottish Rite Masonic Museum & Library\, 33 Marrett Road\, Lexington\, MA\, 02421\, United States
CATEGORIES:Black History,Commemoration,Exhibit,Women's History
ATTACH;FMTTYPE=image/jpeg:https://massachusetts250.org/wp-content/uploads/2025/04/Eventbrite-image.jpg
ORGANIZER;CN="Scottish Rite Masonic Museum &amp%3B Library":MAILTO:info@srmml.org
GEO:42.4367685;-71.2141633
X-APPLE-STRUCTURED-LOCATION;VALUE=URI;X-ADDRESS=Scottish Rite Masonic Museum & Library 33 Marrett Road Lexington MA 02421 United States;X-APPLE-RADIUS=500;X-TITLE=33 Marrett Road:geo:-71.2141633,42.4367685
END:VEVENT
BEGIN:VEVENT
DTSTART;TZID=America/New_York:20250531T110000
DTEND;TZID=America/New_York:20250531T160000
DTSTAMP:20260422T031546
CREATED:20250523T051001Z
LAST-MODIFIED:20250523T070830Z
UID:10001449-1748689200-1748707200@massachusetts250.org
SUMMARY:Manchester in 1775 — Manchester\, The Revolution\, and The War at Sea
DESCRIPTION:For the upcoming 250th anniversary of the American Revolution\, the Manchester-by-the-Sea Museum is preparing to tell the story of “Manchester\, The Revolution\, and The War at Sea\,” and the opening day on Saturday\, May 31\, will specially feature living history with the Ladies Association of Revolutionary America interpreting Manchester in 1775. \nThe exhibit intends to create a better understanding of the town’s heritage\, specifically the story of Manchester men during the Revolutionary War\, as it was fought at sea\, with additional information about the war at land and home. After opening May 31\, it will run through September\, and it will be reprised next year for the national semiquincentennial in 2026. \nThe Essex National Heritage Commission is the primary grant sponsor of this project. \nThe exhibit intends to create a better understanding of the town’s heritage\, specifically the story of Manchester men during the Revolutionary War\, as it was fought at sea\, with additional information about the war at land and home. \nEVENT COST: \nAdmission cost for the opening and the exhibit is the same as regular self-guided tours of the Museum: $5 for individuals\, $10 for groups 2+; guided tours of the Museum are also available by request at the door at an additional cost (+$10).  Museum members are free along with youth 16 and under.
URL:https://massachusetts250.org/event/manchester-in-1775-manchester-the-revolution-and-the-war-at-sea/
LOCATION:Manchester by the Sea Museum\, Union Street 10\, Manchester by the Sea\, MA\, 01944\, United States
CATEGORIES:Event,Exhibit,Reenactment,Women's History
ATTACH;FMTTYPE=image/webp:https://massachusetts250.org/wp-content/uploads/2025/05/Manchester-in-1775.webp
ORGANIZER;CN="Manchester by the Sea Museum":MAILTO:info@mbtsmuseum.org
GEO:42.5753691;-70.771071
X-APPLE-STRUCTURED-LOCATION;VALUE=URI;X-ADDRESS=Manchester by the Sea Museum Union Street 10 Manchester by the Sea MA 01944 United States;X-APPLE-RADIUS=500;X-TITLE=Union Street 10:geo:-70.771071,42.5753691
END:VEVENT
END:VCALENDAR