BEGIN:VCALENDAR
VERSION:2.0
PRODID:-//MA250 - ECPv6.5.1.5//NONSGML v1.0//EN
CALSCALE:GREGORIAN
METHOD:PUBLISH
X-WR-CALNAME:MA250
X-ORIGINAL-URL:https://massachusetts250.org
X-WR-CALDESC:Events for MA250
REFRESH-INTERVAL;VALUE=DURATION:PT1H
X-Robots-Tag:noindex
X-PUBLISHED-TTL:PT1H
BEGIN:VTIMEZONE
TZID:America/New_York
BEGIN:DAYLIGHT
TZOFFSETFROM:-0500
TZOFFSETTO:-0400
TZNAME:EDT
DTSTART:20250309T070000
END:DAYLIGHT
BEGIN:STANDARD
TZOFFSETFROM:-0400
TZOFFSETTO:-0500
TZNAME:EST
DTSTART:20251102T060000
END:STANDARD
END:VTIMEZONE
BEGIN:VEVENT
DTSTART;TZID=America/New_York:20250426T093000
DTEND;TZID=America/New_York:20250426T160000
DTSTAMP:20260422T091054
CREATED:20250407T152317Z
LAST-MODIFIED:20250407T152317Z
UID:10001317-1745659800-1745683200@massachusetts250.org
SUMMARY:School Vacation Week: Celebrating 250 Years of the American Revolution
DESCRIPTION:Women of the Revolution\nJoin us as we celebrate the 250th anniversary of the Revolutionary War! Explore the Historic Beverly galleries\, showcasing fascinating artifacts from the Revolution. Each gallery will also feature “Make and Take” stations with engaging activities inspired by the pastimes of militia members during their wartime encampments. \nDrop-in story time at 10:00am for a\, “Her Name Was Mary Katharine: The Only Woman Whose Name Is on the Declaration of Independence” by Ella Schwartz. Stay after story time to explore Historic Beverly’s reading copy of the Declaration of Independence and then try your hand at using a quill pen. \nDrop-in story time at 2:00pm for a reading of\, “They Called Her Molly Pitcher” by Anne Rockwell. Stay after story time to make your own toilet paper roll cannon . \nStory times recommended for Gr. 3-5\, drop-in crafts and activities open to all ages
URL:https://massachusetts250.org/event/school-vacation-week-celebrating-250-years-of-the-american-revolution/
LOCATION:Historic Beverly\, 117 Cabot Street\, Beverly\, MA\, 01915\, United States
CATEGORIES:Event,Women's History
ATTACH;FMTTYPE=image/jpeg:https://massachusetts250.org/wp-content/uploads/2025/04/April-vacation-quill-writing.jpg
ORGANIZER;CN="Historic Beverly 117 Cabot Street Beverly%2C MA 01915":MAILTO:abattis@historicbeverly.net
GEO:42.5458772;-70.879895
X-APPLE-STRUCTURED-LOCATION;VALUE=URI;X-ADDRESS=Historic Beverly 117 Cabot Street Beverly MA 01915 United States;X-APPLE-RADIUS=500;X-TITLE=117 Cabot Street:geo:-70.879895,42.5458772
END:VEVENT
BEGIN:VEVENT
DTSTART;TZID=America/New_York:20250426T103000
DTEND;TZID=America/New_York:20250426T160000
DTSTAMP:20260422T091054
CREATED:20250418T143404Z
LAST-MODIFIED:20250418T183348Z
UID:10001366-1745663400-1745683200@massachusetts250.org
SUMMARY:Weaving Threads of Lace History
DESCRIPTION:Did you know that the only American town that made bobbin lace at scale in our early republic was Ipswich Massachusetts? Alexander Hamilton’s papers record that over 40\,000 yards of lace were made in one single year. Lace was an important political\, economic\, and fashion item in the 18th century. Hannah Adams the historian said about lace: “During the American revolutionary war\, I learned to weave bobbin lace\, which was then saleable\, and much more profitable to me than spinning\, sewing or knitting\, which had previously been my employment.” \nJoin us at the Ipswich Museum to learn about how bobbin lace is made\, the cultural and economic impacts of lace\, and see artifacts of the Ipswich Lace industry era. We expect to have the largest gathering of lacemakers in Ipswich for over 200 years\, some demonstrating the traditional Ipswich lace styles and others with contemporary lace examples. We are also part of the Gather Fiber Symposium series running in the Boston area this April.
URL:https://massachusetts250.org/event/weaving-threads-of-lace-history/
LOCATION:Ipswich Museum\, 54 South Main Street\, Ipswich\, MA\, 01938\, United States
CATEGORIES:Exhibit,Women's History
ATTACH;FMTTYPE=image/jpeg:https://massachusetts250.org/wp-content/uploads/2025/04/Ipswich-lace-pillow-1.jpg
ORGANIZER;CN="New England Lace Group":MAILTO:nelgmemberatlarge@gmail.com
GEO:42.6771456;-70.8361042
X-APPLE-STRUCTURED-LOCATION;VALUE=URI;X-ADDRESS=Ipswich Museum 54 South Main Street Ipswich MA 01938 United States;X-APPLE-RADIUS=500;X-TITLE=54 South Main Street:geo:-70.8361042,42.6771456
END:VEVENT
END:VCALENDAR