BEGIN:VCALENDAR
VERSION:2.0
PRODID:-//MA250 - ECPv6.5.1.5//NONSGML v1.0//EN
CALSCALE:GREGORIAN
METHOD:PUBLISH
X-ORIGINAL-URL:https://massachusetts250.org
X-WR-CALDESC:Events for MA250
REFRESH-INTERVAL;VALUE=DURATION:PT1H
X-Robots-Tag:noindex
X-PUBLISHED-TTL:PT1H
BEGIN:VTIMEZONE
TZID:America/New_York
BEGIN:DAYLIGHT
TZOFFSETFROM:-0500
TZOFFSETTO:-0400
TZNAME:EDT
DTSTART:20250309T070000
END:DAYLIGHT
BEGIN:STANDARD
TZOFFSETFROM:-0400
TZOFFSETTO:-0500
TZNAME:EST
DTSTART:20251102T060000
END:STANDARD
END:VTIMEZONE
BEGIN:VEVENT
DTSTART;TZID=America/New_York:20250504T160000
DTEND;TZID=America/New_York:20250504T173000
DTSTAMP:20260422T045333
CREATED:20250324T190645Z
LAST-MODIFIED:20250324T190645Z
UID:10001196-1746374400-1746379800@massachusetts250.org
SUMMARY:Liberty & Loyalty: Embroidered Coats of Arms in an Age of Revolution
DESCRIPTION:Join Erica Lome\, Curator of Collections at Historic New England for our spring Americana Lecture as she discusses “Liberty & Loyalty: Embroidered coats of arms in an age of revolution” at 4pm on May 4. A light reception will follow the lecture. \nIn 1775\, Mary Jones of Weston\, Massachusetts\, watched her life collapse around her as her family\, all supporters of the British Crown\, fled their homes and had their immense fortune confiscated during the Revolution. Among what she had left to remember them was a mostly finished needlework sampler displaying the Jones family coat of arms. Years later\, she returned to Massachusetts and settled in Concord\, where this sampler now resides in the collection of the Concord Museum. \nErica Lome uses this needlework as a starting point to survey the history of embroidered coats of arms worked in Boston in the late eighteenth century. More than an accomplishment of a genteel education\, young women used heraldic needlework to document their family genealogy\, a practice which endured through war\, exile\, and independence. (Needlework pictured: Mary Jones (1748-1830)\, ca. 1768-70. Boston and Weston\, MA. Concord Museum Collection\, Gift of Cummings E. Davis; T900)
URL:https://massachusetts250.org/event/liberty-loyalty-embroidered-coats-of-arms-in-an-age-of-revolution/
LOCATION:Hamilton Hall\, Chestnut Street 9\, Salem\, Massachusetts\, 01970\, United States
CATEGORIES:Event,Speakers,Women's History
ATTACH;FMTTYPE=image/png:https://massachusetts250.org/wp-content/uploads/2025/03/Ma250-Americana-Event-Banner.png
ORGANIZER;CN="Hamilton Hall":MAILTO:info@hamiltonhall.org
GEO:42.5196459;-70.8991675
X-APPLE-STRUCTURED-LOCATION;VALUE=URI;X-ADDRESS=Hamilton Hall Chestnut Street 9 Salem Massachusetts 01970 United States;X-APPLE-RADIUS=500;X-TITLE=Chestnut Street 9:geo:-70.8991675,42.5196459
END:VEVENT
BEGIN:VEVENT
DTSTART;TZID=America/New_York:20250506T180000
DTEND;TZID=America/New_York:20250506T190000
DTSTAMP:20260422T045333
CREATED:20250428T153041Z
LAST-MODIFIED:20250428T153041Z
UID:10001385-1746554400-1746558000@massachusetts250.org
SUMMARY:Abigail Adams & the Daughters of Liberty
DESCRIPTION:The time is January 1774. Carol Cohen\, playing the role of Abigail Adams\, invites a group of women to Boston for a “Spinning Bee”. These were meetings where the Daughters of Liberty gathered to discuss matters of concern to colonists while they spun yarn that could be woven into fabric. The audience is part of the meeting where Abigail introduces several of the women present such as historian and author Mercy Otis Warren\, poet Phillis Wheatley and Sarah Fulton the “mother” of the Boston Tea Party. \nThe interactive program includes both first person portrayal and multimedia presentation. Following an “up close visit” with Abigail Adams. Participants will learn more about her time in Boston in the years leading up to the Declaration of Independence. Included will be stories about women who joined Abigail as important players working along side her in forging a path to Independence from Britain. Those who attend will leave with a fresh perspective on the role of woman during the time leading up to the Declaration of Independence. \nLight refreshments will be served. This is an in-person event and will be held in the Fireplace South Gallery\, In Person at Woburn Public Library. The venue is fully ADA-compliant. \nThis program is offered by Woburn Public Library as part of the Hidden Treasures Festival of Nature\, Culture & History\, an annual month-long celebration showcasing events and activities hosted by local partners celebrating the unique places\, objects\, and stories of the Freedom’s Way National Heritage Area. Hidden Treasures programs are free and open to the public. Learn more at freedomsway.org/hidden-treasures.
URL:https://massachusetts250.org/event/abigail-adams-the-daughters-of-liberty/
LOCATION:Woburn Public Library\, Pleasant Street 45\, Woburn\, MA\, 01801\, United States
CATEGORIES:Event,Women's History
ATTACH;FMTTYPE=image/png:https://massachusetts250.org/wp-content/uploads/2025/04/Abigail-Adams-May-6.png
GEO:42.4791655;-71.1545715
X-APPLE-STRUCTURED-LOCATION;VALUE=URI;X-ADDRESS=Woburn Public Library Pleasant Street 45 Woburn MA 01801 United States;X-APPLE-RADIUS=500;X-TITLE=Pleasant Street 45:geo:-71.1545715,42.4791655
END:VEVENT
BEGIN:VEVENT
DTSTART;TZID=America/New_York:20250515T180000
DTEND;TZID=America/New_York:20250515T200000
DTSTAMP:20260422T045333
CREATED:20250416T150611Z
LAST-MODIFIED:20250416T202943Z
UID:10001370-1747332000-1747339200@massachusetts250.org
SUMMARY:Abigail Adams as performed by Sheryl Faye
DESCRIPTION:Join us for an evening with Abigail Adams as performed by Sheryl Faye. \nThursday\, May 15\, 6 p.m. at Adams Free Library (92 Park Street\, Adams\, MA 01220) \nJoin the Friends of The Adams Free Library in celebrating the life of Abigail Adams\, the first First Lady to reside in the White House\, with her husband\, President John Adams\, in November 1800. \nSheryl Faye becomes Abigail Adams\, the woman who instructed her to “Remember the Ladies… if particular care and attention is not paid to the Ladies\, we are determined to foment a Rebellion and will not hold ourselves bound by any laws in which we have no voice\, or Representation.” \nLight refreshments will be served at 5 p.m. in the Lower Level. \nPerformance will begins at 6 p.m. in the Memorial Room \nTickets are $20.00 with limited seating. (NO Tickets will be sold at the door) \nTickets may be purchased at the Adams Free Library front desk\, or by contacting Ed or Pam St. John 413-743-5603 or by email at estjohn1@roadrunner.com
URL:https://massachusetts250.org/event/abigail-adams-as-performed-by-sheryl-faye/
LOCATION:Adams Free Library\, Park Street 92\, Adams\, Massachusetts\, 01220\, United States
CATEGORIES:Drama,Event,Women's History
ATTACH;FMTTYPE=image/png:https://massachusetts250.org/wp-content/uploads/2025/04/adams.png
ORGANIZER;CN="Adams Free Library":MAILTO:hjayko@town.adams.ma.us
GEO:42.623812;-73.1203417
X-APPLE-STRUCTURED-LOCATION;VALUE=URI;X-ADDRESS=Adams Free Library Park Street 92 Adams Massachusetts 01220 United States;X-APPLE-RADIUS=500;X-TITLE=Park Street 92:geo:-73.1203417,42.623812
END:VEVENT
BEGIN:VEVENT
DTSTART;TZID=America/New_York:20250517T150000
DTEND;TZID=America/New_York:20250517T170000
DTSTAMP:20260422T045333
CREATED:20250310T175720Z
LAST-MODIFIED:20250324T191309Z
UID:10001075-1747494000-1747501200@massachusetts250.org
SUMMARY:Revolutionary Tea on a Gambrel Roof w/tea & cake
DESCRIPTION:A dramatization of ‘A Gambrel Roof’\, a poem by Lucy Larcom. Reservations required $20pp. \nA creative multi-disciplinary theatrical presentation of a circa 1875 local poem about the historic Danvers Jeremiah Page House. Period music\, an art installation\, historic tea blends and signature cakes add to the illustration of the story: \nIn about 1770\, when the British monarchy started taxing tea in the colonies\, Jeremiah told Sarah that “no tea shall be drunk in this house”. However\, while her husband was away one day\, Sarah and two friends secretly had their tea ON the roof of the house. In Sarah’s words\, “Upon a house is not within it”\, so she was still obeying her husband’s wishes. This story was told to Anne L. Page\, Jeremiah’s granddaughter\, by a family friend many years later. Anne then told it to her friend Lucy Larcom\, the famous Beverly poet. Lucy romanticized the story in the poem “A Gambrel Roof” written as the 100th birthday of our nation approached and published in the Atlantic Monthly.
URL:https://massachusetts250.org/event/revolutionary-tea-on-a-gambrel-roof-w-tea-cake/
LOCATION:Tapley Memorial Hall\, 13 Page Street\, Danvers\, MA\, 01923\, United States
CATEGORIES:Drama,Event,Women's History
ATTACH;FMTTYPE=image/jpeg:https://massachusetts250.org/wp-content/uploads/2025/03/Rev250Danvers.jpg
ORGANIZER;CN="Danvers Historical Society":MAILTO:dhs@danvershistory.org
GEO:42.5658882;-70.9371886
X-APPLE-STRUCTURED-LOCATION;VALUE=URI;X-ADDRESS=Tapley Memorial Hall 13 Page Street Danvers MA 01923 United States;X-APPLE-RADIUS=500;X-TITLE=13 Page Street:geo:-70.9371886,42.5658882
END:VEVENT
BEGIN:VEVENT
DTSTART;TZID=America/New_York:20250517T150000
DTEND;TZID=America/New_York:20250517T170000
DTSTAMP:20260422T045333
CREATED:20250506T192255Z
LAST-MODIFIED:20250506T192255Z
UID:10001400-1747494000-1747501200@massachusetts250.org
SUMMARY:Concord250 Event: Concord Triptych Film Screening
DESCRIPTION:May 17\, 2025\, 3 p.m.\nThe Umbrella Arts Center Main Stage Theater 144 \nFive Sisters Productions and the Tufts University Half the History Film Project return to The Umbrella Arts Center to present a program of three locally shot short films about impactful women in Concord history. \nThe featured films will be: \n–Margaret Lothrop and the Wayside (Premiere screening with new score)\n–Ellen Garrison: Scenes from an Activist Life (Return engagement)\n–Women of the Old Manse (Sneak peek) \nRelated family activities include optional childcare with teacher-led thematically related crafts during the screening\, and a table display of Rise Up!\, a new children’s book by Barefoot Books on revolutions and protest in U.S. history. \nPartners: The Umbrella Arts Center\, Tufts University Half the History Film Project\, The Robbins House\, Barefoot Books\, Concord 250 \nFREE
URL:https://massachusetts250.org/event/concord250-event-concord-triptych-film-screening/
LOCATION:The Umbrella Arts Center\, Stow Street 40\, Concord\, MA\, 01742\, United States
CATEGORIES:Black History,Event,Women's History
ATTACH;FMTTYPE=image/jpeg:https://massachusetts250.org/wp-content/uploads/2025/04/Women-old-manse-square.jpg
ORGANIZER;CN="The Umbrella Arts Center":MAILTO:info@theumbrellaarts.org
GEO:42.4575079;-71.3525233
X-APPLE-STRUCTURED-LOCATION;VALUE=URI;X-ADDRESS=The Umbrella Arts Center Stow Street 40 Concord MA 01742 United States;X-APPLE-RADIUS=500;X-TITLE=Stow Street 40:geo:-71.3525233,42.4575079
END:VEVENT
BEGIN:VEVENT
DTSTART;TZID=America/New_York:20250518T130000
DTEND;TZID=America/New_York:20250518T150000
DTSTAMP:20260422T045333
CREATED:20250324T141042Z
LAST-MODIFIED:20250324T191517Z
UID:10001193-1747573200-1747580400@massachusetts250.org
SUMMARY:Abigail Adams Birthplace Open Hours
DESCRIPTION:Enjoy a guided tour during open hours at the Abigail Adams Birthplace on Sunday\, May 18\, 2025 from 1 – 3 p.m. \nBuilt in 1685\, the Abigail Smith Adams (1744-1818) Birthplace was home to this exceptional woman for the first twenty years of her life. It has survived two relocations and now stands as a monument to her extraordinary life. \nPlease note: Visits are by guided tour only. Tours begin on the half hour\, with the last tour starting at 2:30 p.m. \nCost: $10 adults/$5 children and members are free! \nFor more information\, please visit our website: https://abigailadamsbirthplace.org/
URL:https://massachusetts250.org/event/abigail-adams-birthplace-open-hours-2/
LOCATION:Abigail Adams Birthplace\, Norton Street 180\, Weymouth\, Massachusetts\, 02191\, United States
CATEGORIES:Event,Women's History
ATTACH;FMTTYPE=image/jpeg:https://massachusetts250.org/wp-content/uploads/2025/03/Birthplace.jpg
ORGANIZER;CN="Abigail Adams Birthplace":MAILTO:aahs1744@gmail.com
GEO:42.2323862;-70.945601
X-APPLE-STRUCTURED-LOCATION;VALUE=URI;X-ADDRESS=Abigail Adams Birthplace Norton Street 180 Weymouth Massachusetts 02191 United States;X-APPLE-RADIUS=500;X-TITLE=Norton Street 180:geo:-70.945601,42.2323862
END:VEVENT
BEGIN:VEVENT
DTSTART;TZID=America/New_York:20250518T160000
DTEND;TZID=America/New_York:20250518T180000
DTSTAMP:20260422T045333
CREATED:20250425T145831Z
LAST-MODIFIED:20250425T145831Z
UID:10001395-1747584000-1747591200@massachusetts250.org
SUMMARY:Deborah Sampson: A Revolution of Her Own
DESCRIPTION:A Revolution of Her Own! \nDeborah Sampson\, the first woman to professionally fight in and be honorably discharged from the American Military\, captivates audiences in an Immersive Living History Experience chronicling her life. An indentured servant by age five\, Deborah grew up in a man’s world\, where women were naught but second-class British subjects. As a self-educated\, masterless woman\, she felt a higher calling\, and in the final years of the American War for Independence\, Deborah bound her chest\, tied back her hair\, and enlisted in the 4th Massachusetts Regiment of the Continental Army\, as “Robert Shurtlieff.” \nA Revolution of Her Own! takes you back in time! \nJUDITH “JUDE” KALAORA \nFounder & Artistic Director \nHistory At Play™ \nJudith is a professional educator & living historian. She graduated from Syracuse University Magna cum Laude and holds a Bachelor of Fine Arts in Acting\, along with a Bachelor of Arts in Spanish Literature\, Language\, & Culture. Judith completed the Globe Education Program at Shakespeare’s Globe Theatre in London. She founded History At Play™\, LLC (HAP) in 2010 to chronicle the lives of influential and often forgotten figures. She researches\, writes\, produces\, & performs original productions and has a repertoire of over 16 performances. In 2024\, Judith was 1 of just over 100 civilians to attend the National Security Seminar at the U.S. Army War College in Carlisle\, PA. Judith created HAP to engage audiences worldwide\, surpassing the bar for hi-calibre in-person\, virtual\, & hybrid Immersive Living History to interpret connections between historical legacies and contemporary values.
URL:https://massachusetts250.org/event/deborah-sampson-a-revolution-of-her-own/
LOCATION:Martha Mary Chapel\, Dutton Road 35\, Sudbury\, Massachusetts\, 01776\, United States
CATEGORIES:Celebration,Commemoration,Drama,Reenactment,Women's History
ATTACH;FMTTYPE=image/jpeg:https://massachusetts250.org/wp-content/uploads/2025/04/Sudbury-250_Deborah-Sampson_05.18.2025-1187x1536-1.jpg
ORGANIZER;CN="Sudbury 250 Committee":MAILTO:sudbury250@sudbury.ma.us
GEO:42.3586333;-71.4717605
X-APPLE-STRUCTURED-LOCATION;VALUE=URI;X-ADDRESS=Martha Mary Chapel Dutton Road 35 Sudbury Massachusetts 01776 United States;X-APPLE-RADIUS=500;X-TITLE=Dutton Road 35:geo:-71.4717605,42.3586333
END:VEVENT
BEGIN:VEVENT
DTSTART;TZID=America/New_York:20250521T190000
DTEND;TZID=America/New_York:20250521T200000
DTSTAMP:20260422T045333
CREATED:20250310T175726Z
LAST-MODIFIED:20250312T191812Z
UID:10001077-1747854000-1747857600@massachusetts250.org
SUMMARY:Revolutionary Tea on a Gambrel Roof
DESCRIPTION:A dramatization of ‘A Gambrel Roof’\, a poem by Lucy Larcom. Reservations requested. \nA creative multi-disciplinary theatrical presentation of a circa 1875 local poem about the historic Danvers Jeremiah Page House. Period music\, and an art installation add to the illustration of the story: \nIn about 1770\, when the British monarchy started taxing tea in the colonies\, Jeremiah told Sarah that “no tea shall be drunk in this house”. However\, while her husband was away one day\, Sarah and two friends secretly had their tea ON the roof of the house. In Sarah’s words\, “Upon a house is not within it”\, so she was still obeying her husband’s wishes. This story was told to Anne L. Page\, Jeremiah’s granddaughter\, by a family friend many years later. Anne then told it to her friend Lucy Larcom\, the famous Beverly poet. Lucy romanticized the story in the poem “A Gambrel Roof” written as the 100th birthday of our nation approached and published in the Atlantic Monthly. \nTapley Memorial Hall\, 13 Page Street\, Danvers MA. Wheelchair accessible building and parking available. Additional parking in the Elm Street lot. \nDonations appreciated \nWe are proud to participate in Mass Cultural Council’s Card to Culture program. \nDanvers Historical Society: 978-777-1666 or E-mail to connect@danvershistory.org
URL:https://massachusetts250.org/event/revolutionary-tea-on-a-gambrel-roof/
LOCATION:Tapley Memorial Hall\, 13 Page Street\, Danvers\, MA\, 01923\, United States
CATEGORIES:Drama,Exhibit,Women's History
ATTACH;FMTTYPE=image/jpeg:https://massachusetts250.org/wp-content/uploads/2025/03/Rev250Danvers-1.jpg
ORGANIZER;CN="Danvers Historical Society":MAILTO:dhs@danvershistory.org
GEO:42.5658882;-70.9371886
X-APPLE-STRUCTURED-LOCATION;VALUE=URI;X-ADDRESS=Tapley Memorial Hall 13 Page Street Danvers MA 01923 United States;X-APPLE-RADIUS=500;X-TITLE=13 Page Street:geo:-70.9371886,42.5658882
END:VEVENT
BEGIN:VEVENT
DTSTART;TZID=America/New_York:20250531T093000
DTEND;TZID=America/New_York:20250531T120000
DTSTAMP:20260422T045333
CREATED:20250506T192028Z
LAST-MODIFIED:20250506T192028Z
UID:10001384-1748683800-1748692800@massachusetts250.org
SUMMARY:Gallery Tours: “Swept Up in Revolution” and “Protest & Promise: The American Revolution in Lexington”
DESCRIPTION:Join curators at Lexington History Museums and the Scottish Rite Masonic Museum & Library to learn more about Lexington’s role in the American Revolution. The program begins at 9:30 a.m. at Buckman Tavern with a tour of “Swept Up in Revolution” with Jesse Hilton\, Curator\, Lexington History Museums. The event continues at 11:00 AM at the Scottish Rite Masonic Museum & Library with a tour of “Protest & Promise: The American Revolution in Lexington” with the museum’s Assistant Curator\, Stacey Fraser. \nRegistration includes admission to both tours. There is no charge for this program\, but registration is required.
URL:https://massachusetts250.org/event/gallery-tours-swept-up-in-revolution-and-protest-promise-the-american-revolution-in-lexington/
LOCATION:Scottish Rite Masonic Museum & Library\, 33 Marrett Road\, Lexington\, MA\, 02421\, United States
CATEGORIES:Black History,Commemoration,Exhibit,Women's History
ATTACH;FMTTYPE=image/jpeg:https://massachusetts250.org/wp-content/uploads/2025/04/Eventbrite-image.jpg
ORGANIZER;CN="Scottish Rite Masonic Museum &amp%3B Library":MAILTO:info@srmml.org
GEO:42.4367685;-71.2141633
X-APPLE-STRUCTURED-LOCATION;VALUE=URI;X-ADDRESS=Scottish Rite Masonic Museum & Library 33 Marrett Road Lexington MA 02421 United States;X-APPLE-RADIUS=500;X-TITLE=33 Marrett Road:geo:-71.2141633,42.4367685
END:VEVENT
BEGIN:VEVENT
DTSTART;TZID=America/New_York:20250531T110000
DTEND;TZID=America/New_York:20250531T160000
DTSTAMP:20260422T045333
CREATED:20250523T051001Z
LAST-MODIFIED:20250523T070830Z
UID:10001449-1748689200-1748707200@massachusetts250.org
SUMMARY:Manchester in 1775 — Manchester\, The Revolution\, and The War at Sea
DESCRIPTION:For the upcoming 250th anniversary of the American Revolution\, the Manchester-by-the-Sea Museum is preparing to tell the story of “Manchester\, The Revolution\, and The War at Sea\,” and the opening day on Saturday\, May 31\, will specially feature living history with the Ladies Association of Revolutionary America interpreting Manchester in 1775. \nThe exhibit intends to create a better understanding of the town’s heritage\, specifically the story of Manchester men during the Revolutionary War\, as it was fought at sea\, with additional information about the war at land and home. After opening May 31\, it will run through September\, and it will be reprised next year for the national semiquincentennial in 2026. \nThe Essex National Heritage Commission is the primary grant sponsor of this project. \nThe exhibit intends to create a better understanding of the town’s heritage\, specifically the story of Manchester men during the Revolutionary War\, as it was fought at sea\, with additional information about the war at land and home. \nEVENT COST: \nAdmission cost for the opening and the exhibit is the same as regular self-guided tours of the Museum: $5 for individuals\, $10 for groups 2+; guided tours of the Museum are also available by request at the door at an additional cost (+$10).  Museum members are free along with youth 16 and under.
URL:https://massachusetts250.org/event/manchester-in-1775-manchester-the-revolution-and-the-war-at-sea/
LOCATION:Manchester by the Sea Museum\, Union Street 10\, Manchester by the Sea\, MA\, 01944\, United States
CATEGORIES:Event,Exhibit,Reenactment,Women's History
ATTACH;FMTTYPE=image/webp:https://massachusetts250.org/wp-content/uploads/2025/05/Manchester-in-1775.webp
ORGANIZER;CN="Manchester by the Sea Museum":MAILTO:info@mbtsmuseum.org
GEO:42.5753691;-70.771071
X-APPLE-STRUCTURED-LOCATION;VALUE=URI;X-ADDRESS=Manchester by the Sea Museum Union Street 10 Manchester by the Sea MA 01944 United States;X-APPLE-RADIUS=500;X-TITLE=Union Street 10:geo:-70.771071,42.5753691
END:VEVENT
END:VCALENDAR