BEGIN:VCALENDAR
VERSION:2.0
PRODID:-//MA250 - ECPv6.5.1.5//NONSGML v1.0//EN
CALSCALE:GREGORIAN
METHOD:PUBLISH
X-WR-CALNAME:MA250
X-ORIGINAL-URL:https://massachusetts250.org
X-WR-CALDESC:Events for MA250
REFRESH-INTERVAL;VALUE=DURATION:PT1H
X-Robots-Tag:noindex
X-PUBLISHED-TTL:PT1H
BEGIN:VTIMEZONE
TZID:America/New_York
BEGIN:DAYLIGHT
TZOFFSETFROM:-0500
TZOFFSETTO:-0400
TZNAME:EDT
DTSTART:20250309T070000
END:DAYLIGHT
BEGIN:STANDARD
TZOFFSETFROM:-0400
TZOFFSETTO:-0500
TZNAME:EST
DTSTART:20251102T060000
END:STANDARD
END:VTIMEZONE
BEGIN:VEVENT
DTSTART;TZID=America/New_York:20250217T103000
DTEND;TZID=America/New_York:20250217T153000
DTSTAMP:20260422T160948
CREATED:20250206T213931Z
LAST-MODIFIED:20250206T213931Z
UID:10000930-1739788200-1739806200@massachusetts250.org
SUMMARY:Presidents' Day Festival
DESCRIPTION:In celebration of Presidents’ Day\, historic guests\, creative activities\, live musical performances as well as Museum tours will bring the JFK Library to life in new ways for all ages. Enjoy performances of campaign songs and maker activities to highlight President Kennedy’s time in the White House\, with additional elements focusing on democratic values and the importance of civic participation. \nYouths ages 17 and under will be FREE on Festival Day. Additional student\, military\, senior\, and EBT discounts are always available. General admission starts at $18. Visit jfklibrary.org/PresidentsDay\, for more details. \nMeet Presidents Abraham Lincoln and John Adams\, and First Lady Abigail Adams!\n“Hail to the Chief” campaign songs sing-along!\nHistory-based Maker Activities!\nDon’t Miss Experiences!\nClosing Concert and More! \nEarly Riser Reward – On Festival Day\, the first 200 youth ages 17 and under to arrive at the admissions desk will receive a keepsake donated by generous shoppers of the Museum Store while supplies last. \nParking is free at the JFK Library.\nA Paul Revere shuttle bus will be running directly from the JFK/UMass MBTA stop on the Red Line to the JFK Library the day of the Festival. \n$2 Off Museum Admission with Special Buzzword\nIn celebration of Presidents’ Day week\, the JFK Library will reveal a special buzzword on social media. Visitors who provide the buzzword during admission throughout the week of February 15-23\, 2025 will receive $2 off admission prices. \nSensory Flexibility – Adaptive maker activities and a Flexible Quiet Space will be available for anyone who needs a break at any time. This is an inclusive program and people both with and without disabilities are always welcomed. \nSecurity – To make your experience safe and enjoyable\, the JFK Library takes the safety and security of all guests\, staff\, and visitors seriously. Upon entry to this federal building\, all visitors must pass through a security check with a metal detector. All bags will be searched by Security Officers upon entry.
URL:https://massachusetts250.org/event/presidents-day-festival/
LOCATION:John F. Kennedy Presidential Library and Museum\, Boston\, Massachusetts\, 02125\, United States
CATEGORIES:Anniversary,Celebration,Drama,Event,Exhibit,Reenactment,Women's History
ATTACH;FMTTYPE=image/png:https://massachusetts250.org/wp-content/uploads/2025/02/2025PresidentsDayFestival-1544x600-1.png
ORGANIZER;CN="John F. Kennedy Presidential Library and Museum":MAILTO:kennedy.programs@jfklfoundation.org
GEO:42.3130539;-71.0332151
END:VEVENT
BEGIN:VEVENT
DTSTART;TZID=America/New_York:20250218T130000
DTEND;TZID=America/New_York:20250218T150000
DTSTAMP:20260422T160948
CREATED:20250131T172334Z
LAST-MODIFIED:20250131T172334Z
UID:10000923-1739883600-1739890800@massachusetts250.org
SUMMARY:Witness to Revolution: Meet Hannah Mather\, North Square Neighbor of the Revere Family
DESCRIPTION:Hannah Mather was 13 years old when she helped her uncle\, Lieutenant Governor Thomas Hutchinson\, escape from the sacking of his mansion during the Stamp Act riots\, and 22 when she smuggled letters to Patriot leaders during the Siege of Boston. Hear from Hannah herself (portrayed by Mehitabel Glenhaber) about her experiences coming of age in North Square in the tumultuous years leading up to the American Revolution. Performances at 1:00\, 1:45\, and 2:30 are included with the price of admission.
URL:https://massachusetts250.org/event/witness-to-revolution-meet-hannah-mather-north-square-neighbor-of-the-revere-family/
LOCATION:Paul Revere House\, 19 North Square\, Boston\, 02113\, United States
CATEGORIES:Event,Women's History
ATTACH;FMTTYPE=image/jpeg:https://massachusetts250.org/wp-content/uploads/2025/01/hannah_mather_program.jpeg
ORGANIZER;CN="Paul Revere House":MAILTO:emily@paulreverehouse.org
GEO:42.363739;-71.0537
X-APPLE-STRUCTURED-LOCATION;VALUE=URI;X-ADDRESS=Paul Revere House 19 North Square Boston 02113 United States;X-APPLE-RADIUS=500;X-TITLE=19 North Square:geo:-71.0537,42.363739
END:VEVENT
BEGIN:VEVENT
DTSTART;TZID=America/New_York:20250221T130000
DTEND;TZID=America/New_York:20250221T150000
DTSTAMP:20260422T160948
CREATED:20250314T172819Z
LAST-MODIFIED:20250314T172819Z
UID:10000925-1740142800-1740150000@massachusetts250.org
SUMMARY:Witness to Revolution: Meet Hannah Mather\, North Square Neighbor of the Revere Family
DESCRIPTION:Hannah Mather was 13 years old when she helped her uncle\, Lieutenant Governor Thomas Hutchinson\, escape from the sacking of his mansion during the Stamp Act riots\, and 22 when she smuggled letters to Patriot leaders during the Siege of Boston. Hear from Hannah herself (portrayed by Mehitabel Glenhaber) about her experiences coming of age in North Square in the tumultuous years leading up to the American Revolution.
URL:https://massachusetts250.org/event/witness-to-revolution-meet-hannah-mather-north-square-neighbor-of-the-revere-family-2/
LOCATION:Paul Revere House\, 19 North Square\, Boston\, 02113\, United States
CATEGORIES:Event,Women's History
ATTACH;FMTTYPE=image/jpeg:https://massachusetts250.org/wp-content/uploads/2025/01/hannah_mather_program-1.jpeg
ORGANIZER;CN="Paul Revere House":MAILTO:emily@paulreverehouse.org
GEO:42.363739;-71.0537
X-APPLE-STRUCTURED-LOCATION;VALUE=URI;X-ADDRESS=Paul Revere House 19 North Square Boston 02113 United States;X-APPLE-RADIUS=500;X-TITLE=19 North Square:geo:-71.0537,42.363739
END:VEVENT
BEGIN:VEVENT
DTSTART;TZID=America/New_York:20250221T190000
DTEND;TZID=America/New_York:20250221T203000
DTSTAMP:20260422T160948
CREATED:20250212T173116Z
LAST-MODIFIED:20250212T173116Z
UID:10000984-1740164400-1740169800@massachusetts250.org
SUMMARY:Fashioning for Freedom: Layers of Liberty
DESCRIPTION:History Alive\, Inc is pleased to present their second installation of a fashion show of ideas from history\, “Fashioning for Freedom\, Layers of Liberty.” This special performance\, in partnership with the Salem Human Rights Commission and the North Shore Juneteenth Association\, presents a celebratory runway of Black creativity and activism from New England’s past three centuries. \nDiscover and be inspired by the lives of:\nPhillis Wheatley\nJenny Slew\nFrederick Douglass (Thank you\, Black Cat Walking Tours and Black Cat Curiosity Shoppe for sponsorship of Frederick Douglass!)\nEdmonia Lewis\nThe Remond family of Salem\nCharlotte Forten\nand more! \nThis event is supported by Salem 400+\, Hamilton Hall\, and the Massachusetts Cultural Council.
URL:https://massachusetts250.org/event/fashioning-for-freedom-layers-of-liberty/
LOCATION:Salem Old Town Hall\, Derby Square 32\, Salem\, MA\, 01970\, United States
CATEGORIES:Black History,Event,Women's History
ATTACH;FMTTYPE=image/png:https://massachusetts250.org/wp-content/uploads/2025/02/Fashioning-for-Freedom-MA250-Event-Image.png
ORGANIZER;CN="History Alive":MAILTO:kristina.stevick@historyalivesalem.com
GEO:42.5210083;-70.8945602
X-APPLE-STRUCTURED-LOCATION;VALUE=URI;X-ADDRESS=Salem Old Town Hall Derby Square 32 Salem MA 01970 United States;X-APPLE-RADIUS=500;X-TITLE=Derby Square 32:geo:-70.8945602,42.5210083
END:VEVENT
BEGIN:VEVENT
DTSTART;TZID=America/New_York:20250222T143000
DTEND;TZID=America/New_York:20250222T163000
DTSTAMP:20260422T160948
CREATED:20250114T171200Z
LAST-MODIFIED:20250114T171200Z
UID:10000336-1740234600-1740241800@massachusetts250.org
SUMMARY:Fashion in the Season of Revolution: A Panel Discussion and a Revolutionary Reenactor Promenade
DESCRIPTION:The Peabody Essex Museum (PEM) invites you to step back in time with Fashion in the Season of Revolution\, a dynamic exploration of the intersection between style\, society\, and conflict in the Revolutionary era. This engaging program\, presented in cooperation with Leslie’s Retreat 250\, offers a unique blend of scholarship\, storytelling\, and immersive experience\, combining a thought-provoking panel discussion with a vibrant Revolutionary reenactor promenade. \n2:30pm – Panel begins in Morse Auditorium – Welcome and panelist introductions – Petra Slinkard\, Director of Curatorial Affairs and Curator of Fashion and Textiles\, PEM\n2:40pm – Presentation: PEM Collection in Focus – Abigail Adams’ Petticoat – Paula Bradstreet Richter\, Curator-at-Large\, PEM\n3:00pm – Presentation: Purchasing Patriotism: New England Shoe Stories During the Revolutionary Era – Dr. Kimberly Alexander\, University of New Hampshire\n3:20pm – Presentation: “I Dress as Genteel As Possible:”; Research and Context in Living History Interpretation – Dr. Emily A. Murphy\, Curator\, National Park Service.\n3:40pm- Presentation: Inspiration Up Close – A Story of Reenactment Dress – a conversation with Henry Rutkowski and Petra Slinkard\n3:55pm – Invitation to reenactors to join on stage and audience to view costumes up close\n4:10pm – Program concludes \nThis event is presented by the Peabody Essex Museum in collaboration with Leslie’s Retreat 250. \n  \nArtists in Marblehead\, Massachusetts\, wedding dress of Elizabeth Gerry Devereux worn on her wedding to Burrill Devereux on April 22\, 1775 (detail). Silk\, linen\, and cotton. Gift of the Chestnut Street Associates\, 1964. 134537.A-F. Peabody Essex Museum. Photo by Walter Silver/PEM.
URL:https://massachusetts250.org/event/fashion-in-the-season-of-revolution-a-panel-discussion-and-a-revolutionary-reenactor-promenade/
LOCATION:Peabody Essex Museum\, Essex Street 161\, Salem\, Massachusetts\, 01970\, United States
CATEGORIES:Exhibit,Reenactment,Speakers,Women's History
ORGANIZER;CN="Peabody Essex Museum":MAILTO:elisabeth_auffant@pem.org
GEO:42.5215013;-70.8920961
X-APPLE-STRUCTURED-LOCATION;VALUE=URI;X-ADDRESS=Peabody Essex Museum Essex Street 161 Salem Massachusetts 01970 United States;X-APPLE-RADIUS=500;X-TITLE=Essex Street 161:geo:-70.8920961,42.5215013
END:VEVENT
END:VCALENDAR