BEGIN:VCALENDAR
VERSION:2.0
PRODID:-//MA250 - ECPv6.5.1.5//NONSGML v1.0//EN
CALSCALE:GREGORIAN
METHOD:PUBLISH
X-WR-CALNAME:MA250
X-ORIGINAL-URL:https://massachusetts250.org
X-WR-CALDESC:Events for MA250
REFRESH-INTERVAL;VALUE=DURATION:PT1H
X-Robots-Tag:noindex
X-PUBLISHED-TTL:PT1H
BEGIN:VTIMEZONE
TZID:America/New_York
BEGIN:DAYLIGHT
TZOFFSETFROM:-0500
TZOFFSETTO:-0400
TZNAME:EDT
DTSTART:20260308T070000
END:DAYLIGHT
BEGIN:STANDARD
TZOFFSETFROM:-0400
TZOFFSETTO:-0500
TZNAME:EST
DTSTART:20261101T060000
END:STANDARD
END:VTIMEZONE
BEGIN:VEVENT
DTSTART;TZID=America/New_York:20260716T160000
DTEND;TZID=America/New_York:20260716T173000
DTSTAMP:20260422T225006
CREATED:20260224T202821Z
LAST-MODIFIED:20260224T202821Z
UID:10006605-1784217600-1784223000@massachusetts250.org
SUMMARY:Cape Cod and Islands in the Revolution
DESCRIPTION:Cape Cod and Islands in the Revolution –A new illustrated book about the events of the Revolutionary War on Cape Cod and the Islands provides an overview of key events for our region between 1761 and 1783\, eventually leading to national Independence. An overview of highlights from the book will be presented as part of the observances of the 250th Anniversary of the United States—with an opportunity to purchase the book. \nJuly 16th\, 4pm \nTickets: $10 Museums on the Green members\, $20 non-member\, or donation-based ticket \nDavid S. Martin\, Ph.D. bio: \nDavid S. Martin\, Ph.D.\, is Professor/Dean Emeritus from Gallaudet University in Washington\, DC\, the world’s only university for deaf students. Previously a teacher\, school administrator\, and curriculum developer\, he holds a B.A. from Yale\, an Ed.M. from Harvard\, the Certificate of Advanced Study from Harvard\, and a Ph.D. from Boston College. \nIn retirement\, he is President of the Marstons Mills (Cape Cod) Historical Society\, Treasurer of the Yale Club of Cape Cod\, and active in the leadership of the Cape Cod Genealogical Society. He teaches part-time in the Master’s Program in Critical and Creative Thinking at the University of Massachusetts at Boston. He and his wife Susan reside in Marstons Mills.
URL:https://massachusetts250.org/event/cape-cod-and-islands-in-the-revolution/
LOCATION:Falmouth Museums on the Green\, Palmer Avenue 55\, Falmouth\, MA\, 02540\, United States
CATEGORIES:Event,Speakers
ATTACH;FMTTYPE=image/jpeg:https://massachusetts250.org/wp-content/uploads/2026/02/Cover-of-book-by-D-Martin-and-others-scaled.jpg
ORGANIZER;CN="Falmouth Museums on the Green":MAILTO:info@museumsonthegreen.org
GEO:41.555236;-70.6190536
X-APPLE-STRUCTURED-LOCATION;VALUE=URI;X-ADDRESS=Falmouth Museums on the Green Palmer Avenue 55 Falmouth MA 02540 United States;X-APPLE-RADIUS=500;X-TITLE=Palmer Avenue 55:geo:-70.6190536,41.555236
END:VEVENT
BEGIN:VEVENT
DTSTART;TZID=America/New_York:20260716T183000
DTEND;TZID=America/New_York:20260716T193000
DTSTAMP:20260422T225006
CREATED:20260421T164404Z
LAST-MODIFIED:20260421T164404Z
UID:10008345-1784226600-1784230200@massachusetts250.org
SUMMARY:Author James L. Nelson discusses his book "George Washington's Secret Navy"
DESCRIPTION:As part of the Topsfield Library’s Rev 250 programming marking 250 years since the signing of the Declaration of Independence\, and with tall ships visiting Boston for Sail Boston 2026 \, we are excited to host author James L. Nelson to discuss his book George Washington’s Secret Navy. \nABOUT THE BOOK: In 1775\, General George Washington secretly armed a handful of small ships and sent them to sea against the world’s mightiest navy. This is the story of how America’s first commander-in-chief–whose previous military experience had been entirely on land–nursed the fledgling American Revolution through a season of stalemate by sending troops to sea. Mining previously overlooked sources\, James L. Nelson’s swiftly moving narrative shows that George Washington deliberately withheld knowledge of his tiny navy from the Continental Congress for more than two critical months\, and that he did so precisely because he knew Congress would not approve. \nABOUT THE AUTHOR: James L. Nelson was born and raised in Lewiston\, Maine and graduated from UCLA with a degree in motion picture/television production. Finding that despite being in Southern California\, it was a damp\, drizzly November in his soul\, Jim took the cure Melville recommended and decided to sail about a little and see the watery part of the world. For six years he worked on board traditional sailing ships\, but on turning thirty he realizing it would be easier to write about sailing rather than actually doing it. His career as a writer began in 1994 and he has since written more than twenty-five works of maritime fiction and history. He is the winner or the American Library Association/William Young Boyd Award and the Naval Order’s Samuel Eliot Morison Award. Nelson has lectured all over the country and appeared on the Discovery Channel\, History Channel\, National Geographic and BookTV. He currently lives\, writes and sails in Harpswell\, Maine\, with his former shipmate\, now wife Lisa and two of their four children.
URL:https://massachusetts250.org/event/author-james-l-nelson-discusses-his-book-george-washingtons-secret-navy/
LOCATION:Topsfield Town Library\, 1 South Common St\, Topsfield\, MA\, 01983\, United States
CATEGORIES:Event,Speakers
ATTACH;FMTTYPE=image/png:https://massachusetts250.org/wp-content/uploads/2026/04/Untitled-design-4-1.png
ORGANIZER;CN="Topsfield Town Library":MAILTO:ask@topsfieldlibrary.org
GEO:42.6408809;-70.9496755
X-APPLE-STRUCTURED-LOCATION;VALUE=URI;X-ADDRESS=Topsfield Town Library 1 South Common St Topsfield MA 01983 United States;X-APPLE-RADIUS=500;X-TITLE=1 South Common St:geo:-70.9496755,42.6408809
END:VEVENT
BEGIN:VEVENT
DTSTART;TZID=America/New_York:20260718T100000
DTEND;TZID=America/New_York:20260718T140000
DTSTAMP:20260422T225006
CREATED:20260326T215334Z
LAST-MODIFIED:20260326T215334Z
UID:10007271-1784368800-1784383200@massachusetts250.org
SUMMARY:Reading and Celebration of the Declaration of Independence
DESCRIPTION:Join us as we celebrate the birth of our country with our community at the beautiful Greylock Glen Center\, situated at the base of Mount Greylock\, the tallest mountain in all of southern New England. Join other attendees while dressed in colonial era clothing.\nCommemorate and celebrate the birth of our country with our community through: \nReading the Declaration of Independence\nA 13 gun salute with the firing of a cannon\nDrum and fife band\nGames popular with children during the American Revolution\nColonial era cooking demonstration by the 18th Century Cook\nCommunity supper\nHandcrafted items offered for sale by local artisans\nFlags and copies of the Declaration of Independence will be handed out to attendees\nRaffle
URL:https://massachusetts250.org/event/reading-and-celebration-of-the-declaration-of-independence/
LOCATION:Greylock Glen Center\, Gould Road 165\, Adams\, Massachusetts\, 01220\, United States
CATEGORIES:Anniversary,Celebration,Event,Outdoors,Speakers
ATTACH;FMTTYPE=image/jpeg:https://massachusetts250.org/wp-content/uploads/2026/03/GreylockGlen.jpg
ORGANIZER;CN="250 Celebration Committee of Adams and North Berkshire":MAILTO:info@250adams.com
GEO:42.6268519;-73.1436545
X-APPLE-STRUCTURED-LOCATION;VALUE=URI;X-ADDRESS=Greylock Glen Center Gould Road 165 Adams Massachusetts 01220 United States;X-APPLE-RADIUS=500;X-TITLE=Gould Road 165:geo:-73.1436545,42.6268519
END:VEVENT
BEGIN:VEVENT
DTSTART;TZID=America/New_York:20260910T183000
DTEND;TZID=America/New_York:20260910T203000
DTSTAMP:20260422T225006
CREATED:20260320T192155Z
LAST-MODIFIED:20260415T210852Z
UID:10007264-1789065000-1789072200@massachusetts250.org
SUMMARY:Upton Historical Society to Host Declaration of Independence Commemoration Program
DESCRIPTION:The Upton Historical Society will present a special program celebrating the 250th anniversary of the signing of the Declaration of Independence on Thursday April 23 at 6:30 p.m. at the Upton Community Center (9 Milford St Upton).\nTitled “Declaration of Independence\,” the program will feature a unique local perspective led by students from the History 2 class at Nipmuc Regional High School. Participants will explore and compare historic documents from surrounding towns alongside the original Declaration\, offering insight into how revolutionary ideas were reflected and recorded in local communities during the era.\nThrough this collaborative presentation\, students will demonstrate how regional records and civic documents deepen understanding of the principles expressed in 1776. The program reflects the Upton Historical Society’s commitment to preserving and sharing local history while encouraging educational partnerships with area schools.\nThe event is open to the public and welcomes residents\, families\, and history enthusiasts interested in commemorating this milestone anniversary while supporting student scholarship and community engagement.\nFor additional information about this program or other Society events\, contact the Upton Historical Society.
URL:https://massachusetts250.org/event/upton-historical-society-to-host-declaration-of-independence-commemoration-program/
LOCATION:Upton Community Center\, 9 Milford St\, Upton\, Upton\, 01568\, United States
CATEGORIES:Anniversary,Event,Speakers
ATTACH;FMTTYPE=image/jpeg:https://massachusetts250.org/wp-content/uploads/2026/03/Declaration_of_Independence_1819_by_John_Trumbull.jpg
ORGANIZER;CN="Upton Historical Scoiety":MAILTO:uptonmahistoricalsociety@gmail.com
GEO:42.1737268;-71.6018131
X-APPLE-STRUCTURED-LOCATION;VALUE=URI;X-ADDRESS=Upton Community Center 9 Milford St Upton Upton 01568 United States;X-APPLE-RADIUS=500;X-TITLE=9 Milford St:geo:-71.6018131,42.1737268
END:VEVENT
BEGIN:VEVENT
DTSTART;TZID=America/New_York:20260923T100000
DTEND;TZID=America/New_York:20260923T123000
DTSTAMP:20260422T225006
CREATED:20260421T211716Z
LAST-MODIFIED:20260421T211716Z
UID:10008338-1790157600-1790166600@massachusetts250.org
SUMMARY:Homeschool Program: Quincy Revolution: A Family Divided
DESCRIPTION:In 1770 Colonel Josiah Quincy I built the current Quincy House. Colonel Quincy and his son Josiah strongly supported independence\, but his son Samuel was a Loyalist\, and the American Revolution divided the family forever. Learn about their lives and their relationship\, then re-enact the Boston Massacre trial\, where Josiah Jr. defended the British soldiers while Samuel prosecuted them. \nAges 8-14\nNo registrations will be accepted on the day of the program. One adult per family admitted free. \nIt is not a drop-off program – children must be accompanied by an adult. Strollers and backpack carriers are not permitted in the house museums.
URL:https://massachusetts250.org/event/homeschool-program-quincy-revolution-a-family-divided/
LOCATION:Historic New England – Quincy House\, Muirhead Street 20\, Quincy\, Massachusetts\, 02170\, United States
CATEGORIES:Event,Speakers
ATTACH;FMTTYPE=image/jpeg:https://massachusetts250.org/wp-content/uploads/2026/04/HNE-Quincy-Revolution.jpg
GEO:42.2717908;-71.0146984
X-APPLE-STRUCTURED-LOCATION;VALUE=URI;X-ADDRESS=Historic New England – Quincy House Muirhead Street 20 Quincy Massachusetts 02170 United States;X-APPLE-RADIUS=500;X-TITLE=Muirhead Street 20:geo:-71.0146984,42.2717908
END:VEVENT
BEGIN:VEVENT
DTSTART;TZID=America/New_York:20261017T130000
DTEND;TZID=America/New_York:20261017T143000
DTSTAMP:20260422T225006
CREATED:20260408T134634Z
LAST-MODIFIED:20260408T134634Z
UID:10007959-1792242000-1792247400@massachusetts250.org
SUMMARY:John Dickson American Government- Mid term Elections and Vital Issues
DESCRIPTION:Monomoy Regional High School social studies teacher John Dickson has been named Teacher of the Year by the American Lawyers Alliance. The national recognition stems from Dickson’s contribution in educating students on law-related education in his civic classes. His civics course centers on the Constitution\, law making and public policy\, emphasizing the importance of Massachusetts in the ratification process\, and just how contentious that convention was.
URL:https://massachusetts250.org/event/john-dickson-american-government-mid-term-elections-and-vital-issues/
LOCATION:Brewster Ladies’ Library\, 1822 Main Street\, Brewster\, MA\, 02631\, United States
CATEGORIES:Event,Speakers
ATTACH;FMTTYPE=image/png:https://massachusetts250.org/wp-content/uploads/2026/04/Mass-Constitution-1644x600-1.png
ORGANIZER;CN="Brewster Historical Society":MAILTO:brewsterhistoricalsociety@comcast.net
GEO:41.7585042;-70.0855007
X-APPLE-STRUCTURED-LOCATION;VALUE=URI;X-ADDRESS=Brewster Ladies’ Library 1822 Main Street Brewster MA 02631 United States;X-APPLE-RADIUS=500;X-TITLE=1822 Main Street:geo:-70.0855007,41.7585042
END:VEVENT
BEGIN:VEVENT
DTSTART;TZID=America/New_York:20261020T100000
DTEND;TZID=America/New_York:20261020T123000
DTSTAMP:20260422T225006
CREATED:20260421T211739Z
LAST-MODIFIED:20260421T211739Z
UID:10008337-1792490400-1792499400@massachusetts250.org
SUMMARY:Homeschool Program: Myth and Memory: Stories of the American Revolution
DESCRIPTION:Explore objects and archival materials from Historic New England’s vast collection and participate in hands-on activities to learn about the deeply personal experiences of individuals\, families\, and communities caught up in extraordinary circumstances. Participants will consider what it was like to live through these historic events and to contribute in small and not-so-small ways to the shaping of a new nation. \nAges 7-14 \nNo registrations will be accepted on the day of the program. One adult per family admitted free. \nIt is not a drop-off program – children must be accompanied by an adult. Strollers and backpack carriers are not permitted in the house museums.
URL:https://massachusetts250.org/event/homeschool-program-myth-and-memory-stories-of-the-american-revolution-2/
LOCATION:Historic New England – Eustis Estate\, 1424 Canton Avenue\, Milton\, 02186\, United States
CATEGORIES:Event,Speakers
ATTACH;FMTTYPE=image/jpeg:https://massachusetts250.org/wp-content/uploads/2026/04/HNE-Myth-and-Memory-1.jpg
GEO:42.2315279;-71.1072939
X-APPLE-STRUCTURED-LOCATION;VALUE=URI;X-ADDRESS=Historic New England – Eustis Estate 1424 Canton Avenue Milton 02186 United States;X-APPLE-RADIUS=500;X-TITLE=1424 Canton Avenue:geo:-71.1072939,42.2315279
END:VEVENT
END:VCALENDAR