BEGIN:VCALENDAR
VERSION:2.0
PRODID:-//MA250 - ECPv6.5.1.5//NONSGML v1.0//EN
CALSCALE:GREGORIAN
METHOD:PUBLISH
X-WR-CALNAME:MA250
X-ORIGINAL-URL:https://massachusetts250.org
X-WR-CALDESC:Events for MA250
REFRESH-INTERVAL;VALUE=DURATION:PT1H
X-Robots-Tag:noindex
X-PUBLISHED-TTL:PT1H
BEGIN:VTIMEZONE
TZID:America/New_York
BEGIN:DAYLIGHT
TZOFFSETFROM:-0500
TZOFFSETTO:-0400
TZNAME:EDT
DTSTART:20260308T070000
END:DAYLIGHT
BEGIN:STANDARD
TZOFFSETFROM:-0400
TZOFFSETTO:-0500
TZNAME:EST
DTSTART:20261101T060000
END:STANDARD
END:VTIMEZONE
BEGIN:VEVENT
DTSTART;TZID=America/New_York:20260621T143000
DTEND;TZID=America/New_York:20260621T170000
DTSTAMP:20260421T120109
CREATED:20260318T153440Z
LAST-MODIFIED:20260318T153440Z
UID:10007250-1782052200-1782061200@massachusetts250.org
SUMMARY:MA250 Film Screening: 1776 at the Adams Theater
DESCRIPTION:Our nation’s fathers harmonize their way through the founding of America in this musical adapted from a popular Broadway show. \nRepresentatives from the 13 colonies gather in Philadelphia with the aim of establishing a set of governmental rules for the burgeoning United States. Benjamin Franklin (Howard da Silva) and John Adams (William Daniels) charge Thomas Jefferson (Ken Howard) with the work of writing a statement announcing the new country’s emancipation from British rule. \n1776 earned a Golden Globe nomination for Best Motion Picture – Musical or Comedy and an Academy Award nomination for Best Cinematography. It was named one of the Top Ten Films of 1972 by the National Board of Review. \nA local historian will speak briefly before the film to lay the historical groundwork for the events depicted in 1776. \nReserve your seat here: https://ci.ovationtix.com/36681/production/1268826?performanceId=11782337 \nAdmission is free.  Donations are welcome.  Limited to 80 people.
URL:https://massachusetts250.org/event/ma250-film-screening-1776-at-the-adams-theater/
LOCATION:The  Adams Theater\, Adams\, MA\, Park Street 27\, Adams\, MA\, 01220\, United States
CATEGORIES:Celebration,Drama,Event,Speakers
ATTACH;FMTTYPE=image/jpeg:https://massachusetts250.org/wp-content/uploads/2026/03/1776_film_poster.jpg
ORGANIZER;CN="250 Celebration Committee of Adams and North Berkshire":MAILTO:info@250adams.com
GEO:42.6217038;-73.1197343
X-APPLE-STRUCTURED-LOCATION;VALUE=URI;X-ADDRESS=The  Adams Theater Adams MA Park Street 27 Adams MA 01220 United States;X-APPLE-RADIUS=500;X-TITLE=Park Street 27:geo:-73.1197343,42.6217038
END:VEVENT
END:VCALENDAR