BEGIN:VCALENDAR
VERSION:2.0
PRODID:-//MA250 - ECPv6.5.1.5//NONSGML v1.0//EN
CALSCALE:GREGORIAN
METHOD:PUBLISH
X-WR-CALNAME:MA250
X-ORIGINAL-URL:https://massachusetts250.org
X-WR-CALDESC:Events for MA250
REFRESH-INTERVAL;VALUE=DURATION:PT1H
X-Robots-Tag:noindex
X-PUBLISHED-TTL:PT1H
BEGIN:VTIMEZONE
TZID:America/New_York
BEGIN:DAYLIGHT
TZOFFSETFROM:-0500
TZOFFSETTO:-0400
TZNAME:EDT
DTSTART:20260308T070000
END:DAYLIGHT
BEGIN:STANDARD
TZOFFSETFROM:-0400
TZOFFSETTO:-0500
TZNAME:EST
DTSTART:20261101T060000
END:STANDARD
END:VTIMEZONE
BEGIN:VEVENT
DTSTART;TZID=America/New_York:20260620T100000
DTEND;TZID=America/New_York:20260620T150000
DTSTAMP:20260421T131631
CREATED:20260421T155659Z
LAST-MODIFIED:20260421T155659Z
UID:10008353-1781949600-1781967600@massachusetts250.org
SUMMARY:Legacy of Liberty: Yarmouth’s 250th Anniversary Celebration
DESCRIPTION:Join us on Saturday\, June 20\, 2026\, as we commemorate the 250th anniversary of Yarmouth’s own Declaration of Independence. \nStep back into the year 1776 and experience the spirit of the American Revolution right here in Yarmouth Port. This event is a powerful tribute to the 477 “Old Yarmouth” patriots who fought for our freedom\, brought to life through moving ceremonies and a vibrant community fair.  Our Living History Fair will feature local militia\, colonial craft demonstrators\, living history interpreters\, and an Ancient Cemetery tour. This event is free and open to all. For more information visit bit.ly/yarmouth250
URL:https://massachusetts250.org/event/legacy-of-liberty-yarmouths-250th-anniversary-celebration/
LOCATION:Fred Thacher Playground\, Old Church Street 1\, Yarmouth\, MA\, 02675\, United States
CATEGORIES:Commemoration,Event,Outdoors,Speakers
ATTACH;FMTTYPE=image/png:https://massachusetts250.org/wp-content/uploads/2026/04/Legacy-of-Liberty-flyer-1544-x-600-px.png
ORGANIZER;CN="The Historical Society of Old Yarmouth":MAILTO:info@hsoy.org
GEO:41.7055898;-70.2286069
X-APPLE-STRUCTURED-LOCATION;VALUE=URI;X-ADDRESS=Fred Thacher Playground Old Church Street 1 Yarmouth MA 02675 United States;X-APPLE-RADIUS=500;X-TITLE=Old Church Street 1:geo:-70.2286069,41.7055898
END:VEVENT
BEGIN:VEVENT
DTSTART;TZID=America/New_York:20260620T160000
DTEND;TZID=America/New_York:20260620T170000
DTSTAMP:20260421T131631
CREATED:20260306T194253Z
LAST-MODIFIED:20260306T194253Z
UID:10007190-1781971200-1781974800@massachusetts250.org
SUMMARY:Keynote at the Adams Theater: Stacy Schiff
DESCRIPTION:Pulitzer Prize–winning biographer and Adams native Stacy Schiff returns home for a special MA250 Festival keynote on June 20\, 2026.  \nIn conversation with interlocutor Sara Houghteling\, Schiff will explore the fiery origins of the American Revolution as detailed in her latest work\, The Revolutionary: Samuel Adams\, while offering an exclusive look at her current research into the final years of Benjamin Franklin.  \nThis homecoming event offers a rare opportunity to engage with one of the preeminent writers of our time in an intimate setting. The program includes live readings\, a direct audience Q&A\, and a post-event book signing\, celebrating the enduring power of perspective and historical storytelling in the heart of the Berkshires.
URL:https://massachusetts250.org/event/keynote-at-the-adams-theater-stacy-schiff/
LOCATION:The  Adams Theater\, Adams\, MA\, Park Street 27\, Adams\, MA\, 01220\, United States
CATEGORIES:Event,Speakers
ATTACH;FMTTYPE=image/jpeg:https://massachusetts250.org/wp-content/uploads/2026/03/ADAMS_author-photo-scaled.jpeg
ORGANIZER;CN="The Adams Theater":MAILTO:info@adamstheater.org
GEO:42.6217038;-73.1197343
X-APPLE-STRUCTURED-LOCATION;VALUE=URI;X-ADDRESS=The  Adams Theater Adams MA Park Street 27 Adams MA 01220 United States;X-APPLE-RADIUS=500;X-TITLE=Park Street 27:geo:-73.1197343,42.6217038
END:VEVENT
END:VCALENDAR