BEGIN:VCALENDAR
VERSION:2.0
PRODID:-//MA250 - ECPv6.5.1.5//NONSGML v1.0//EN
CALSCALE:GREGORIAN
METHOD:PUBLISH
X-ORIGINAL-URL:https://massachusetts250.org
X-WR-CALDESC:Events for MA250
REFRESH-INTERVAL;VALUE=DURATION:PT1H
X-Robots-Tag:noindex
X-PUBLISHED-TTL:PT1H
BEGIN:VTIMEZONE
TZID:America/New_York
BEGIN:DAYLIGHT
TZOFFSETFROM:-0500
TZOFFSETTO:-0400
TZNAME:EDT
DTSTART:20250309T070000
END:DAYLIGHT
BEGIN:STANDARD
TZOFFSETFROM:-0400
TZOFFSETTO:-0500
TZNAME:EST
DTSTART:20251102T060000
END:STANDARD
END:VTIMEZONE
BEGIN:VEVENT
DTSTART;TZID=America/New_York:20250415T180000
DTEND;TZID=America/New_York:20250415T200000
DTSTAMP:20260423T171543
CREATED:20250326T164012Z
LAST-MODIFIED:20250407T193549Z
UID:10001204-1744740000-1744747200@massachusetts250.org
SUMMARY:Reconstructing the Voice of James Stevens: A North Andover Revolutionary
DESCRIPTION:Doors open at 6 p.m./Presentation at 6:30 p.m. \nJoin linguist and NAHS facilities manager\, Antoine Trombino-Ponte as he explains his reconstruction of the voice of James Stevens\, through James’ diary\, which he began on April 19\, 1775. \nAntoine Trombino-Aponte is the Facilities Manager at the North Andover Historical Society as well as an Educator at the JFK Library\, Boston\, where he oversees the development & facilitation of K-12 and adult programming. He strives to develop museum programs that connect local history to a variety of extra-disciplinary topics including linguistics\, literature\, pop culture\, and more. As a graduate of Bridgewater State University with a B.A. in English and a minor in History\, with a focus in English historical linguistics\, Antoine’s academic interests range from archaic language texts & translation\, and folk myth & culture\, to rhetorical & creative composition\, and music & poetry. Coupled with a background in historical crafts & reenactment\, Antoine has fostered a commitment to bringing an all-inclusive\, interdisciplinary approach to museum education.
URL:https://massachusetts250.org/event/reconstructing-the-voice-of-james-stevens-a-north-andover-revolutionary/
LOCATION:North Andover Historical Society\, 800 Massachusetts Ave.\, North Andover\, 01845\, United States
CATEGORIES:Event,Speakers
ATTACH;FMTTYPE=image/png:https://massachusetts250.org/wp-content/uploads/2025/03/James-stevens.png
ORGANIZER;CN="North Andover Historical Society":MAILTO:Educator@northandoverhistoricalsociety.org
GEO:42.6849808;-71.1136771
X-APPLE-STRUCTURED-LOCATION;VALUE=URI;X-ADDRESS=North Andover Historical Society 800 Massachusetts Ave. North Andover 01845 United States;X-APPLE-RADIUS=500;X-TITLE=800 Massachusetts Ave.:geo:-71.1136771,42.6849808
END:VEVENT
END:VCALENDAR