BEGIN:VCALENDAR
VERSION:2.0
PRODID:-//MA250 - ECPv6.5.1.5//NONSGML v1.0//EN
CALSCALE:GREGORIAN
METHOD:PUBLISH
X-ORIGINAL-URL:https://massachusetts250.org
X-WR-CALDESC:Events for MA250
REFRESH-INTERVAL;VALUE=DURATION:PT1H
X-Robots-Tag:noindex
X-PUBLISHED-TTL:PT1H
BEGIN:VTIMEZONE
TZID:America/New_York
BEGIN:DAYLIGHT
TZOFFSETFROM:-0500
TZOFFSETTO:-0400
TZNAME:EDT
DTSTART:20250309T070000
END:DAYLIGHT
BEGIN:STANDARD
TZOFFSETFROM:-0400
TZOFFSETTO:-0500
TZNAME:EST
DTSTART:20251102T060000
END:STANDARD
END:VTIMEZONE
BEGIN:VEVENT
DTSTART;TZID=America/New_York:20250227T190000
DTEND;TZID=America/New_York:20250227T200000
DTSTAMP:20260424T080401
CREATED:20250210T155414Z
LAST-MODIFIED:20250210T155414Z
UID:10000985-1740682800-1740686400@massachusetts250.org
SUMMARY:When Redcoats Marched in Marblehead: Leslie's Retreat
DESCRIPTION:Historian J.L. Bell will tell the thrilling story of Leslie’s Retreat\, the first armed resistance to the British crown\, and its connections to Marblehead. \nOn Sunday\, February 26\, 1775\, about 250 British soldiers marched through Marblehead\, sent by the royal governor to search for weapons. When that column of redcoats stalled at a\ndrawbridge in Salem\, their commander ordered locals to let them pass. Militia companies assembled to stop them. \nThis talk digs below myths of Leslie’s Retreat to highlight eyewitness accounts of a day the Revolutionary War might have begun\, but didn’t. \nJ. L. Bell is the author of The Road to Concord: How Four Stolen Cannon Ignited the Revolutionary War. Bell’s website\, Boston 1775\, offers daily updates of “history\, analysis\, and unabashed gossip about the start of the American Revolution.”
URL:https://massachusetts250.org/event/when-redcoats-marched-in-marblehead-leslies-retreat/
LOCATION:Marblehead Museum\, 170 Washington Street\, Marblehead\, MA\, 01945\, United States
CATEGORIES:Anniversary,Commemoration,Speakers
ATTACH;FMTTYPE=image/jpeg:https://massachusetts250.org/wp-content/uploads/2025/02/major-Pedrick-scaled.jpg
ORGANIZER;CN="Marblehead 250 Committee":MAILTO:laurenmccormack@marbleheadmuseum.org
GEO:42.5031748;-70.8514007
X-APPLE-STRUCTURED-LOCATION;VALUE=URI;X-ADDRESS=Marblehead Museum 170 Washington Street Marblehead MA 01945 United States;X-APPLE-RADIUS=500;X-TITLE=170 Washington Street:geo:-70.8514007,42.5031748
END:VEVENT
BEGIN:VEVENT
DTSTART;TZID=America/New_York:20250227T190000
DTEND;TZID=America/New_York:20250227T203000
DTSTAMP:20260424T080401
CREATED:20250113T182332Z
LAST-MODIFIED:20250113T182332Z
UID:10000333-1740682800-1740688200@massachusetts250.org
SUMMARY:Westford REV 250: “In the Spirit of Friendship: John Adams and Mercy Otis Warren”
DESCRIPTION:Step back in time and converse with two of the Revolution’s most influential writers: John Adams and Mercy Otis Warren! Through a combination of first-person narratives and actual primary source documents\, Mercy and John will share how their friendship developed\, grew\, fractured\, and ultimately healed through their correspondence. \nIn 1805\, Warren published the first history of the American Revolution in the United States. She crafted this work by researching original documents and manuscripts\, interviewing key participants\, and drawing from her experiences during that tumultuous time. \nHowever\, this endeavor led to a significant rift between Warren and Adams. Adams was unhappy with how he was portrayed in her account and bombarded her with a series of angry letters\, ultimately disowning her as a friend. Warren accused Adams of forgetting “the principles of the American Revolution.” After several years and a heated exchange of letters\, they reconciled in 1812. \nJoin us for a lively debate between Mercy Otis Warren (portrayed by Michele Gabrielson) and John Adams (played by Michael LePage) regarding Warren’s account of the American Revolution\, published in her landmark three-volume history. \nMichele Gabrielson\, M.Ed.\, The Revolutionary Classroom. Michele is a professional historian and public-school educator with 17 years of experience teaching early American History. As a living historian and reenactor of the American Revolution\, she offers any presentation in historically accurate\, hand-sewn\, and documented 18th-century clothing. \nMichael Lepage has been bringing characters from American history to life since 1992. Aside from Paul Revere\, LePage appears as – among other historical characters – John Adams\, Samuel Adams\, Dr. Joseph Warren\, and General Thomas Gage. Well-known for his appearances at the Paul Revere House\, Adams National Historical Park\, and the Minuteman National Park \nHosted by the Westford Museum and Historical Society and League of Women Voters of Westford \n“In the Spirit of Friendship: John Adams and Mercy Otis Warren” is sponsored by Edward M. Connolly Insurance Agency\, 7 Lincoln Street\, on the historic Westford Common.
URL:https://massachusetts250.org/event/westford-rev-250-in-the-spirit-of-friendship-john-adams-and-mercy-otis-warren/
LOCATION:Westford Museum\, 2 Boston Road\, Westford\, MA\, 01886\, United States
CATEGORIES:Event,Speakers
ATTACH;FMTTYPE=image/jpeg:https://massachusetts250.org/wp-content/uploads/2025/01/20252-Warren-and-Adans-Friendship.jpg
ORGANIZER;CN="Westford Historical Soceity":MAILTO:director@museum.westford.org
GEO:42.5803939;-71.4377731
X-APPLE-STRUCTURED-LOCATION;VALUE=URI;X-ADDRESS=Westford Museum 2 Boston Road Westford MA 01886 United States;X-APPLE-RADIUS=500;X-TITLE=2 Boston Road:geo:-71.4377731,42.5803939
END:VEVENT
END:VCALENDAR