BEGIN:VCALENDAR
VERSION:2.0
PRODID:-//MA250 - ECPv6.5.1.5//NONSGML v1.0//EN
CALSCALE:GREGORIAN
METHOD:PUBLISH
X-ORIGINAL-URL:https://massachusetts250.org
X-WR-CALDESC:Events for MA250
REFRESH-INTERVAL;VALUE=DURATION:PT1H
X-Robots-Tag:noindex
X-PUBLISHED-TTL:PT1H
BEGIN:VTIMEZONE
TZID:America/New_York
BEGIN:DAYLIGHT
TZOFFSETFROM:-0500
TZOFFSETTO:-0400
TZNAME:EDT
DTSTART:20250309T070000
END:DAYLIGHT
BEGIN:STANDARD
TZOFFSETFROM:-0400
TZOFFSETTO:-0500
TZNAME:EST
DTSTART:20251102T060000
END:STANDARD
END:VTIMEZONE
BEGIN:VEVENT
DTSTART;TZID=America/New_York:20250222T093000
DTEND;TZID=America/New_York:20250222T103000
DTSTAMP:20260424T092625
CREATED:20250103T161206Z
LAST-MODIFIED:20250103T161206Z
UID:10000307-1740216600-1740220200@massachusetts250.org
SUMMARY:Speaking Event Before March to Salem's North Bridge
DESCRIPTION:Join us at 9:30am at St. Peter’s-San Pedro Episcopal Church on Saturday February 22. 2025 to learn the history behind Leslie’s Retreat\, and to hear from current elected officials. \nOn February 26\, 1775\, Salem witnessed what could have been the first battle of the American Revolution. This event marked Salem’s first armed resistance to British authority\, which occurred just weeks before the battles of Lexington and Concord. The diplomatic resolution achieved that day in 1775 exemplifies the importance of leadership and measured response in times of crisis—qualities that remain relevant in public service today.
URL:https://massachusetts250.org/event/speaking-event-before-march-to-salems-north-bridge/
LOCATION:St Peter’s San Pedro Episcopal Church\, Saint Peter Street 24\, Salem\, MA\, 01970\, United States
CATEGORIES:Anniversary,Event,Speakers
ATTACH;FMTTYPE=image/jpeg:https://massachusetts250.org/wp-content/uploads/2025/01/st.Peters.jpg
ORGANIZER;CN="City of Salem":MAILTO:vcherol@salem.com
GEO:42.5229161;-70.8928649
X-APPLE-STRUCTURED-LOCATION;VALUE=URI;X-ADDRESS=St Peter’s San Pedro Episcopal Church Saint Peter Street 24 Salem MA 01970 United States;X-APPLE-RADIUS=500;X-TITLE=Saint Peter Street 24:geo:-70.8928649,42.5229161
END:VEVENT
BEGIN:VEVENT
DTSTART;TZID=America/New_York:20250222T143000
DTEND;TZID=America/New_York:20250222T163000
DTSTAMP:20260424T092625
CREATED:20250114T171200Z
LAST-MODIFIED:20250114T171200Z
UID:10000336-1740234600-1740241800@massachusetts250.org
SUMMARY:Fashion in the Season of Revolution: A Panel Discussion and a Revolutionary Reenactor Promenade
DESCRIPTION:The Peabody Essex Museum (PEM) invites you to step back in time with Fashion in the Season of Revolution\, a dynamic exploration of the intersection between style\, society\, and conflict in the Revolutionary era. This engaging program\, presented in cooperation with Leslie’s Retreat 250\, offers a unique blend of scholarship\, storytelling\, and immersive experience\, combining a thought-provoking panel discussion with a vibrant Revolutionary reenactor promenade. \n2:30pm – Panel begins in Morse Auditorium – Welcome and panelist introductions – Petra Slinkard\, Director of Curatorial Affairs and Curator of Fashion and Textiles\, PEM\n2:40pm – Presentation: PEM Collection in Focus – Abigail Adams’ Petticoat – Paula Bradstreet Richter\, Curator-at-Large\, PEM\n3:00pm – Presentation: Purchasing Patriotism: New England Shoe Stories During the Revolutionary Era – Dr. Kimberly Alexander\, University of New Hampshire\n3:20pm – Presentation: “I Dress as Genteel As Possible:”; Research and Context in Living History Interpretation – Dr. Emily A. Murphy\, Curator\, National Park Service.\n3:40pm- Presentation: Inspiration Up Close – A Story of Reenactment Dress – a conversation with Henry Rutkowski and Petra Slinkard\n3:55pm – Invitation to reenactors to join on stage and audience to view costumes up close\n4:10pm – Program concludes \nThis event is presented by the Peabody Essex Museum in collaboration with Leslie’s Retreat 250. \n  \nArtists in Marblehead\, Massachusetts\, wedding dress of Elizabeth Gerry Devereux worn on her wedding to Burrill Devereux on April 22\, 1775 (detail). Silk\, linen\, and cotton. Gift of the Chestnut Street Associates\, 1964. 134537.A-F. Peabody Essex Museum. Photo by Walter Silver/PEM.
URL:https://massachusetts250.org/event/fashion-in-the-season-of-revolution-a-panel-discussion-and-a-revolutionary-reenactor-promenade/
LOCATION:Peabody Essex Museum\, Essex Street 161\, Salem\, Massachusetts\, 01970\, United States
CATEGORIES:Exhibit,Reenactment,Speakers,Women's History
ORGANIZER;CN="Peabody Essex Museum":MAILTO:elisabeth_auffant@pem.org
GEO:42.5215013;-70.8920961
X-APPLE-STRUCTURED-LOCATION;VALUE=URI;X-ADDRESS=Peabody Essex Museum Essex Street 161 Salem Massachusetts 01970 United States;X-APPLE-RADIUS=500;X-TITLE=Essex Street 161:geo:-70.8920961,42.5215013
END:VEVENT
END:VCALENDAR