BEGIN:VCALENDAR
VERSION:2.0
PRODID:-//MA250 - ECPv6.5.1.5//NONSGML v1.0//EN
CALSCALE:GREGORIAN
METHOD:PUBLISH
X-WR-CALNAME:MA250
X-ORIGINAL-URL:https://massachusetts250.org
X-WR-CALDESC:Events for MA250
REFRESH-INTERVAL;VALUE=DURATION:PT1H
X-Robots-Tag:noindex
X-PUBLISHED-TTL:PT1H
BEGIN:VTIMEZONE
TZID:America/New_York
BEGIN:DAYLIGHT
TZOFFSETFROM:-0500
TZOFFSETTO:-0400
TZNAME:EDT
DTSTART:20240310T070000
END:DAYLIGHT
BEGIN:STANDARD
TZOFFSETFROM:-0400
TZOFFSETTO:-0500
TZNAME:EST
DTSTART:20241103T060000
END:STANDARD
END:VTIMEZONE
BEGIN:VEVENT
DTSTART;TZID=America/New_York:20241204T173000
DTEND;TZID=America/New_York:20241204T190000
DTSTAMP:20260424T115734
CREATED:20241125T163353Z
LAST-MODIFIED:20241125T163353Z
UID:10000287-1733333400-1733338800@massachusetts250.org
SUMMARY:Congregationalists and the American Revolution: A Virtual Collections Tour
DESCRIPTION:Congregational churches could be found in nearly every town across New England in the 1770s. The stories of Patriot ministers who inspired their congregations to Revolution have long been told. Increasingly we are learning more about the experience of the people sitting in the pews and how being part of a Congregational church community shaped their experience of the celebrated ideals–and the sometimes harsh realities–of the revolutionary cause. Printed sermons\, pamphlets\, and histories; manuscript church and association records; and even paintings in the CLA’s collection help tell a story that is both familiar and not. \nThis December we reprise our popular tour of original materials related to the American Revolution with Executive Director Dr. Kyle Roberts and New England’s Hidden Histories Project Director Dr. Tricia Peone. Recognizing that not everyone can make it to 14 Beacon Street for an in-person viewing\, this tour will be hosted on Zoom\, and registration will be limited to small group of attendees. \nSee Revolutionary-era treasures from the collections\, hear stories about how Congregationalists experienced the period leading up to\, during\, and immediately following the war\, and reflect on what this pivotal event means 250 years later. \nSpace is limited. Please register by Monday\, December 2nd via this link: https://app.etapestry.com/onlineforms/CongregationalLibrary/AmRevVirtual.html. \nThe cost to attend is $20 for current CLA members and $25 for non-members. \nIf you are interested in becoming a member of the Congregational Library & Archives\, you can learn more and join on our website. \nFor more information\, please email programs@14beacon.org. \nThis program is part of Revolutionary Stories\, New England’s Hidden Histories’ ongoing series on the American Revolution and the Congregational experience. \nSPEAKER BIOS \nDr. Kyle Roberts was appointed the Executive Director of the Congregational Library & Archives in 2022. He received his BA in American Studies from Williams College and his PhD in History from the University of Pennsylvania. Prior to coming to the CLA\, he was Associate Director of Library & Museum Programming at the American Philosophical Society and Associate Professor of Public History and New Media and Director of the Center for Textual Studies and Digital Humanities at Loyola University Chicago. \nA scholar of Atlantic World religion\, print\, and library history\, he is the author of Evangelical Gotham: Religion and the Making of New York City\, 1783-1860 (Chicago\, 2016)\, the co-editor\, with Stephen Schloesser\, of Crossings and Dwellings: Restored Jesuits\, Women Religious\, American Experience 1814-2014 (Brill\, 2017) and\, with Mark Towsey\, of Before the Public Library: Reading\, Community\, and Identity in the Atlantic World\, 1650-1850 (Brill\, 2017). \nKyle is an accomplished public historian and digital humanist whose collaborative projects include the Jesuit Libraries Provenance Project\, the Maryland Loyalism Project\, and Dissenting Academies Online: Virtual Library System. In addition to being the consultant for numerous digital and public history projects\, he sits on the executive committees of the American Catholic Historical Association\, the New England Historical Association\, the Urban History Association He is on the editorial and advisory boards for American Catholic Studies\, Early American Studies\, and portal. \nDr. Tricia Peone joined the CLA in 2022 as the Project Director for New England’s Hidden Histories. Prior to joining the CLA\, she was a research scholar at Historic New England for the Recovering New England’s Voices project. She has also previously worked as the public programs director at New Hampshire Humanities\, a university lecturer teaching classes on the Salem witch trials\, early New England\, and public history\, and as a researcher for cultural heritage organizations. She holds a PhD in history from the University of New Hampshire with a specialization in the early modern Atlantic world and history of science.
URL:https://massachusetts250.org/event/congregationalists-and-the-american-revolution-a-virtual-collections-tour/
LOCATION:Online
CATEGORIES:Event,Exhibit,Speakers
ATTACH;FMTTYPE=image/png:https://massachusetts250.org/wp-content/uploads/2024/11/VIRAmRevCTCarousel400.png
ORGANIZER;CN="Congregational Library &amp%3B Archives":MAILTO:programs@14beacon.org
END:VEVENT
BEGIN:VEVENT
DTSTART;TZID=America/New_York:20241205T190000
DTEND;TZID=America/New_York:20241205T203000
DTSTAMP:20260424T115734
CREATED:20241009T173713Z
LAST-MODIFIED:20241121T213030Z
UID:10000264-1733425200-1733430600@massachusetts250.org
SUMMARY:Native Americans in So. New England and the Revolution with Daniel Mandell
DESCRIPTION:Native people remained in distinct communities during Revolutionary times. They sought to secure their rights\, although in vastly diverse ways. \nOver a 30- year career\, Professor Daniel Mandell has produced a body of work that tells the story of New England Native Americans from the time of first European contact through the formation of the United States and its expansion. He will discuss their experiences during the upheavals of the American Revolutionary period. \nThursday\, Dec. 5\, 7-8:30 PM \nRoom 204\, Acton Town Hall \n  \nEvent Website: https://www.actonma.gov/250
URL:https://massachusetts250.org/event/native-americans-in-so-new-england-and-the-revolution-with-daniel-mandell/
LOCATION:Acton Town Hall\, Main Street 472\, Acton\, MA\, 01720\, United States
CATEGORIES:Event,Speakers
GEO:42.4861378;-71.4335711
X-APPLE-STRUCTURED-LOCATION;VALUE=URI;X-ADDRESS=Acton Town Hall Main Street 472 Acton MA 01720 United States;X-APPLE-RADIUS=500;X-TITLE=Main Street 472:geo:-71.4335711,42.4861378
END:VEVENT
BEGIN:VEVENT
DTSTART;TZID=America/New_York:20241206T180000
DTEND;TZID=America/New_York:20241206T190000
DTSTAMP:20260424T115734
CREATED:20241107T164059Z
LAST-MODIFIED:20241121T213529Z
UID:10000284-1733508000-1733511600@massachusetts250.org
SUMMARY:Old Taverns in 18th Century Andover: Headquarters for sleeping\, politicking and entertainment
DESCRIPTION:A talk by Joann Michalik \nIf you missed our 18th century tavern night in April\, here’s your chance to experience it . . . with a holiday twist. The introduction of stage coaches along major roadways leads to taverns as inns\, houses of entertainment and political headquarters. Learn about the role of rum in the American Revolution and hear about a certain Mr. Washington who comes to Andover. ​See beakers\, mugs and bowls from the era. Try a taste of a special 18th century Christmas drink! \n  \nEvent Website: https://andoverhistoryandculture.org/revolution-250
URL:https://massachusetts250.org/event/old-taverns-in-18th-century-andover-headquarters-for-sleeping-politicking-and-entertainment/
LOCATION:Andover Center for History and Culture\, 97 Main Street\, Andover\, MA\, 01810\, United States
CATEGORIES:Culinary,Event,Speakers
ATTACH;FMTTYPE=image/jpeg:https://massachusetts250.org/wp-content/uploads/2024/11/political-cartoon-2.jpg
ORGANIZER;CN="Andover Center for History and Culture":MAILTO:info@andoverhistoryandculture.org
GEO:42.653486;-71.1389732
X-APPLE-STRUCTURED-LOCATION;VALUE=URI;X-ADDRESS=Andover Center for History and Culture 97 Main Street Andover MA 01810 United States;X-APPLE-RADIUS=500;X-TITLE=97 Main Street:geo:-71.1389732,42.653486
END:VEVENT
BEGIN:VEVENT
DTSTART;TZID=America/New_York:20241211T190000
DTEND;TZID=America/New_York:20241211T203000
DTSTAMP:20260424T115734
CREATED:20241111T171329Z
LAST-MODIFIED:20241121T213932Z
UID:10000285-1733943600-1733949000@massachusetts250.org
SUMMARY:Uncovering Our Angels: Paint Restoration at Old North Church
DESCRIPTION:A once-in-a-lifetime paint restoration project is currently underway at the Old North Church in Boston! Expert conservators are painstakingly removing layers of white overpaint to reveal some of the church’s colonial-era artwork. By the spring of 2025\, the team will uncover 16 angels in the balcony arches that were painted in the late 1720s and 1730s by congregation member John Gibbs. Thousands of visitors are flocking to Old North this fall and winter for a glimpse of the church as Paul Revere saw it. \nIn this online talk\, we are excited to welcome Gianfranco Pocobene\, the lead conservator of the historic paint restoration project at Old North. Gianfranco will discuss the techniques\, tools\, and technology that have allowed his team to penetrate layers of white overpaint to reveal the beautiful artwork hidden underneath. He will share photos of the newly revealed angels\, discuss theories as to how the angels were painted in the 1700s and why they were painted over\, and answer your questions about the project. \n  \nEvent Website: https://www.eventbrite.com/e/uncovering-our-angels-paint-restoration-at-old-north-church-tickets-1074980077349
URL:https://massachusetts250.org/event/uncovering-our-angels-paint-restoration-at-old-north-church/
LOCATION:Online
CATEGORIES:Event,Speakers
ATTACH;FMTTYPE=image/png:https://massachusetts250.org/wp-content/uploads/2024/11/Uncovering-Our-Angels.-Paint-Resotration.png
END:VEVENT
END:VCALENDAR