BEGIN:VCALENDAR
VERSION:2.0
PRODID:-//MA250 - ECPv6.5.1.5//NONSGML v1.0//EN
CALSCALE:GREGORIAN
METHOD:PUBLISH
X-WR-CALNAME:MA250
X-ORIGINAL-URL:https://massachusetts250.org
X-WR-CALDESC:Events for MA250
REFRESH-INTERVAL;VALUE=DURATION:PT1H
X-Robots-Tag:noindex
X-PUBLISHED-TTL:PT1H
BEGIN:VTIMEZONE
TZID:America/New_York
BEGIN:DAYLIGHT
TZOFFSETFROM:-0500
TZOFFSETTO:-0400
TZNAME:EDT
DTSTART:20240310T070000
END:DAYLIGHT
BEGIN:STANDARD
TZOFFSETFROM:-0400
TZOFFSETTO:-0500
TZNAME:EST
DTSTART:20241103T060000
END:STANDARD
END:VTIMEZONE
BEGIN:VEVENT
DTSTART;TZID=America/New_York:20241002T190000
DTEND;TZID=America/New_York:20241002T200000
DTSTAMP:20260424T143028
CREATED:20240805T203332Z
LAST-MODIFIED:20240805T203332Z
UID:10000134-1727895600-1727899200@massachusetts250.org
SUMMARY:Making the Presidency: John Adams and the Precedents that Forged the Republic
DESCRIPTION:Renowned presidential historian and Executive Director of the George Washington Presidential Library at Mount Vernon\, Dr. Lindsay M. Chervinsky\, joins us for a conversation on John Adams’ five year-battle to defend the presidency. 1797 wasn’t too different from 2024\, with pandemics\, battles over immigration and citizenship\, legislation to limit free speech\, foreign interference in national elections\, and contested election results. Dr. Chervinsky’s new book Making the Presidency is the authoritative account of the second president that shows how John Adams’ leadership and legacy defined the office and ensured the survival of the American republic. The ideas and legacy of John Adams’ presidency are ever resonant amid this pivotal election year. \nFree for Members | $10 Non-Members | Free Virtual \n 
URL:https://massachusetts250.org/event/making-the-presidency-john-adams-and-the-precedents-that-forged-the-republic/
LOCATION:Concord Museum\, 53 Cambridge Turnpike\, Concord\, MA\, 01742\, United States
CATEGORIES:Event,Speakers
GEO:42.457529;-71.3417985
X-APPLE-STRUCTURED-LOCATION;VALUE=URI;X-ADDRESS=Concord Museum 53 Cambridge Turnpike Concord MA 01742 United States;X-APPLE-RADIUS=500;X-TITLE=53 Cambridge Turnpike:geo:-71.3417985,42.457529
END:VEVENT
BEGIN:VEVENT
DTSTART;TZID=America/New_York:20241011T093000
DTEND;TZID=America/New_York:20241011T163000
DTSTAMP:20260424T143028
CREATED:20240829T205756Z
LAST-MODIFIED:20240829T205756Z
UID:10000155-1728639000-1728664200@massachusetts250.org
SUMMARY:The 250th Anniversary of the First Massachusetts Provincial Congress
DESCRIPTION:The 2024 Massachusetts Provincial Congress\n“Exploring Democracy – Our Rights and Our Responsibilities”\nOctober 11\, 2024\n9:30am – 4:30pm\nFirst Parish in Concord and The Wright Tavern\n*Register here to attend* \nIn October 1774\, the political conflict between Great Britain and Massachusetts reached a crisis. Parliament enacted the “Intolerable Acts” to punish the province for the Tea Party\, and they revoked the charter of 1691 by which the popularly elected House of Representatives joined with the Council and Crown-appointed Governor to rule the Bay Colony. In the ensuing furor\, county conventions protested the changes; crowds closed courts\, Patriots took over county militias\, and encouraged towns to resist the new regime of the General Court. Royal Governor Thomas Gage called the Court to meet in Salem\, but the Assembly never convened. \nAlthough Gage canceled the session\, the representatives decided to meet behind closed and locked doors and reorganize as the Massachusetts Provincial Congress. Its first session opened a week later\, on October 11th\, in Concord\, safe from the control of British authorities. The gathering was a landmark in the history of self-government. The Congress set the colony on a collision course with Britain and an eventual road to independence. Even as it proclaimed loyalty to the Crown\, the Congress mobilized the province in a struggle to reclaim the rights and liberties Massachusetts had enjoyed. Without declaring independence\, the popularly elected body seized the reins of power\, charted a new future for Massachusetts\, and set a model of self-government. \nOctober 11\, 2024\, marks the 250th Anniversary of the Massachusetts Provincial Congress. To commemorate this occasion and honor our forebearers\, the Wright Tavern Legacy Trust is sponsoring a gathering in Concord’s First Parish Meetinghouse and the Wright Tavern next door\, where the delegates to the Congress met. This will be a day-long\, engaging program. With noted historians to guide us\, we will return to this crucial moment in the history of the American Revolution and ask what we can learn from the past. With state legislators joining us\, we will examine the state of democratic governance in Massachusetts and the United States today. And\, with students and teachers from Massachusetts schools\, we will collaboratively explore the future of democracy. Come join us for this remarkable day. \nREGISTER for this historic event!
URL:https://massachusetts250.org/event/the-250th-anniversary-of-the-first-massachusetts-provincial-congress/
LOCATION:Wright Tavern Center\, 2 Lexington Road\, Concord\, MA\, 01742\, United States
CATEGORIES:Commemoration,Event,Reenactment,Speakers
ATTACH;FMTTYPE=image/jpeg:https://massachusetts250.org/wp-content/uploads/2024/08/firstparishconcord-scaled-1.jpg
GEO:42.460123;-71.3487344
X-APPLE-STRUCTURED-LOCATION;VALUE=URI;X-ADDRESS=Wright Tavern Center 2 Lexington Road Concord MA 01742 United States;X-APPLE-RADIUS=500;X-TITLE=2 Lexington Road:geo:-71.3487344,42.460123
END:VEVENT
BEGIN:VEVENT
DTSTART;TZID=America/New_York:20241023T190000
DTEND;TZID=America/New_York:20241023T203000
DTSTAMP:20260424T143028
CREATED:20241009T173940Z
LAST-MODIFIED:20241009T173940Z
UID:10000268-1729710000-1729715400@massachusetts250.org
SUMMARY:Acton and Concord’s Roads to Revolution with Robert Gross
DESCRIPTION:The renowned author of the classic “The Minutemen and their World” will share the unique conflicts and changes Acton and Concord citizens experienced in their economic and social lives that led up to dramatic events of 250 years ago. \nWednesday\, Oct. 23\, 7-8:30 PM \nRoom 204\, Acton Town Hall \nhttps://www.actonma.gov/250
URL:https://massachusetts250.org/event/acton-and-concords-roads-to-revolution-with-robert-gross/
LOCATION:Acton Town Hall\, Main Street 472\, Acton\, MA\, 01720\, United States
CATEGORIES:Event,Speakers
GEO:42.4861378;-71.4335711
X-APPLE-STRUCTURED-LOCATION;VALUE=URI;X-ADDRESS=Acton Town Hall Main Street 472 Acton MA 01720 United States;X-APPLE-RADIUS=500;X-TITLE=Main Street 472:geo:-71.4335711,42.4861378
END:VEVENT
END:VCALENDAR