BEGIN:VCALENDAR
VERSION:2.0
PRODID:-//MA250 - ECPv6.5.1.5//NONSGML v1.0//EN
CALSCALE:GREGORIAN
METHOD:PUBLISH
X-WR-CALNAME:MA250
X-ORIGINAL-URL:https://massachusetts250.org
X-WR-CALDESC:Events for MA250
REFRESH-INTERVAL;VALUE=DURATION:PT1H
X-Robots-Tag:noindex
X-PUBLISHED-TTL:PT1H
BEGIN:VTIMEZONE
TZID:America/New_York
BEGIN:DAYLIGHT
TZOFFSETFROM:-0500
TZOFFSETTO:-0400
TZNAME:EDT
DTSTART:20260308T070000
END:DAYLIGHT
BEGIN:STANDARD
TZOFFSETFROM:-0400
TZOFFSETTO:-0500
TZNAME:EST
DTSTART:20261101T060000
END:STANDARD
END:VTIMEZONE
BEGIN:VEVENT
DTSTART;VALUE=DATE:20260524
DTEND;VALUE=DATE:20260628
DTSTAMP:20260421T103526
CREATED:20260407T162926Z
LAST-MODIFIED:20260407T162926Z
UID:10007336-1779580800-1782604799@massachusetts250.org
SUMMARY:Brewing the Revolution: Bay State Scavenger
DESCRIPTION:To honor this revolutionary history\, we are crafting a free historic statewide event\, titled “Brewing the Revolution.” This scavenger hunt will bring participants to historic Revolutionary taverns and brewing sites across the state. The Scavenger hunt will take place from May 24th-June 27th\, 2026 and is open to everyone ages 13 and up\, free to play\, and participants can win a variety of prizes.
URL:https://massachusetts250.org/event/brewing-the-revolution-bay-state-scavenger/2026-05-24/
LOCATION:Memorial Hall Museum\, Memorial Street 8\, Deerfield\, MA\, 01342\, United States
CATEGORIES:Commemoration,Event,Outdoors
ATTACH;FMTTYPE=image/jpeg:https://massachusetts250.org/wp-content/uploads/2026/04/Beer-Logo-Scavenger-Hunt.jpg
ORGANIZER;CN="Memorial Hall Museum":MAILTO:mhm@deerfieldmuseum.org
GEO:42.5435076;-72.6026671
X-APPLE-STRUCTURED-LOCATION;VALUE=URI;X-ADDRESS=Memorial Hall Museum Memorial Street 8 Deerfield MA 01342 United States;X-APPLE-RADIUS=500;X-TITLE=Memorial Street 8:geo:-72.6026671,42.5435076
END:VEVENT
BEGIN:VEVENT
DTSTART;VALUE=DATE:20260525
DTEND;VALUE=DATE:20260629
DTSTAMP:20260421T103526
CREATED:20260407T162926Z
LAST-MODIFIED:20260407T162926Z
UID:10007337-1779667200-1782691199@massachusetts250.org
SUMMARY:Brewing the Revolution: Bay State Scavenger
DESCRIPTION:To honor this revolutionary history\, we are crafting a free historic statewide event\, titled “Brewing the Revolution.” This scavenger hunt will bring participants to historic Revolutionary taverns and brewing sites across the state. The Scavenger hunt will take place from May 24th-June 27th\, 2026 and is open to everyone ages 13 and up\, free to play\, and participants can win a variety of prizes.
URL:https://massachusetts250.org/event/brewing-the-revolution-bay-state-scavenger/2026-05-25/
LOCATION:Memorial Hall Museum\, Memorial Street 8\, Deerfield\, MA\, 01342\, United States
CATEGORIES:Commemoration,Event,Outdoors
ATTACH;FMTTYPE=image/jpeg:https://massachusetts250.org/wp-content/uploads/2026/04/Beer-Logo-Scavenger-Hunt.jpg
ORGANIZER;CN="Memorial Hall Museum":MAILTO:mhm@deerfieldmuseum.org
GEO:42.5435076;-72.6026671
X-APPLE-STRUCTURED-LOCATION;VALUE=URI;X-ADDRESS=Memorial Hall Museum Memorial Street 8 Deerfield MA 01342 United States;X-APPLE-RADIUS=500;X-TITLE=Memorial Street 8:geo:-72.6026671,42.5435076
END:VEVENT
BEGIN:VEVENT
DTSTART;TZID=America/New_York:20260525T120000
DTEND;TZID=America/New_York:20260525T140000
DTSTAMP:20260421T103526
CREATED:20260213T155106Z
LAST-MODIFIED:20260213T155106Z
UID:10004541-1779710400-1779717600@massachusetts250.org
SUMMARY:AudaTours Stoneham Audio Tour: Timeless Tales of Historic Pride and Heritage
DESCRIPTION:In Stoneham\, the shadows of colonial fires and twentieth-century neon flicker side by side. Few realize how many secrets linger behind these iconic facades. \nThis self-guided audio tour leads straight through the city’s untold stories. Encounter corners and chapters that even locals walk past\, and let carefully crafted tales reveal what hides beneath the ordinary. \nWhy did a quiet night at the Bernard Cogan House erupt into controversy that changed a neighborhood? Who vanished beneath the glowing beacon of Stoneham’s eerily beautiful gas station? What explains the perfectly preserved pencil marks under the Warren Sweetser House staircase? \nMove between centuries as you cross storied main streets and hidden lanes. Each step peels back another layer of rebellion\, ambition\, and intrigue\, letting Stoneham rise up around you as never before. \nTap play and see how deep Stoneham’s shadows can stretch. The secrets are waiting.
URL:https://massachusetts250.org/event/audatours-stoneham-audio-tour-timeless-tales-of-historic-pride-and-heritage/2026-05-25/
LOCATION:Nobility Hill Historic District\, Stoneham\, Massachusetts\, 02180\, United States
CATEGORIES:Outdoors
ATTACH;FMTTYPE=image/jpeg:https://massachusetts250.org/wp-content/uploads/2026/02/potential-tours_p-14322-0_actionShot_image_1536.jpeg
ORGANIZER;CN="AudaTours":MAILTO:hi@audatours.com
GEO:42.4766331;-71.0913748
END:VEVENT
END:VCALENDAR