BEGIN:VCALENDAR
VERSION:2.0
PRODID:-//MA250 - ECPv6.5.1.5//NONSGML v1.0//EN
CALSCALE:GREGORIAN
METHOD:PUBLISH
X-ORIGINAL-URL:https://massachusetts250.org
X-WR-CALDESC:Events for MA250
REFRESH-INTERVAL;VALUE=DURATION:PT1H
X-Robots-Tag:noindex
X-PUBLISHED-TTL:PT1H
BEGIN:VTIMEZONE
TZID:America/New_York
BEGIN:DAYLIGHT
TZOFFSETFROM:-0500
TZOFFSETTO:-0400
TZNAME:EDT
DTSTART:20250309T070000
END:DAYLIGHT
BEGIN:STANDARD
TZOFFSETFROM:-0400
TZOFFSETTO:-0500
TZNAME:EST
DTSTART:20251102T060000
END:STANDARD
END:VTIMEZONE
BEGIN:VEVENT
DTSTART;TZID=America/New_York:20250414T090000
DTEND;TZID=America/New_York:20250614T210000
DTSTAMP:20260421T084657
CREATED:20250415T133055Z
LAST-MODIFIED:20250415T133055Z
UID:10001363-1744621200-1749934800@massachusetts250.org
SUMMARY:Concord250: Weaving an Address
DESCRIPTION:Exhibition: April 14 – June 14\, 2025\nOpening Reception April 14\, 6 p.m. \nThe Umbrella Arts Center in historic Concord Center will commemorate the semiquincentennial of the American Revolution and “the shot heard round the world” with an ambitious outdoor/indoor public and gallery art exhibition\, Weaving an Address\, curated by artist Marla McLeod. \nFor the first time\, Weaving an Address combines The Umbrella’s popular Art Ramble public art installation\, on view April 15 through October 7 at Brister’s Hill in nearby Walden Woods\, with an indoor exhibition (on view April 14 through June 14) in The Umbrella’s Allie Kussin Gallery. The exhibition features site-specific work by eight prominent Black artists combining sculpture\, fiber art\, installation and live performance inspired by little-known experiences of historical Black inhabitants of Concord and its Walden Woods. \nFeatured artists in the exhibition are Sharon Chandler Correnty\, Ifé Franklin\, Stephen Hamilton\, Whitney Harris\, Ekua Holmes\, Perla Mabel\, Marla McLeod\, Kimberly Love Radcliffe\, and Anthony Peyton Young. \nOutdoors\, large-scale work will be installed on Brister’s Hill\, named for Brister Freeman\, an enslaved man who won his freedom by serving in the Revolutionary War and then bought the property and lived there along with other formerly enslaved.Indoors at The Umbrella\, inter-related fiber artworks will weave narratives from fragmented pasts to offer a vision of how history shapes the present and influences the future. \nSupporting community activities include an opening reception on April 14\, monthly curator talks\, a processional with artist Ifé Franklin\, and participation in the town-wide Revolutionary Concordians Trading Card program. \nThis exhibition is presented as part of the Concord250 commemoration\, in partnership with The Walden Woods Project and The Robbins House\, in association with Gather 2025\, a month-long exploration and celebration of fiber and textile art in Greater Boston\, and with permission of Concord Natural Resources Division. \nSee https://TheUmbrellaArts.org/Weaving for more information about special engagements\, wayfinding\, artist bios\, and background to the exhibition.
URL:https://massachusetts250.org/event/concord250-weaving-an-address/
LOCATION:The Umbrella Arts Center\, Stow Street 40\, Concord\, MA\, 01742\, United States
CATEGORIES:Black History,Commemoration,Event,Exhibit,Outdoors
ATTACH;FMTTYPE=image/jpeg:https://massachusetts250.org/wp-content/uploads/2025/04/Weaving-Address-Opening.jpg
ORGANIZER;CN="The Umbrella Arts Center":MAILTO:info@theumbrellaarts.org
GEO:42.4575079;-71.3525233
X-APPLE-STRUCTURED-LOCATION;VALUE=URI;X-ADDRESS=The Umbrella Arts Center Stow Street 40 Concord MA 01742 United States;X-APPLE-RADIUS=500;X-TITLE=Stow Street 40:geo:-71.3525233,42.4575079
END:VEVENT
BEGIN:VEVENT
DTSTART;TZID=America/New_York:20250420T070000
DTEND;TZID=America/New_York:20250420T170000
DTSTAMP:20260421T084657
CREATED:20250304T185502Z
LAST-MODIFIED:20250304T185502Z
UID:10001055-1745132400-1745168400@massachusetts250.org
SUMMARY:13th Annual Tough Ruck Marathon
DESCRIPTION:On Sunday\, April 20\, 2025\, 1\,000 military personnel\, first responders\, and civilians from across the country will gather before dawn to honor their fallen comrades as part of the 2025 Tough Ruck held in partnership with the Boston Athletic Association (B.A.A.) and the Boston Marathon. Participants will “ruck” 26.2 miles along the paths of the Revolutionary War\, many in full military gear\, including their rucksacks that weigh as much as 35 pounds on their backs. Tough Ruck raises funds for the Military Friends Foundation\, a nonprofit that supports local service members and families of the fallen in times of need. The B.A.A. awards each Tough Ruck finisher an official Boston Marathon medallion. Finish line festivities include food vendors and kid-friendly activities. More information about the event is available at www.toughruck.org. \nSchedule:\n• 6:55 AM – Opening ceremonies with senior military personnel\, Families of the fallen military\, and first responders\n• 7:30 AM – Ruckers step off on the 26.2-mile certified course\n• 12:30-4 PM – Awarding of the official Boston Marathon medals to Tough Ruckers finishers
URL:https://massachusetts250.org/event/13th-annual-tough-ruck-marathon/
LOCATION:The Fenn School\, Monument Street 516\, Concord\, NC\, 01742\, United States
CATEGORIES:Event,Outdoors
ATTACH;FMTTYPE=image/png:https://massachusetts250.org/wp-content/uploads/2025/03/toughrucklogo-2025.png
GEO:42.4746533;-71.3499174
X-APPLE-STRUCTURED-LOCATION;VALUE=URI;X-ADDRESS=The Fenn School Monument Street 516 Concord NC 01742 United States;X-APPLE-RADIUS=500;X-TITLE=Monument Street 516:geo:-71.3499174,42.4746533
END:VEVENT
BEGIN:VEVENT
DTSTART;TZID=America/New_York:20250420T140000
DTEND;TZID=America/New_York:20250420T170000
DTSTAMP:20260421T084657
CREATED:20241223T180437Z
LAST-MODIFIED:20250402T163915Z
UID:10000301-1745157600-1745168400@massachusetts250.org
SUMMARY:Arlington250: Battle of Menotomy 250th Reenactment
DESCRIPTION:At 2pm on Sunday\, April 20th\, the Town of Arlington will be joined by the Menotomy Minuteman and participants from many historical reenactment groups to reenact the Battle of Menotomy. Beginning at Mass Ave and Grove Street in Arlington\, this ‘running’ battle will stretch nearly one mile of Mass Ave\, ending at Medford Street. Spectators will watch several significant battle engagements. Spectators are only allowed to watch on the northern side of Mass Ave. \nAbout the Battle of Menotomy:\nThe Battle of Menotomy was the longest and bloodiest engagement of April 19th\, 1775. On that fateful day\, Menotomy (now Arlington) was a crossroads village of about 400 farmers\, millers\, tavern keepers\, and their families. Here 79 companies of minutemen from 16 towns\, 3800 militiamen in all\, surrounded and engaged His Majesty’s troops on their retreat from Concord and Lexington. While adding to the grim statistics of the day (forty royal troops killed\, and 25 colonials lost)\, the Battle of Menotomy was decisive proof (as John Adams would argue to the Continental Congress) that the Crown and its colonies were in a state of war. \nVisit: https://www.visitarlingtonma.org/arlington-250/
URL:https://massachusetts250.org/event/battle-of-menotomy-250th-reenactment-arlington/
LOCATION:Town of Arlington\, MA\, Massachusetts Avenue 730\, Arlington\, MA\, 02476\, United States
CATEGORIES:Commemoration,Event,Outdoors,Reenactment
ATTACH;FMTTYPE=image/jpeg:https://massachusetts250.org/wp-content/uploads/2024/12/Battle-of-Menotomy-Reenactment-2024-Kate-Fox-23-scaled.jpg
GEO:42.4158089;-71.1563816
X-APPLE-STRUCTURED-LOCATION;VALUE=URI;X-ADDRESS=Town of Arlington MA Massachusetts Avenue 730 Arlington MA 02476 United States;X-APPLE-RADIUS=500;X-TITLE=Massachusetts Avenue 730:geo:-71.1563816,42.4158089
END:VEVENT
END:VCALENDAR