BEGIN:VCALENDAR
VERSION:2.0
PRODID:-//MA250 - ECPv6.5.1.5//NONSGML v1.0//EN
CALSCALE:GREGORIAN
METHOD:PUBLISH
X-WR-CALNAME:MA250
X-ORIGINAL-URL:https://massachusetts250.org
X-WR-CALDESC:Events for MA250
REFRESH-INTERVAL;VALUE=DURATION:PT1H
X-Robots-Tag:noindex
X-PUBLISHED-TTL:PT1H
BEGIN:VTIMEZONE
TZID:America/New_York
BEGIN:DAYLIGHT
TZOFFSETFROM:-0500
TZOFFSETTO:-0400
TZNAME:EDT
DTSTART:20250309T070000
END:DAYLIGHT
BEGIN:STANDARD
TZOFFSETFROM:-0400
TZOFFSETTO:-0500
TZNAME:EST
DTSTART:20251102T060000
END:STANDARD
END:VTIMEZONE
BEGIN:VEVENT
DTSTART;TZID=America/New_York:20250414T090000
DTEND;TZID=America/New_York:20250614T210000
DTSTAMP:20260421T070858
CREATED:20250415T133055Z
LAST-MODIFIED:20250415T133055Z
UID:10001363-1744621200-1749934800@massachusetts250.org
SUMMARY:Concord250: Weaving an Address
DESCRIPTION:Exhibition: April 14 – June 14\, 2025\nOpening Reception April 14\, 6 p.m. \nThe Umbrella Arts Center in historic Concord Center will commemorate the semiquincentennial of the American Revolution and “the shot heard round the world” with an ambitious outdoor/indoor public and gallery art exhibition\, Weaving an Address\, curated by artist Marla McLeod. \nFor the first time\, Weaving an Address combines The Umbrella’s popular Art Ramble public art installation\, on view April 15 through October 7 at Brister’s Hill in nearby Walden Woods\, with an indoor exhibition (on view April 14 through June 14) in The Umbrella’s Allie Kussin Gallery. The exhibition features site-specific work by eight prominent Black artists combining sculpture\, fiber art\, installation and live performance inspired by little-known experiences of historical Black inhabitants of Concord and its Walden Woods. \nFeatured artists in the exhibition are Sharon Chandler Correnty\, Ifé Franklin\, Stephen Hamilton\, Whitney Harris\, Ekua Holmes\, Perla Mabel\, Marla McLeod\, Kimberly Love Radcliffe\, and Anthony Peyton Young. \nOutdoors\, large-scale work will be installed on Brister’s Hill\, named for Brister Freeman\, an enslaved man who won his freedom by serving in the Revolutionary War and then bought the property and lived there along with other formerly enslaved.Indoors at The Umbrella\, inter-related fiber artworks will weave narratives from fragmented pasts to offer a vision of how history shapes the present and influences the future. \nSupporting community activities include an opening reception on April 14\, monthly curator talks\, a processional with artist Ifé Franklin\, and participation in the town-wide Revolutionary Concordians Trading Card program. \nThis exhibition is presented as part of the Concord250 commemoration\, in partnership with The Walden Woods Project and The Robbins House\, in association with Gather 2025\, a month-long exploration and celebration of fiber and textile art in Greater Boston\, and with permission of Concord Natural Resources Division. \nSee https://TheUmbrellaArts.org/Weaving for more information about special engagements\, wayfinding\, artist bios\, and background to the exhibition.
URL:https://massachusetts250.org/event/concord250-weaving-an-address/
LOCATION:The Umbrella Arts Center\, Stow Street 40\, Concord\, MA\, 01742\, United States
CATEGORIES:Black History,Commemoration,Event,Exhibit,Outdoors
ATTACH;FMTTYPE=image/jpeg:https://massachusetts250.org/wp-content/uploads/2025/04/Weaving-Address-Opening.jpg
ORGANIZER;CN="The Umbrella Arts Center":MAILTO:info@theumbrellaarts.org
GEO:42.4575079;-71.3525233
X-APPLE-STRUCTURED-LOCATION;VALUE=URI;X-ADDRESS=The Umbrella Arts Center Stow Street 40 Concord MA 01742 United States;X-APPLE-RADIUS=500;X-TITLE=Stow Street 40:geo:-71.3525233,42.4575079
END:VEVENT
BEGIN:VEVENT
DTSTART;TZID=America/New_York:20250418T100000
DTEND;TZID=America/New_York:20250418T230000
DTSTAMP:20260421T070858
CREATED:20250402T173402Z
LAST-MODIFIED:20250407T180927Z
UID:10001266-1744970400-1745017200@massachusetts250.org
SUMMARY:Paul Revere’s Ride Reenactment
DESCRIPTION:Lexington was preparing for battle long before British soldiers arrived on April 19th\, 1775. The day before\, Paul Revere and William Dawes\, fellow Sons of Liberty\, rode hard from Boston\, arriving in town just before midnight. Their destination: the home of Reverend Jonas Clarke\, cousin to patriot leader John Hancock. Their mission: To warn John Hancock and Samuel Adams of the impending British raid. Their arrival would start the chain of events leading to armed rebellion on Lexington Green at dawn the next day.
URL:https://massachusetts250.org/event/paul-reveres-ride-reenactment/
LOCATION:Hancock-Clarke House\, 36 Hancock Street\, Lexington\, 02420\, United States
CATEGORIES:Anniversary,Celebration,Commemoration,Event,Memorial,Outdoors,Reenactment
ATTACH;FMTTYPE=image/png:https://massachusetts250.org/wp-content/uploads/2025/04/revere.png
ORGANIZER;CN="Lexington History Museums":MAILTO:lex250@jgrp.net
GEO:42.4536374;-71.2285386
X-APPLE-STRUCTURED-LOCATION;VALUE=URI;X-ADDRESS=Hancock-Clarke House 36 Hancock Street Lexington 02420 United States;X-APPLE-RADIUS=500;X-TITLE=36 Hancock Street:geo:-71.2285386,42.4536374
END:VEVENT
BEGIN:VEVENT
DTSTART;TZID=America/New_York:20250418T150000
DTEND;TZID=America/New_York:20250418T180000
DTSTAMP:20260421T070858
CREATED:20250106T172017Z
LAST-MODIFIED:20250106T172017Z
UID:10000314-1744988400-1744999200@massachusetts250.org
SUMMARY:Midnight Ride Special Anniversary Walking Tour
DESCRIPTION:Join Hub Town Tours for a special commemoration of the Midnight Ride of Paul Revere that began on April 18\, 1775. We will travel the iconic Freedom Trail through Downtown Boston and explore the gripping story of a small colonial town careening toward war with the British Empire. This historic walking tour highlights Boston’s principal role in the outbreak of the American Revolution and will conclude in time for guests to enjoy commemorative activities at historic sites including the Paul Revere House and Old North Church.
URL:https://massachusetts250.org/event/midnight-ride-special-anniversary-walking-tour/
LOCATION:Massachusetts
CATEGORIES:Anniversary,Commemoration,Event,Outdoors
ATTACH;FMTTYPE=image/jpeg:https://massachusetts250.org/wp-content/uploads/2025/01/Paul_Revere_Statue_Old_North_Church-2-scaled.jpeg
ORGANIZER;CN="Hub Town Tours":MAILTO:help@hubtowntours.com
END:VEVENT
BEGIN:VEVENT
DTSTART;TZID=America/New_York:20250418T170000
DTEND;TZID=America/New_York:20250418T180000
DTSTAMP:20260421T070858
CREATED:20250410T171501Z
LAST-MODIFIED:20250410T190834Z
UID:10001358-1744995600-1744999200@massachusetts250.org
SUMMARY:Robbins Ride\, Acton Massachusetts
DESCRIPTION:Samuel Prescott\, it is thought\, arrived in Acton\, after alarming and leaving Concord\, where he awoke Captain Joseph Robbins\, one of Acton’s militia leaders\, at about 3 in the morning of the 19th. Upon hearing the news\, Captain Robbins had his 13-year-old son saddle up their horse\, whereupon the young boy took off with (or probably without) Prescott across town to alarm Captain Isaac Davis of the Acton Minutemen\, and Francis Faulkner and Deacon Hunt\, of Acton’s other militia unit. \nWe commemorate this heroic deed today as Robbins’ Ride\, and for the purposes of safety and practicality\, we combine the riders into one or two adult rider(s)\, but the rider still makes the rounds to all 4 stops that were alarmed on that fateful early morning in April of 1775\, calling out “The Regulars are out of Boston – gather your units and head to Concord!” \nWe begin at 5PM FRIDAY APRIL 18: \nRobbin’s House site\, Concord Rd\nIsaac Davis House Hayward Rd\,\nFaulkner House\, High Street\,\nLiberty Tree Farm\, Liberty Street. \nOnlookers and public visitors are asked to detour around horse and rider with police escort and use an alternate route to the three locations after the start of the event and allow Minutemen priority in their vehicles first\, from each location.
URL:https://massachusetts250.org/event/robbins-ride-acton-massachusetts/
LOCATION:Acton\, Ma\, Concord Road\, Acton\, MA\, 01720\, United States
CATEGORIES:Commemoration,Event,Outdoors,Reenactment
ATTACH;FMTTYPE=image/jpeg:https://massachusetts250.org/wp-content/uploads/2025/04/DSC_0619-349x223-1.jpg
ORGANIZER;CN="Acton Minutemen":MAILTO:actonminutemen@gmail.com
GEO:42.4805409;-71.4274939
X-APPLE-STRUCTURED-LOCATION;VALUE=URI;X-ADDRESS=Acton Ma Concord Road Acton MA 01720 United States;X-APPLE-RADIUS=500;X-TITLE=Concord Road:geo:-71.4274939,42.4805409
END:VEVENT
BEGIN:VEVENT
DTSTART;TZID=America/New_York:20250418T183000
DTEND;TZID=America/New_York:20250418T193000
DTSTAMP:20260421T070858
CREATED:20250320T182437Z
LAST-MODIFIED:20250324T203459Z
UID:10001123-1745001000-1745004600@massachusetts250.org
SUMMARY:Burying Ground Tour 1: Old Hill and Newburyport's Road to Revolution
DESCRIPTION:Join Ghlee Woodworth and Bethany Groff Dorau for a fascinating journey through history as we explore the Old Hill Burying Ground. Discover the stories of the men and women who played a vital role in the Revolutionary War. \nDon’t miss this opportunity to connect with the past and uncover the secrets buried in this historic site. \nImportant: Please wear comfortable shoes and bring water. The tour involves walking on uneven terrain. \nFunded\, in part\, by the Massachusetts Office of Travel & Tourism
URL:https://massachusetts250.org/event/burying-ground-tour-1-old-hill-and-newburyports-road-to-revolution/
LOCATION:Old Hill Burying Ground\, Greenleaf Street 25\, Newburyport\, Massachusetts\, 01950\, United States
CATEGORIES:Commemoration,Event,Outdoors
ATTACH;FMTTYPE=image/jpeg:https://massachusetts250.org/wp-content/uploads/2025/03/Old-Hill-Headstone.jpg
ORGANIZER;CN="Museum of Old Newbury":MAILTO:info@newburyhistory.org
GEO:42.8068687;-70.8750636
X-APPLE-STRUCTURED-LOCATION;VALUE=URI;X-ADDRESS=Old Hill Burying Ground Greenleaf Street 25 Newburyport Massachusetts 01950 United States;X-APPLE-RADIUS=500;X-TITLE=Greenleaf Street 25:geo:-70.8750636,42.8068687
END:VEVENT
BEGIN:VEVENT
DTSTART;TZID=America/New_York:20250418T183000
DTEND;TZID=America/New_York:20250418T200000
DTSTAMP:20260421T070858
CREATED:20250310T161855Z
LAST-MODIFIED:20250310T161855Z
UID:10001085-1745001000-1745006400@massachusetts250.org
SUMMARY:Revolution’s Edge: Costumed Reading of the Hit Play
DESCRIPTION:To kick off Boston’s Patriots’ Day weekend celebrations in partnership with the City of Boston\, Old North Illuminated will stage a free reading of the hit play Revolution’s Edge behind Old North Church on Paul Revere Mall. Mayor Michelle Wu and other local officials will attend the play and give remarks to commemorate this historic anniversary. Written by Patrick Gabridge and produced by Plays in Place\, Revolution’s Edge is a gripping 45-minute historical drama that ran at Old North Church in the summers of 2023 and 2024. Guests will be greeted with live music before brief speaking remarks welcome the crowd and introduce the 45-minute costumed read of the play. Old North’s lanterns will light up soon after the play’s conclusion\, at the beginning of the reenactment of Revere’s row across the Charles River.
URL:https://massachusetts250.org/event/revolutions-edge-costumed-reading-of-the-hit-play/
LOCATION:Paul Revere Mall\, Unity Street 21\, Boston\, Massachusetts\, 02113\, United States
CATEGORIES:Anniversary,Commemoration,Drama,Event,Outdoors
ATTACH;FMTTYPE=image/png:https://massachusetts250.org/wp-content/uploads/2025/03/Revolutions-Edge-2025-copy.png
GEO:42.3660536;-71.0542687
X-APPLE-STRUCTURED-LOCATION;VALUE=URI;X-ADDRESS=Paul Revere Mall Unity Street 21 Boston Massachusetts 02113 United States;X-APPLE-RADIUS=500;X-TITLE=Unity Street 21:geo:-71.0542687,42.3660536
END:VEVENT
END:VCALENDAR