BEGIN:VCALENDAR
VERSION:2.0
PRODID:-//MA250 - ECPv6.5.1.5//NONSGML v1.0//EN
CALSCALE:GREGORIAN
METHOD:PUBLISH
X-WR-CALNAME:MA250
X-ORIGINAL-URL:https://massachusetts250.org
X-WR-CALDESC:Events for MA250
REFRESH-INTERVAL;VALUE=DURATION:PT1H
X-Robots-Tag:noindex
X-PUBLISHED-TTL:PT1H
BEGIN:VTIMEZONE
TZID:America/New_York
BEGIN:DAYLIGHT
TZOFFSETFROM:-0500
TZOFFSETTO:-0400
TZNAME:EDT
DTSTART:20250309T070000
END:DAYLIGHT
BEGIN:STANDARD
TZOFFSETFROM:-0400
TZOFFSETTO:-0500
TZNAME:EST
DTSTART:20251102T060000
END:STANDARD
END:VTIMEZONE
BEGIN:VEVENT
DTSTART;TZID=America/New_York:20250412T100000
DTEND;TZID=America/New_York:20250412T123000
DTSTAMP:20260421T070858
CREATED:20250320T182315Z
LAST-MODIFIED:20250324T201932Z
UID:10001136-1744452000-1744461000@massachusetts250.org
SUMMARY:Pole Capping Day - Colonial Reenactment of a Call to Patriots in Bedford
DESCRIPTION:Join the Bedford Minuteman Company and Minuteman Companies from the area as they converge on Willson Park in Bedford to commemorate the spirit and courage of the patriots who sparked the American Revolution. Pole Capping Day is considered the start of the Patriots Day celebration in the region. \nThe Liberty Pole Capping and Raising is a reenactment of a practice in Colonial America signifying dissatisfaction with varied rulings and conduct of the English government of that date. It is meant to be commemorative of the spirit of liberty exemplified by Bedfordians and other colonials in the early phases of the War for Independence. \nThis ceremony features a march\, displays of musketry\, and music of the period performed by the men and women of the many Minuteman Companies that come to participate. But the main event – which draws not only spectators\, but also the soldiers of His Majesty’s 10th Regiment of Foot\, intent on stopping the defiant rabble-rousing – is the raising of a tall wooden pole\, which is climbed by a Bedford Minuteman and affixed with a red knitted cap. \nAlong with the event\, there is a traditional Pancake breakfast and other activities to help kick off a Patriots Day celebration to remember.
URL:https://massachusetts250.org/event/pole-capping-day-colonial-reenactment-of-a-call-to-patriots-in-bedford/
LOCATION:Town of Bedford\, Mudge Way 10\, Bedford\, Massachusetts\, 01730\, United States
CATEGORIES:Celebration,Event,Outdoors,Parades,Reenactment
ATTACH;FMTTYPE=image/jpeg:https://massachusetts250.org/wp-content/uploads/2025/03/Pole-Capping-March-1544-600.jpg
ORGANIZER;CN="Bedford Minutemen":MAILTO:info@bedfordminutemen.org
GEO:42.491704;-71.2817566
X-APPLE-STRUCTURED-LOCATION;VALUE=URI;X-ADDRESS=Town of Bedford Mudge Way 10 Bedford Massachusetts 01730 United States;X-APPLE-RADIUS=500;X-TITLE=Mudge Way 10:geo:-71.2817566,42.491704
END:VEVENT
BEGIN:VEVENT
DTSTART;TZID=America/New_York:20250412T110000
DTEND;TZID=America/New_York:20250412T120000
DTSTAMP:20260421T070858
CREATED:20250310T181315Z
LAST-MODIFIED:20250310T181315Z
UID:10001015-1744455600-1744459200@massachusetts250.org
SUMMARY:Walking Tour: Explore Revolutionary Hingham
DESCRIPTION:Huzzah! Celebrate the 250th anniversary of the “shot heard ’round the world” with a revolutionary tour. In this 55-minute guided walk\, you’ll see surviving homes from the 1700s and discover how ordinary Hinghamites survived the tumultuous years before\, during\, and after the American Revolution. This tour is perfect for history lovers of all ages!
URL:https://massachusetts250.org/event/walking-tour-explore-revolutionary-hingham/2025-04-12/1/
LOCATION:Hingham Heritage Museum\, Main Street 34\, Hingham\, MA\, 02043\, United States
CATEGORIES:Outdoors
GEO:42.2418694;-70.8884264
X-APPLE-STRUCTURED-LOCATION;VALUE=URI;X-ADDRESS=Hingham Heritage Museum Main Street 34 Hingham MA 02043 United States;X-APPLE-RADIUS=500;X-TITLE=Main Street 34:geo:-70.8884264,42.2418694
END:VEVENT
BEGIN:VEVENT
DTSTART;TZID=America/New_York:20250412T110000
DTEND;TZID=America/New_York:20250412T130000
DTSTAMP:20260421T070858
CREATED:20250206T213148Z
LAST-MODIFIED:20250206T213148Z
UID:10000932-1744455600-1744462800@massachusetts250.org
SUMMARY:Open House at Meriam's Corner (Minute Man NHP)
DESCRIPTION:Visit the Nathan Meriam witness house and talk with costumed park staff about the Meriam family and the importance of the crossroad near their home on April 19\, 1775. In the early afternoon of that fateful day\, Militia soldiers arriving from Reading\, Chelmsford\, and Billerica attacked retreating British soldiers near this home. From Meriam’s Corner to Charlestown the fighting raged continuously for 8 hours and roughly 16 miles. Today\, this important home marks the beginning of the “Battle Road.” \nParking:\nMeriam’s Corner Parking Lot: 751 Lexington Road\, Concord\, MA.\nOverflow parking available on the day of the event. \nThis event is co-sponsored by Friends of Minute Man National Park
URL:https://massachusetts250.org/event/open-house-at-meriams-corner-minute-man-nhp/
LOCATION:Minute Man National Historical Park\, 74 Liberty Street\, Concord\, MA\, 01742\, United States
CATEGORIES:Anniversary,Commemoration,Event,Exhibit,Outdoors
ATTACH;FMTTYPE=image/jpeg:https://massachusetts250.org/wp-content/uploads/2025/02/Meriam.jpg
ORGANIZER;CN="Minute Man National Historical Park":MAILTO:mark_powelll@nps.gov
GEO:42.4679346;-71.3545038
X-APPLE-STRUCTURED-LOCATION;VALUE=URI;X-ADDRESS=Minute Man National Historical Park 74 Liberty Street Concord MA 01742 United States;X-APPLE-RADIUS=500;X-TITLE=74 Liberty Street:geo:-71.3545038,42.4679346
END:VEVENT
BEGIN:VEVENT
DTSTART;TZID=America/New_York:20250412T110000
DTEND;TZID=America/New_York:20250412T140000
DTSTAMP:20260421T070858
CREATED:20250318T170144Z
LAST-MODIFIED:20250331T184332Z
UID:10001133-1744455600-1744466400@massachusetts250.org
SUMMARY:Battle Road Memorial Dedication & Woburn’s 250th Anniversary Celebration
DESCRIPTION:Join us as we commemorate Woburn’s rich Revolutionary War history with the unveiling of the new Battle Road Memorial Area! This special event will honor the brave men of Woburn who marched on April 19\, 1775\, with a brand-new monument\, interpretive signage\, and a dedicated space for reflection. \nEvent Highlights:\n– Monument Dedication – Honoring the legacy of Woburn’s role in the Revolutionary War\n– Interpretive Signage – Learn about the historical significance of Battle Road\n– Live Music & Entertainment – Featuring performances by local artists\n– Colonial Games & Entertainment – Fun\, interactive activities for all ages\n– The Lion’s Club will be firing up the grill with hamburgers and hotdogs for guests\n– Distinguished Speakers – Hear from local leaders\, historians\, and community members
URL:https://massachusetts250.org/event/battle-road-memorial-dedication-woburns-250th-anniversary-celebration/
LOCATION:Woburn’s Historic Battle Road\, Russell Street 223\, Woburn\, MA\, 01801\, United States
CATEGORIES:Anniversary,Celebration,Commemoration,Memorial,Outdoors,Reenactment
ATTACH;FMTTYPE=image/png:https://massachusetts250.org/wp-content/uploads/2025/03/woburn.png
ORGANIZER;CN="City of Woburn":MAILTO:chagerty@cityofwoburn.com
GEO:42.4644915;-71.1871008
X-APPLE-STRUCTURED-LOCATION;VALUE=URI;X-ADDRESS=Woburn’s Historic Battle Road Russell Street 223 Woburn MA 01801 United States;X-APPLE-RADIUS=500;X-TITLE=Russell Street 223:geo:-71.1871008,42.4644915
END:VEVENT
BEGIN:VEVENT
DTSTART;TZID=America/New_York:20250412T130000
DTEND;TZID=America/New_York:20250412T140000
DTSTAMP:20260421T070858
CREATED:20250310T181315Z
LAST-MODIFIED:20250310T181315Z
UID:10001016-1744462800-1744466400@massachusetts250.org
SUMMARY:Walking Tour: Explore Revolutionary Hingham
DESCRIPTION:Huzzah! Celebrate the 250th anniversary of the “shot heard ’round the world” with a revolutionary tour. In this 55-minute guided walk\, you’ll see surviving homes from the 1700s and discover how ordinary Hinghamites survived the tumultuous years before\, during\, and after the American Revolution. This tour is perfect for history lovers of all ages!
URL:https://massachusetts250.org/event/walking-tour-explore-revolutionary-hingham/2025-04-12/2/
LOCATION:Hingham Heritage Museum\, Main Street 34\, Hingham\, MA\, 02043\, United States
CATEGORIES:Outdoors
GEO:42.2418694;-70.8884264
X-APPLE-STRUCTURED-LOCATION;VALUE=URI;X-ADDRESS=Hingham Heritage Museum Main Street 34 Hingham MA 02043 United States;X-APPLE-RADIUS=500;X-TITLE=Main Street 34:geo:-70.8884264,42.2418694
END:VEVENT
BEGIN:VEVENT
DTSTART;TZID=America/New_York:20250412T140000
DTEND;TZID=America/New_York:20250412T150000
DTSTAMP:20260421T070858
CREATED:20250310T181315Z
LAST-MODIFIED:20250310T181315Z
UID:10001017-1744466400-1744470000@massachusetts250.org
SUMMARY:Walking Tour: Explore Revolutionary Hingham
DESCRIPTION:Huzzah! Celebrate the 250th anniversary of the “shot heard ’round the world” with a revolutionary tour. In this 55-minute guided walk\, you’ll see surviving homes from the 1700s and discover how ordinary Hinghamites survived the tumultuous years before\, during\, and after the American Revolution. This tour is perfect for history lovers of all ages!
URL:https://massachusetts250.org/event/walking-tour-explore-revolutionary-hingham/2025-04-12/3/
LOCATION:Hingham Heritage Museum\, Main Street 34\, Hingham\, MA\, 02043\, United States
CATEGORIES:Outdoors
GEO:42.2418694;-70.8884264
X-APPLE-STRUCTURED-LOCATION;VALUE=URI;X-ADDRESS=Hingham Heritage Museum Main Street 34 Hingham MA 02043 United States;X-APPLE-RADIUS=500;X-TITLE=Main Street 34:geo:-70.8884264,42.2418694
END:VEVENT
BEGIN:VEVENT
DTSTART;TZID=America/New_York:20250412T180000
DTEND;TZID=America/New_York:20250412T210000
DTSTAMP:20260421T070858
CREATED:20250310T180808Z
LAST-MODIFIED:20250331T184838Z
UID:10000933-1744480800-1744491600@massachusetts250.org
SUMMARY:Prescott's Ride & The Lincoln Alarm (Minute Man NHP)
DESCRIPTION:“LISTEN my children\, and you shall hear. Of the midnight ride of…” Samuel Prescott? \nOn the evening of April 12\, 2025 join National Park Rangers as we commemorate and explore the true story of the famous midnight ride 250 years ago. On April 19th 1775 a midnight alarm spread across Massachusetts about the impending march of British soldiers from Boston to Concord. In 1860\, the poet Henry Wadsworth Longfellow immortalized the story of Paul Revere and his midnight ride but what about the many other alarm riders that evening? \nContrary to Longfellow’s poem\, Revere never made it to Concord. A British patrol captured Revere and others at the boarder of Lexington and Lincoln\, Massachusetts near 1:00 am. Riding alongside Paul Revere\, Concord local Samuel Prescott made a daring horseback escape and spread the alarm onward. Prescott returned to the main road near Hartwell Tavern\, spreading the alarm to Lincoln before riding off to Concord. Join National Park Rangers for a nighttime open house and immersive 250th living history experience at Hartwell Tavern in Lincoln\, Massachusetts. \nSchedule of Events:\n6 PM- Hartwell Tavern Open House\nJoin Park Rangers and Living Historians and explore the true story of the midnight ride. \n8 PM- Immersive Park Ranger Program\nExperience the excitement of April 19\, 1775\, when the midnight alarm swept through Lincoln\, Massachusetts. \n9 PM- Site closed \nParking:\nHartwell Tavern Parking Lot: 112 North Great Road\, Lincoln\, Ma. \nThis event is co-sponsored by Friends of Minute Man National Park
URL:https://massachusetts250.org/event/prescotts-ride-the-lincoln-alarm-minute-man-nhp/
LOCATION:Hartwell Tavern\, 35 Virginia Road\, Lincoln\, MA\, 01773\, United States
CATEGORIES:Anniversary,Commemoration,Event,Exhibit,Outdoors,Reenactment
ATTACH;FMTTYPE=image/png:https://massachusetts250.org/wp-content/uploads/2025/03/house.png
ORGANIZER;CN="Minute Man National Historical Park":MAILTO:mark_powell@nps.gov
GEO:42.4538268;-71.2931953
X-APPLE-STRUCTURED-LOCATION;VALUE=URI;X-ADDRESS=Hartwell Tavern 35 Virginia Road Lincoln MA 01773 United States;X-APPLE-RADIUS=500;X-TITLE=35 Virginia Road:geo:-71.2931953,42.4538268
END:VEVENT
END:VCALENDAR