BEGIN:VCALENDAR
VERSION:2.0
PRODID:-//MA250 - ECPv6.5.1.5//NONSGML v1.0//EN
CALSCALE:GREGORIAN
METHOD:PUBLISH
X-WR-CALNAME:MA250
X-ORIGINAL-URL:https://massachusetts250.org
X-WR-CALDESC:Events for MA250
REFRESH-INTERVAL;VALUE=DURATION:PT1H
X-Robots-Tag:noindex
X-PUBLISHED-TTL:PT1H
BEGIN:VTIMEZONE
TZID:America/New_York
BEGIN:DAYLIGHT
TZOFFSETFROM:-0500
TZOFFSETTO:-0400
TZNAME:EDT
DTSTART:20250309T070000
END:DAYLIGHT
BEGIN:STANDARD
TZOFFSETFROM:-0400
TZOFFSETTO:-0500
TZNAME:EST
DTSTART:20251102T060000
END:STANDARD
END:VTIMEZONE
BEGIN:VEVENT
DTSTART;TZID=America/New_York:20250421T020000
DTEND;TZID=America/New_York:20250421T140000
DTSTAMP:20260423T182906
CREATED:20250402T171005Z
LAST-MODIFIED:20250407T181908Z
UID:10001258-1745200800-1745244000@massachusetts250.org
SUMMARY:Daughters of the American Revolution Wreath Laying Ceremony
DESCRIPTION:Join the Lexington Chapter of the Daughters of the American Revolution and members of the Lexington Minutemen Company at a Wreath Laying Ceremony at the Revolutionary War Memorial on the Battle Green which honors the 8 lives lost in the Battle of Lexington on April 19\, 1775.
URL:https://massachusetts250.org/event/daughters-of-the-american-revolution-wreath-laying-ceremony/
LOCATION:Revolutionary War Memorial on the Lexington Battle Green\, 1625 Massachusetts Ave.\, Lexington\, 02421\, United States
CATEGORIES:Anniversary,Commemoration,Event,Memorial
ATTACH;FMTTYPE=image/png:https://massachusetts250.org/wp-content/uploads/2025/04/wreath.png
ORGANIZER;CN="Lexington Chapter of the National Society of the Daughters of the American Revolution":MAILTO:regent@lexingtondar.com
GEO:42.444077;-71.216452
X-APPLE-STRUCTURED-LOCATION;VALUE=URI;X-ADDRESS=Revolutionary War Memorial on the Lexington Battle Green 1625 Massachusetts Ave. Lexington 02421 United States;X-APPLE-RADIUS=500;X-TITLE=1625 Massachusetts Ave.:geo:-71.216452,42.444077
END:VEVENT
BEGIN:VEVENT
DTSTART;TZID=America/New_York:20250421T083000
DTEND;TZID=America/New_York:20250421T093000
DTSTAMP:20260423T182906
CREATED:20250206T213430Z
LAST-MODIFIED:20250206T213430Z
UID:10000936-1745224200-1745227800@massachusetts250.org
SUMMARY:North Bridge Program (Minute Man NHP)
DESCRIPTION:Commemorate Patriots’ Day with a National Park Service program marking the “shot heard round the world.” \nOn April 19\, 1775 British Regular soldiers search the town of Concord\, Massachusetts for stockpiles of illegal military supplies. When nearly 200 Regulars crossed Concord’s North Bridge and headed for the farm of militia Colonel James Barrett\, they left 96 men to guard the important river crossing. Meanwhile\, hundreds of local militia soldiers gathered on the hillside opposing the bridge. Those soldiers from Concord\, Lincoln\, Acton\, Bedford\, Westford\, and elsewhere watched as the British searched their homes and eventually lit fires to burn military supplies. Afraid the Regulars would burn the town\, the militia decided to act. They marched down the long causeway to a confrontation with British Soldiers guarding the bridge and ignited the American Revolution. Join Park Rangers as they mark the 250th Anniversary with a special ranger walk in the footsteps of those minute men and militia. \n8:30 am- Special Ranger Walk begins at the North Bridge Visitor Center \nParking:\nCheck back soon for more details. \nThis event is co-sponsored by Friends of Minute Man National Park
URL:https://massachusetts250.org/event/north-bridge-program-minute-man-nhp/
LOCATION:Minute Man National Historical Park\, 74 Liberty Street\, Concord\, MA\, 01742\, United States
CATEGORIES:Anniversary,Commemoration,Event,Memorial,Outdoors,Reenactment,Speakers
ATTACH;FMTTYPE=image/jpeg:https://massachusetts250.org/wp-content/uploads/2025/02/British-Soldiers-at-the-North-Bridge-2024-scaled.jpg
GEO:42.4679346;-71.3545038
X-APPLE-STRUCTURED-LOCATION;VALUE=URI;X-ADDRESS=Minute Man National Historical Park 74 Liberty Street Concord MA 01742 United States;X-APPLE-RADIUS=500;X-TITLE=74 Liberty Street:geo:-71.3545038,42.4679346
END:VEVENT
BEGIN:VEVENT
DTSTART;TZID=America/New_York:20250421T093000
DTEND;TZID=America/New_York:20250421T100000
DTSTAMP:20260423T182906
CREATED:20250402T174344Z
LAST-MODIFIED:20250402T174344Z
UID:10001284-1745227800-1745229600@massachusetts250.org
SUMMARY:Ye Ole Burial Ground Ceremony
DESCRIPTION:This is the ceremony that we normally do after the reenactment is over. We will lay a wreath at the grave of the British Soldier as well as Captain Parker’s Memorial along with 2 musket volley’s.
URL:https://massachusetts250.org/event/ye-ole-burial-ground-ceremony-2/
LOCATION:Ye Ole Burial Ground\, Ye Ole Burial Ground\, Lexington\, 02420\, United States
CATEGORIES:Anniversary,Celebration,Event,Memorial
ATTACH;FMTTYPE=image/png:https://massachusetts250.org/wp-content/uploads/2025/04/burial.png
ORGANIZER;CN="Lexington Minute Men":MAILTO:lex250@jgrp.net
GEO:42.3750122;-71.1198663
X-APPLE-STRUCTURED-LOCATION;VALUE=URI;X-ADDRESS=Ye Ole Burial Ground Ye Ole Burial Ground Lexington 02420 United States;X-APPLE-RADIUS=500;X-TITLE=Ye Ole Burial Ground:geo:-71.1198663,42.3750122
END:VEVENT
BEGIN:VEVENT
DTSTART;TZID=America/New_York:20250421T110000
DTEND;TZID=America/New_York:20250421T170000
DTSTAMP:20260423T182906
CREATED:20250402T174402Z
LAST-MODIFIED:20250407T175848Z
UID:10001285-1745233200-1745254800@massachusetts250.org
SUMMARY:Black History at the Hancock-Clarke House
DESCRIPTION:The Hancock-Clarke House holds a unique role as the only site of enslavement open to the public in Lexington. Inside the museum\, learn about Jack and Dinah\, two individuals enslaved by the Hancock family. Outside\, in partnership with the Association of Black Citizens of Lexington\, meet local researchers who are working to put Lexington’s 18th century Black history on the map. Learn more about this vibrant and interconnected community\, from the Burdoos who lived free in town in the 17th century\, to the Chessors who helped the Clarke family spin flax\, to the Barbodoeses\, who became abolitionists.
URL:https://massachusetts250.org/event/black-history-at-the-hancock-clarke-house-2/
LOCATION:Hancock-Clarke House\, 36 Hancock Street\, Lexington\, 02420\, United States
CATEGORIES:Anniversary,Black History,Celebration,Event,Memorial
ORGANIZER;CN="Lexington Historical Society":MAILTO:lex250@jgrp.net
GEO:42.4536374;-71.2285386
X-APPLE-STRUCTURED-LOCATION;VALUE=URI;X-ADDRESS=Hancock-Clarke House 36 Hancock Street Lexington 02420 United States;X-APPLE-RADIUS=500;X-TITLE=36 Hancock Street:geo:-71.2285386,42.4536374
END:VEVENT
BEGIN:VEVENT
DTSTART;TZID=America/New_York:20250421T130000
DTEND;TZID=America/New_York:20250421T170000
DTSTAMP:20260423T182906
CREATED:20250403T180859Z
LAST-MODIFIED:20250407T172416Z
UID:10001305-1745240400-1745254800@massachusetts250.org
SUMMARY:Arrival of Paul Revere & William Dawes on Horseback from Boston at Hastings Park
DESCRIPTION:Every year on Patriot’s Day\, the National Lancers reenact the rides of Paul Revere and William Dawes. \nPaul Revere leaves on horseback from the North End\, Boston and William Dawes on horseback leaves from John Elliot Square\, 10 Putnam St.\, Roxbury\, warning the people while on their way to Lexington of the pending arrival of the British Regulars. They arrive separately after Revere travels through Charlestown\, Somerville\, Medford and Arlington. While Dawes travels through Roxbury\, Brookline\, Cambridge and Arlington en route to Lexington.
URL:https://massachusetts250.org/event/arrival-of-paul-revere-william-dawes-on-horseback-from-boston-at-hastings-park/
LOCATION:Hastings Park\, 10 Lincoln St\, Lexington\, 02421\, United States
CATEGORIES:Anniversary,Celebration,Commemoration,Event,Memorial,Outdoors,Reenactment
ATTACH;FMTTYPE=image/png:https://massachusetts250.org/wp-content/uploads/2025/04/ride.png
GEO:42.4476108;-71.2380364
X-APPLE-STRUCTURED-LOCATION;VALUE=URI;X-ADDRESS=Hastings Park 10 Lincoln St Lexington 02421 United States;X-APPLE-RADIUS=500;X-TITLE=10 Lincoln St:geo:-71.2380364,42.4476108
END:VEVENT
END:VCALENDAR