BEGIN:VCALENDAR
VERSION:2.0
PRODID:-//MA250 - ECPv6.5.1.5//NONSGML v1.0//EN
CALSCALE:GREGORIAN
METHOD:PUBLISH
X-ORIGINAL-URL:https://massachusetts250.org
X-WR-CALDESC:Events for MA250
REFRESH-INTERVAL;VALUE=DURATION:PT1H
X-Robots-Tag:noindex
X-PUBLISHED-TTL:PT1H
BEGIN:VTIMEZONE
TZID:America/New_York
BEGIN:DAYLIGHT
TZOFFSETFROM:-0500
TZOFFSETTO:-0400
TZNAME:EDT
DTSTART:20250309T070000
END:DAYLIGHT
BEGIN:STANDARD
TZOFFSETFROM:-0400
TZOFFSETTO:-0500
TZNAME:EST
DTSTART:20251102T060000
END:STANDARD
END:VTIMEZONE
BEGIN:VEVENT
DTSTART;TZID=America/New_York:20250420T120000
DTEND;TZID=America/New_York:20250420T143000
DTSTAMP:20260423T194015
CREATED:20250409T171044Z
LAST-MODIFIED:20250409T171044Z
UID:10001283-1745150400-1745159400@massachusetts250.org
SUMMARY:il Casale Lexington Live Jazz Brunch
DESCRIPTION:Located in the heart of Lexington Center\, il Casale Lexington will be offering its weekly live jazz brunch with Ethan K. Jazz Duo on Sunday\, April 20th from 12-2:30pm. The live music will draw from a vast catalog of jazz standards\, as well as bossa nova and popular classics from the seventies\, which was during the time that The Battle of Lexington was fought in 1775. Offering equal parts traditional Italian cuisine and exclusive family classics\, brunch highlights will include Egg and Cheese Panini on a scali roll with choice of garden salad or fries; Caprese Omelet featuring an egg omelet\, tomatoes\, basil\, mozzarella with a side of arugula cherry tomato salad\, grilled bread; Eggs in Purgatory featuring three eggs poached in spicy tomato sauce\, angel hair\, garlic\, basil\, grilled pugliese bread; and Spaghetti Ai Frutti Di Mare with shrimp\, mussels\, white wine saffron broth\, garlic\, and parsley. All brunch items can be accompanied by a range of mocktails and cocktails including specialty revolutionary rum-inspired cocktails for the occasion. Reservations can be made on Resy.
URL:https://massachusetts250.org/event/il-casale-lexington-live-jazz-brunch/
LOCATION:il Casale Lexington\, 1727 Massachusetts Ave\, Lexington\, 02420\, United States
CATEGORIES:Anniversary,Celebration,Event,Memorial
ATTACH;FMTTYPE=image/png:https://massachusetts250.org/wp-content/uploads/2025/04/LIVE-JAZZ-Posters-Portrait-34.png
ORGANIZER;CN="il Casale Lexington":MAILTO:lex250@jgrp.net
GEO:42.4473151;-71.2266447
X-APPLE-STRUCTURED-LOCATION;VALUE=URI;X-ADDRESS=il Casale Lexington 1727 Massachusetts Ave Lexington 02420 United States;X-APPLE-RADIUS=500;X-TITLE=1727 Massachusetts Ave:geo:-71.2266447,42.4473151
END:VEVENT
END:VCALENDAR