BEGIN:VCALENDAR
VERSION:2.0
PRODID:-//MA250 - ECPv6.5.1.5//NONSGML v1.0//EN
CALSCALE:GREGORIAN
METHOD:PUBLISH
X-WR-CALNAME:MA250
X-ORIGINAL-URL:https://massachusetts250.org
X-WR-CALDESC:Events for MA250
REFRESH-INTERVAL;VALUE=DURATION:PT1H
X-Robots-Tag:noindex
X-PUBLISHED-TTL:PT1H
BEGIN:VTIMEZONE
TZID:America/New_York
BEGIN:DAYLIGHT
TZOFFSETFROM:-0500
TZOFFSETTO:-0400
TZNAME:EDT
DTSTART:20250309T070000
END:DAYLIGHT
BEGIN:STANDARD
TZOFFSETFROM:-0400
TZOFFSETTO:-0500
TZNAME:EST
DTSTART:20251102T060000
END:STANDARD
END:VTIMEZONE
BEGIN:VEVENT
DTSTART;TZID=America/New_York:20250412T110000
DTEND;TZID=America/New_York:20250412T140000
DTSTAMP:20260424T065040
CREATED:20250318T170144Z
LAST-MODIFIED:20250331T184332Z
UID:10001133-1744455600-1744466400@massachusetts250.org
SUMMARY:Battle Road Memorial Dedication & Woburn’s 250th Anniversary Celebration
DESCRIPTION:Join us as we commemorate Woburn’s rich Revolutionary War history with the unveiling of the new Battle Road Memorial Area! This special event will honor the brave men of Woburn who marched on April 19\, 1775\, with a brand-new monument\, interpretive signage\, and a dedicated space for reflection. \nEvent Highlights:\n– Monument Dedication – Honoring the legacy of Woburn’s role in the Revolutionary War\n– Interpretive Signage – Learn about the historical significance of Battle Road\n– Live Music & Entertainment – Featuring performances by local artists\n– Colonial Games & Entertainment – Fun\, interactive activities for all ages\n– The Lion’s Club will be firing up the grill with hamburgers and hotdogs for guests\n– Distinguished Speakers – Hear from local leaders\, historians\, and community members
URL:https://massachusetts250.org/event/battle-road-memorial-dedication-woburns-250th-anniversary-celebration/
LOCATION:Woburn’s Historic Battle Road\, Russell Street 223\, Woburn\, MA\, 01801\, United States
CATEGORIES:Anniversary,Celebration,Commemoration,Memorial,Outdoors,Reenactment
ATTACH;FMTTYPE=image/png:https://massachusetts250.org/wp-content/uploads/2025/03/woburn.png
ORGANIZER;CN="City of Woburn":MAILTO:chagerty@cityofwoburn.com
GEO:42.4644915;-71.1871008
X-APPLE-STRUCTURED-LOCATION;VALUE=URI;X-ADDRESS=Woburn’s Historic Battle Road Russell Street 223 Woburn MA 01801 United States;X-APPLE-RADIUS=500;X-TITLE=Russell Street 223:geo:-71.1871008,42.4644915
END:VEVENT
END:VCALENDAR