BEGIN:VCALENDAR
VERSION:2.0
PRODID:-//MA250 - ECPv6.5.1.5//NONSGML v1.0//EN
CALSCALE:GREGORIAN
METHOD:PUBLISH
X-WR-CALNAME:MA250
X-ORIGINAL-URL:https://massachusetts250.org
X-WR-CALDESC:Events for MA250
REFRESH-INTERVAL;VALUE=DURATION:PT1H
X-Robots-Tag:noindex
X-PUBLISHED-TTL:PT1H
BEGIN:VTIMEZONE
TZID:America/New_York
BEGIN:DAYLIGHT
TZOFFSETFROM:-0500
TZOFFSETTO:-0400
TZNAME:EDT
DTSTART:20250309T070000
END:DAYLIGHT
BEGIN:STANDARD
TZOFFSETFROM:-0400
TZOFFSETTO:-0500
TZNAME:EST
DTSTART:20251102T060000
END:STANDARD
BEGIN:DAYLIGHT
TZOFFSETFROM:-0500
TZOFFSETTO:-0400
TZNAME:EDT
DTSTART:20260308T070000
END:DAYLIGHT
BEGIN:STANDARD
TZOFFSETFROM:-0400
TZOFFSETTO:-0500
TZNAME:EST
DTSTART:20261101T060000
END:STANDARD
BEGIN:DAYLIGHT
TZOFFSETFROM:-0500
TZOFFSETTO:-0400
TZNAME:EDT
DTSTART:20270314T070000
END:DAYLIGHT
BEGIN:STANDARD
TZOFFSETFROM:-0400
TZOFFSETTO:-0500
TZNAME:EST
DTSTART:20271107T060000
END:STANDARD
END:VTIMEZONE
BEGIN:VEVENT
DTSTART;TZID=America/New_York:20250413T090000
DTEND;TZID=America/New_York:20270522T160000
DTSTAMP:20260423T083407
CREATED:20260129T143838Z
LAST-MODIFIED:20260406T130326Z
UID:10004326-1744534800-1811001600@massachusetts250.org
SUMMARY:Protest and Promise - The American Revolution in Lexington
DESCRIPTION:After years of tension between Great Britain and its North American colonies\, a skirmish on the town green in Lexington\, Massachusetts broke long-held bonds and ignited the American Revolutionary War. In an unprecedented moment in 1775\, ordinary people in Lexington made extraordinary choices. An entire community—women\, men\, black\, white\, young\, old\, enslaved\, and free—helped spark a revolution. Two hundred and fifty years later\, Americans continue to remember April 19\, 1775\, as a moment when everyday people shaped history. This exhibition explores the events of April 19\, 1775\, with images\, objects\, and an in-depth look at this watershed event and how it has been remembered.
URL:https://massachusetts250.org/event/protest-and-promise-the-american-revolution-in-lexington/
LOCATION:Scottish Rite Masonic Museum & Library\, 33 Marrett Road\, Lexington\, MA\, 02421\, United States
CATEGORIES:Exhibit
ATTACH;FMTTYPE=image/png:https://massachusetts250.org/wp-content/uploads/2026/01/Social-Media-Template-with-50th-2.png
ORGANIZER;CN="Scottish Rite Masonic Museum &amp%3B Library":MAILTO:info@srmml.org
GEO:42.4367685;-71.2141633
X-APPLE-STRUCTURED-LOCATION;VALUE=URI;X-ADDRESS=Scottish Rite Masonic Museum & Library 33 Marrett Road Lexington MA 02421 United States;X-APPLE-RADIUS=500;X-TITLE=33 Marrett Road:geo:-71.2141633,42.4367685
END:VEVENT
BEGIN:VEVENT
DTSTART;VALUE=DATE:20251001
DTEND;VALUE=DATE:20271219
DTSTAMP:20260423T083407
CREATED:20251017T175135Z
LAST-MODIFIED:20251027T141338Z
UID:10003879-1759276800-1829174399@massachusetts250.org
SUMMARY:Witness: Hingham in the Age of Revolution
DESCRIPTION:As the Nation marks 250 years of independence\, Witness: Hingham in the Age of Revolution explores how one New England town experienced the ideas\, contradictions\, and upheavals of the American Revolution. Through the lives of Hingham’s residents– white and Black\, free and enslaved– this immersive new exhibit traces the ups & downs forging of a nation.
URL:https://massachusetts250.org/event/witness-hingham-in-the-age-of-revolution-2/
LOCATION:Hingham Heritage Museum\, Main Street 34\, Hingham\, MA\, 02043\, United States
CATEGORIES:Black History,Commemoration,Exhibit,Women's History
ATTACH;FMTTYPE=image/jpeg:https://massachusetts250.org/wp-content/uploads/2025/09/WITNESS-Hingham-in-the-Age-of-Revolution-2.jpg
GEO:42.2418694;-70.8884264
X-APPLE-STRUCTURED-LOCATION;VALUE=URI;X-ADDRESS=Hingham Heritage Museum Main Street 34 Hingham MA 02043 United States;X-APPLE-RADIUS=500;X-TITLE=Main Street 34:geo:-70.8884264,42.2418694
END:VEVENT
BEGIN:VEVENT
DTSTART;TZID=America/New_York:20260418T093000
DTEND;TZID=America/New_York:20270103T163000
DTSTAMP:20260423T083407
CREATED:20260305T204622Z
LAST-MODIFIED:20260408T124758Z
UID:10007184-1776504600-1798993800@massachusetts250.org
SUMMARY:Picturing the Revolution
DESCRIPTION:Throughout the American War for Independence\, scores of images circumnavigated the globe\, fighting their own battles to establish a comprehensible narrative for the momentous events occurring in British North America. Differences in politics\, disruptions in communication\, and the delay of thousands of miles of distance produced competing and often contradictory accounts. Some images became enduring representations of the conflict. Others faded from memory. \nDrawing from Historic Deerfield’s rich collection of Revolutionary-era materials\, this exhibition explores the diverse ways that 18th-century individuals “pictured” or understood the Revolution as it unfolded. Looking across prints\, drawings\, maps\, broadsides\, portraits\, powder horns\, ceramics\, and satirical cartoons\, Picturing the Revolution highlights how images shaped local and global perceptions of the war: its landscapes\, its actors\, its causes\, and its goals. Mining these complex visual records reveals the often-overlooked importance of pictures in the shift from revolt to revolution\, and in envisioning a future for the new nation. \nThis exhibition has been made possible with support from the National Endowment for the Humanities and the Massachusetts Office of Travel & Tourism.
URL:https://massachusetts250.org/event/picturing-the-revolution/
LOCATION:Flynt Center of Early New England Life\, Old Main Street 37\, Deerfield\, Massachusetts\, 01342\, United States
CATEGORIES:Exhibit
ATTACH;FMTTYPE=image/jpeg:https://massachusetts250.org/wp-content/uploads/2026/03/0864_framed-resized-for-web.jpg
GEO:42.5422936;-72.6066878
X-APPLE-STRUCTURED-LOCATION;VALUE=URI;X-ADDRESS=Flynt Center of Early New England Life Old Main Street 37 Deerfield Massachusetts 01342 United States;X-APPLE-RADIUS=500;X-TITLE=Old Main Street 37:geo:-72.6066878,42.5422936
END:VEVENT
BEGIN:VEVENT
DTSTART;TZID=America/New_York:20260418T093000
DTEND;TZID=America/New_York:20270103T163000
DTSTAMP:20260423T083407
CREATED:20260305T205045Z
LAST-MODIFIED:20260305T205225Z
UID:10007185-1776504600-1798993800@massachusetts250.org
SUMMARY:Dressing the Revolution: Fashion and Politics 1760–1789
DESCRIPTION:The exhibition includes more than 20 garments\, accessories\, textiles\, and prints that illuminate the complex role of clothing at the time of the American Revolution. By posing new questions about fashion’s relationship with class\, race\, and gender\, Dressing the Revolution: Fashion and Politics 1760–1789 places clothing at the center of the political debates\, shedding light on dress as a powerful tool that communicated not just status and identity\, but political affinities during this volatile period. \nThe exhibition begins with a look at the consumer revolution of the mid-18th century when an abundance of highly desirable imported goods\, especially finished cloth and accessories\, became widely available to all levels of society in the Colonies. Fashionable dress connected Colonists with England but also contributed to the construction of personal identities and social status\, while providing the potential for social mobility. \nWhen Britain imposed onerous taxes in the 1760s\, perceptions around wearing fashionable dress began to change. Patriots called for non-importation and nonconsumption of British goods while advocating for more sober\, American-made clothing. Women stepped into new political roles through the many highly publicized spinning bees\, putting action to words in their industry and self sacrifice. While the Homespun Movement remained largely symbolic\, it nevertheless changed the narrative around the public display of clothing. \nFashionable dress remained a topic of heated debate\, and public scrutiny\, when consumption of imported goods resumed after the tariffs were lifted. Clothes\, whether modest or fashionable\, could be read for their political implications. When the Revolution brought closed ports and hardship\, Colonists often made due by maintaining and altering existing clothes and dressing more plainly. The show concludes with a look at dressing in the new Nation and the conflicting urges to balance familiar calls for republican modesty and virtue with a new eagerness for American-produced fashions. \nThis program is made possible by a grant from The Coby Foundation.
URL:https://massachusetts250.org/event/dressing-the-revolution-fashion-and-politics-1760-1789/
LOCATION:Flynt Center of New England Life\, Old Main Street 37\, Deerfield\, Massachusetts\, 01342\, United States
CATEGORIES:Exhibit
ATTACH;FMTTYPE=image/jpeg:https://massachusetts250.org/wp-content/uploads/2026/03/56-29-web-version.jpg
GEO:42.5422936;-72.6066878
X-APPLE-STRUCTURED-LOCATION;VALUE=URI;X-ADDRESS=Flynt Center of New England Life Old Main Street 37 Deerfield Massachusetts 01342 United States;X-APPLE-RADIUS=500;X-TITLE=Old Main Street 37:geo:-72.6066878,42.5422936
END:VEVENT
BEGIN:VEVENT
DTSTART;TZID=America/New_York:20270103T100000
DTEND;TZID=America/New_York:20270103T170000
DTSTAMP:20260423T083407
CREATED:20260224T201048Z
LAST-MODIFIED:20260224T201048Z
UID:10006603-1798970400-1798995600@massachusetts250.org
SUMMARY:The Road to Revolution: Massachusetts and the Independence Movement
DESCRIPTION:Explore major Massachusetts events in the first year of the American Revolution at the Old State House\, where protest turned into action and the momentum for independence accelerated. Created through a partnership between Revolutionary Spaces and the Massachusetts Historical Society\, The Road to Revolution: Massachusetts and the Independence Movement invites visitors to step into 1775 and 1776—a moment defined by uncertainty\, debate\, and decisions that would reshape the world.
URL:https://massachusetts250.org/event/the-road-to-revolution-massachusetts-and-the-independence-movement/2027-01-03/
LOCATION:Old State House\, 206 Washington St\, Boston\, MA\, 02109\, United States
CATEGORIES:Exhibit
ATTACH;FMTTYPE=image/jpeg:https://massachusetts250.org/wp-content/uploads/2026/02/Road-to-Revolution137-scaled.jpg
GEO:42.3587231;-71.0574847
X-APPLE-STRUCTURED-LOCATION;VALUE=URI;X-ADDRESS=Old State House 206 Washington St Boston MA 02109 United States;X-APPLE-RADIUS=500;X-TITLE=206 Washington St:geo:-71.0574847,42.3587231
END:VEVENT
BEGIN:VEVENT
DTSTART;TZID=America/New_York:20270103T113000
DTEND;TZID=America/New_York:20270103T163000
DTSTAMP:20260423T083407
CREATED:20260407T163129Z
LAST-MODIFIED:20260407T163129Z
UID:10007830-1798975800-1798993800@massachusetts250.org
SUMMARY:Brewing Massachusetts: How Beer Shaped the Bay State
DESCRIPTION:We are proud to introduce our most ambitious exhibit ever\, titled “Brewing Massachusetts: How Beer Shaped the Bay State\,” made possible by a grant from Massachusetts 250 and the Massachusetts Office of Travel & Tourism (MOTT). Through rare artifacts\, photographs\, and documents\, this exhibit will tell the story of Massachusetts brewers from the Pilgrims to the present. This exhibit will be held in a rebuilt Revolutionary era tavern and tickets will be $5. Come see it starting May 30th at 107 Old Main Street in Deerfield at the Indian House Memorial.\nNo state has been more impacted by brewing than Massachusetts. But this story hasn’t been told in one place\, until now. “Brewing Massachusetts” will be open during the 250th anniversary of 1776\, a landmark nationwide event that will shine a spotlight on American history. We want to incorporate the entire state in our celebration of the History of Brewing\, and what better way than to include all of Massachusetts.
URL:https://massachusetts250.org/event/brewing-massachusetts-how-beer-shaped-the-bay-state/2027-01-03/
LOCATION:Indian House Memorial\, Old Main Street 107\, Deerfield\, MA\, 01342\, United States
CATEGORIES:Culinary,Exhibit
ATTACH;FMTTYPE=image/jpeg:https://massachusetts250.org/wp-content/uploads/2026/04/Beer-Logo.jpg
ORGANIZER;CN="Memorial Hall Museum":MAILTO:mhm@deerfieldmuseum.org
GEO:42.5494448;-72.6040326
X-APPLE-STRUCTURED-LOCATION;VALUE=URI;X-ADDRESS=Indian House Memorial Old Main Street 107 Deerfield MA 01342 United States;X-APPLE-RADIUS=500;X-TITLE=Old Main Street 107:geo:-72.6040326,42.5494448
END:VEVENT
END:VCALENDAR