BEGIN:VCALENDAR
VERSION:2.0
PRODID:-//MA250 - ECPv6.5.1.5//NONSGML v1.0//EN
CALSCALE:GREGORIAN
METHOD:PUBLISH
X-ORIGINAL-URL:https://massachusetts250.org
X-WR-CALDESC:Events for MA250
REFRESH-INTERVAL;VALUE=DURATION:PT1H
X-Robots-Tag:noindex
X-PUBLISHED-TTL:PT1H
BEGIN:VTIMEZONE
TZID:America/New_York
BEGIN:DAYLIGHT
TZOFFSETFROM:-0500
TZOFFSETTO:-0400
TZNAME:EDT
DTSTART:20250309T070000
END:DAYLIGHT
BEGIN:STANDARD
TZOFFSETFROM:-0400
TZOFFSETTO:-0500
TZNAME:EST
DTSTART:20251102T060000
END:STANDARD
BEGIN:DAYLIGHT
TZOFFSETFROM:-0500
TZOFFSETTO:-0400
TZNAME:EDT
DTSTART:20260308T070000
END:DAYLIGHT
BEGIN:STANDARD
TZOFFSETFROM:-0400
TZOFFSETTO:-0500
TZNAME:EST
DTSTART:20261101T060000
END:STANDARD
BEGIN:DAYLIGHT
TZOFFSETFROM:-0500
TZOFFSETTO:-0400
TZNAME:EDT
DTSTART:20270314T070000
END:DAYLIGHT
BEGIN:STANDARD
TZOFFSETFROM:-0400
TZOFFSETTO:-0500
TZNAME:EST
DTSTART:20271107T060000
END:STANDARD
END:VTIMEZONE
BEGIN:VEVENT
DTSTART;VALUE=DATE:20250404
DTEND;VALUE=DATE:20250601
DTSTAMP:20260421T044132
CREATED:20250410T171349Z
LAST-MODIFIED:20250410T171349Z
UID:10001347-1743724800-1748735999@massachusetts250.org
SUMMARY:"People\, Plants & Revolution" Public Art Banners and Audio Tour
DESCRIPTION:April 4 to May 31\, 2025\nPublic Art: Commemorative Banners and Audio Tour\nArlington Center\, outside along Mass Avenue \nPeople\, Plants & Revolution is the theme for a series of colorful banners and an audio tour commemorating the 250th anniversary of the American Revolution in Arlington\, MA. Organized by ArtsArlington\, the banners portray the landscape elements and important plants that shaped life in 1775 in Menotomy\, as the town was known at the time\, a colonial farming village. Learn more about these plants and how people lived\, interwoven with revolutionary history\, by listening to the audio tour – available anytime and anywhere at www.PlantStories.us. The original silkscreen art used to make the banners is on view at 13FOREST Gallery (through May 23) and the Old Schwamb Mill (through May 31). See versions of the banners up close at Robbins Memorial Town Hall (through September 6) on the second floor. All of the banners and text versions of the audio tour are available at https://artsarlington.org/plants-and-people/. \nAbout the Artists\nArtsArlington’s Public Art Curator Cecily Miller invited artists Suzanne Moseley and Liz Shepherd to design commemorative banners; they were assisted by Lily McDonald and Andrew Palladino. \nSuzanne Moseley is an experimental artist\, working in printmaking\, cyanotype and sculptural formats. She often collaborates\, recently with co-artist Liz Shepherd. Her work is in private collections\, is often grant-funded and has been exhibited in the US and abroad. Her sculptures from repurposed materials\, created with fellow artist Adrienne Shishko\, have been featured in Fiber Art Now\, The Boston Globe\, and New Visionary Magazine. Her ability to work collaboratively garners its own attention\, with invitations to discuss her experience\, most recently at Berklee College of Music\, Harvard Art Museum’s Maker Space and for an upcoming program on Newton Cable News. \nLiz Shepherd produces large-scale sculptural installations\, which bring to mind ideas about the earthly and the divine. She uses printmaking to enhance objects made of wood or paper. She also produces small\, hand-pulled print editions. In the past 15 years she has exhibited in the United States and internationally. Shepherd’s work is in the permanent collection of the Museum of Fine Arts\, Boston\, the Edinburgh College of Art\, Syracuse University\, Boston Children’s Hospital\, the Hanoi (Vietnam) Contemporary Art Centre and the Bernard Zuckerman Museum of Art in Kennesaw\, Georgia as well as numerous corporate and private collections. Originally from New York City\, Shepherd now lives in Boston. She received her MFA in 2006 from the School of the Museum of Fine Arts\, which awarded her the prestigious Traveling Fellowship in 2015. \nAbout the Audio Producer\nMolly Edwards\, Ph.D. produced the audio tour portion of this project. Dr. Edwards is a plant biologist turned science communicator who goes by Science IRL (‘in real life’) online. She is dedicated to telling stories that showcase the humanity and joy of being a scientist and foster a sense of belonging in STEM. In 2022 she received her Ph.D. from Harvard University\, where she studied the wild and wonderful petals of columbine flowers. During graduate school she realized her science video hobby was quickly becoming a passion project that would shape her future career. Upon graduating she founded Science IRL Productions and now works with scientists and artists to bring STEM stories to life through digital media. \nAbout ArtsArlington \nThe Arlington Commission for Arts and Culture – ArtsArlington for short – serves as the umbrella organization for all town-related arts and culture activities. Our mission is to cultivate a sustainable and supportive environment for the arts\, enliven public space with accessible creative experiences to strengthen and enrich our community\, create opportunities for artists\, and invigorate the local economy. Our Public Art Curator\, Cecily Miller\, organized four projects to commemorate Arlington250 including these commemorative banners as well as work by Nilou Moochhala\, Christopher Frost\, Asia Kepka\, and the fiber artists of Princeton Sankofa Stitchers Modern Quilting Guild. See https://artsarlington.org
URL:https://massachusetts250.org/event/people-plants-revolution-public-art-banners-and-audio-tour/
LOCATION:Town of Arlington\, MA\, Massachusetts Avenue 730\, Arlington\, MA\, 02476\, United States
CATEGORIES:Exhibit
ATTACH;FMTTYPE=image/png:https://massachusetts250.org/wp-content/uploads/2025/04/Untitled-design-2.png
ORGANIZER;CN="ArtsArlington":MAILTO:info@artsarlington.org
GEO:42.4158089;-71.1563816
X-APPLE-STRUCTURED-LOCATION;VALUE=URI;X-ADDRESS=Town of Arlington MA Massachusetts Avenue 730 Arlington MA 02476 United States;X-APPLE-RADIUS=500;X-TITLE=Massachusetts Avenue 730:geo:-71.1563816,42.4158089
END:VEVENT
BEGIN:VEVENT
DTSTART;TZID=America/New_York:20250405T080000
DTEND;TZID=America/New_York:20250523T170000
DTSTAMP:20260421T044132
CREATED:20250409T145133Z
LAST-MODIFIED:20250409T145133Z
UID:10001346-1743840000-1748019600@massachusetts250.org
SUMMARY:Untold Stories: Public Art Commemorating Arlington 250
DESCRIPTION:On view April 5 – May 23\, this 13Forest Gallery exhibition spotlights three major public art projects commissioned by Arts Arlington and planned by Public Art Curator Cecily Miller to commemorate the 250th Anniversary of the American Revolution and the critical role of Arlington (formerly the Village of Menotomy) on its very first day of fighting\, on April 19\, 1775. \nFeatured artists in the exhibition include Chris Frost and Asia Kepka\, Nilou Moochhala\, and Suzanne Moseley and Liz Shepherd. \nSat April 26\, 4-6PM\, “Telling Stories”\, talk by curator Cecily Miller and the artists of Untold Stories \nSat May 10\, 4-6PM\, Show and Tell – a demonstration of natural dyeing techniques and sustainability practices in art and fashion with Asia Kepka.
URL:https://massachusetts250.org/event/untold-stories-public-art-commemorating-arlington-250/
LOCATION:13 Forest Gallery\, Massachusetts Avenue 167a\, Arlington\, MA\, 02474\, United States
CATEGORIES:Exhibit
ATTACH;FMTTYPE=image/jpeg:https://massachusetts250.org/wp-content/uploads/2025/04/Untold-Stories-Event-ArtsBoston.jpg
ORGANIZER;CN="Town of Arlington":MAILTO:kluczai@town.arlington.ma.us
GEO:42.4052966;-71.1413292
X-APPLE-STRUCTURED-LOCATION;VALUE=URI;X-ADDRESS=13 Forest Gallery Massachusetts Avenue 167a Arlington MA 02474 United States;X-APPLE-RADIUS=500;X-TITLE=Massachusetts Avenue 167a:geo:-71.1413292,42.4052966
END:VEVENT
BEGIN:VEVENT
DTSTART;TZID=America/New_York:20250413T090000
DTEND;TZID=America/New_York:20270522T160000
DTSTAMP:20260421T044132
CREATED:20260129T143838Z
LAST-MODIFIED:20260406T130326Z
UID:10004326-1744534800-1811001600@massachusetts250.org
SUMMARY:Protest and Promise - The American Revolution in Lexington
DESCRIPTION:After years of tension between Great Britain and its North American colonies\, a skirmish on the town green in Lexington\, Massachusetts broke long-held bonds and ignited the American Revolutionary War. In an unprecedented moment in 1775\, ordinary people in Lexington made extraordinary choices. An entire community—women\, men\, black\, white\, young\, old\, enslaved\, and free—helped spark a revolution. Two hundred and fifty years later\, Americans continue to remember April 19\, 1775\, as a moment when everyday people shaped history. This exhibition explores the events of April 19\, 1775\, with images\, objects\, and an in-depth look at this watershed event and how it has been remembered.
URL:https://massachusetts250.org/event/protest-and-promise-the-american-revolution-in-lexington/
LOCATION:Scottish Rite Masonic Museum & Library\, 33 Marrett Road\, Lexington\, MA\, 02421\, United States
CATEGORIES:Exhibit
ATTACH;FMTTYPE=image/png:https://massachusetts250.org/wp-content/uploads/2026/01/Social-Media-Template-with-50th-2.png
ORGANIZER;CN="Scottish Rite Masonic Museum &amp%3B Library":MAILTO:info@srmml.org
GEO:42.4367685;-71.2141633
X-APPLE-STRUCTURED-LOCATION;VALUE=URI;X-ADDRESS=Scottish Rite Masonic Museum & Library 33 Marrett Road Lexington MA 02421 United States;X-APPLE-RADIUS=500;X-TITLE=33 Marrett Road:geo:-71.2141633,42.4367685
END:VEVENT
BEGIN:VEVENT
DTSTART;TZID=America/New_York:20250414T090000
DTEND;TZID=America/New_York:20250614T210000
DTSTAMP:20260421T044132
CREATED:20250415T133055Z
LAST-MODIFIED:20250415T133055Z
UID:10001363-1744621200-1749934800@massachusetts250.org
SUMMARY:Concord250: Weaving an Address
DESCRIPTION:Exhibition: April 14 – June 14\, 2025\nOpening Reception April 14\, 6 p.m. \nThe Umbrella Arts Center in historic Concord Center will commemorate the semiquincentennial of the American Revolution and “the shot heard round the world” with an ambitious outdoor/indoor public and gallery art exhibition\, Weaving an Address\, curated by artist Marla McLeod. \nFor the first time\, Weaving an Address combines The Umbrella’s popular Art Ramble public art installation\, on view April 15 through October 7 at Brister’s Hill in nearby Walden Woods\, with an indoor exhibition (on view April 14 through June 14) in The Umbrella’s Allie Kussin Gallery. The exhibition features site-specific work by eight prominent Black artists combining sculpture\, fiber art\, installation and live performance inspired by little-known experiences of historical Black inhabitants of Concord and its Walden Woods. \nFeatured artists in the exhibition are Sharon Chandler Correnty\, Ifé Franklin\, Stephen Hamilton\, Whitney Harris\, Ekua Holmes\, Perla Mabel\, Marla McLeod\, Kimberly Love Radcliffe\, and Anthony Peyton Young. \nOutdoors\, large-scale work will be installed on Brister’s Hill\, named for Brister Freeman\, an enslaved man who won his freedom by serving in the Revolutionary War and then bought the property and lived there along with other formerly enslaved.Indoors at The Umbrella\, inter-related fiber artworks will weave narratives from fragmented pasts to offer a vision of how history shapes the present and influences the future. \nSupporting community activities include an opening reception on April 14\, monthly curator talks\, a processional with artist Ifé Franklin\, and participation in the town-wide Revolutionary Concordians Trading Card program. \nThis exhibition is presented as part of the Concord250 commemoration\, in partnership with The Walden Woods Project and The Robbins House\, in association with Gather 2025\, a month-long exploration and celebration of fiber and textile art in Greater Boston\, and with permission of Concord Natural Resources Division. \nSee https://TheUmbrellaArts.org/Weaving for more information about special engagements\, wayfinding\, artist bios\, and background to the exhibition.
URL:https://massachusetts250.org/event/concord250-weaving-an-address/
LOCATION:The Umbrella Arts Center\, Stow Street 40\, Concord\, MA\, 01742\, United States
CATEGORIES:Black History,Commemoration,Event,Exhibit,Outdoors
ATTACH;FMTTYPE=image/jpeg:https://massachusetts250.org/wp-content/uploads/2025/04/Weaving-Address-Opening.jpg
ORGANIZER;CN="The Umbrella Arts Center":MAILTO:info@theumbrellaarts.org
GEO:42.4575079;-71.3525233
X-APPLE-STRUCTURED-LOCATION;VALUE=URI;X-ADDRESS=The Umbrella Arts Center Stow Street 40 Concord MA 01742 United States;X-APPLE-RADIUS=500;X-TITLE=Stow Street 40:geo:-71.3525233,42.4575079
END:VEVENT
BEGIN:VEVENT
DTSTART;TZID=America/New_York:20250503T110000
DTEND;TZID=America/New_York:20250503T160000
DTSTAMP:20260421T044132
CREATED:20250310T181049Z
LAST-MODIFIED:20250310T181049Z
UID:10001029-1746270000-1746288000@massachusetts250.org
SUMMARY:Sacred Rebellion: Congregationalists in Revolutionary Massachusetts
DESCRIPTION:The Congregational Library & Archives presents a new in-person exhibition\, “Sacred Rebellion: Congregationalists in Revolutionary Massachusetts.” The exhibition highlights the stories of Massachusetts Congregationalists drawn from the CLA’s important collections. \nBy the time the war began\, many Congregationalists had embraced a theological justification for war and revolution. They believed that God favored them and that their cause was a morally justified\, sacred rebellion. Through sermons\, books\, poems\, songs\, and letters\, Congregationalists shared their stories\, reflected on their moral obligations to each other\, and debated questions of liberty and loyalty. But consensus was elusive\, and implementation proved difficult and unsatisfactory to many\, especially those on the margins. \nThese discussions shaped the legacy of Congregationalism and the way the Revolutionary War is remembered today\, 250 years later.
URL:https://massachusetts250.org/event/sacred-rebellion-congregationalists-in-revolutionary-massachusetts-2/2025-05-03/
LOCATION:Congregational Library & Archives\, Beacon Street 14\, Boston\, Massachusetts\, 02108\, United States
CATEGORIES:Exhibit
ATTACH;FMTTYPE=image/png:https://massachusetts250.org/wp-content/uploads/2025/02/SRCarouselNarrow.png
ORGANIZER;CN="Congregational Library &amp%3B Archives":MAILTO:programs@14beacon.org
GEO:42.3579456;-71.062439
X-APPLE-STRUCTURED-LOCATION;VALUE=URI;X-ADDRESS=Congregational Library & Archives Beacon Street 14 Boston Massachusetts 02108 United States;X-APPLE-RADIUS=500;X-TITLE=Beacon Street 14:geo:-71.062439,42.3579456
END:VEVENT
END:VCALENDAR