BEGIN:VCALENDAR
VERSION:2.0
PRODID:-//MA250 - ECPv6.5.1.5//NONSGML v1.0//EN
CALSCALE:GREGORIAN
METHOD:PUBLISH
X-WR-CALNAME:MA250
X-ORIGINAL-URL:https://massachusetts250.org
X-WR-CALDESC:Events for MA250
REFRESH-INTERVAL;VALUE=DURATION:PT1H
X-Robots-Tag:noindex
X-PUBLISHED-TTL:PT1H
BEGIN:VTIMEZONE
TZID:America/New_York
BEGIN:DAYLIGHT
TZOFFSETFROM:-0500
TZOFFSETTO:-0400
TZNAME:EDT
DTSTART:20250309T070000
END:DAYLIGHT
BEGIN:STANDARD
TZOFFSETFROM:-0400
TZOFFSETTO:-0500
TZNAME:EST
DTSTART:20251102T060000
END:STANDARD
END:VTIMEZONE
BEGIN:VEVENT
DTSTART;VALUE=DATE:20250131
DTEND;VALUE=DATE:20250301
DTSTAMP:20260421T154438
CREATED:20250206T214636Z
LAST-MODIFIED:20250206T214636Z
UID:10000938-1738281600-1740787199@massachusetts250.org
SUMMARY:Masters of Miniature Ship Model Show
DESCRIPTION:USS Constitution Museum \nA Celebration of Ship Modeling and 250 Years of Naval Heritage. Presented by the USS Constitution Model Shipwright Guild\, Masters of Miniature showcases the intricate and spectacular handcrafted Ship models from modelers across New England. \nFrom ninth-century ships to pleasure craft of today and everything in between\, the show includes exquisite\, handcrafted vessels of many kinds made by skilled Modelers representing Master Craftsmen and introducing a new generation of modelers. This year’s models highlight vessels spanning 250 years of U.S. Navy history\, offering a stunning reflection on the evolution of maritime design and innovation. \nMeet the modelers and vote for your favorite! Master Craftsmen will be available to answer questions and demonstrate the craft. Attendees can also participate in a scavenger hunt as a fun way to learn more about each model and their real-life counterparts.
URL:https://massachusetts250.org/event/masters-of-miniature-ship-model-show/
LOCATION:MA
CATEGORIES:Celebration,Exhibit
ATTACH;FMTTYPE=image/png:https://massachusetts250.org/wp-content/uploads/2025/02/Masters-of-Miniature-Slider-4.png
END:VEVENT
BEGIN:VEVENT
DTSTART;TZID=America/New_York:20250221T170000
DTEND;TZID=America/New_York:20250221T200000
DTSTAMP:20260421T154438
CREATED:20250214T165007Z
LAST-MODIFIED:20250214T165007Z
UID:10000990-1740157200-1740168000@massachusetts250.org
SUMMARY:Leslie’s Retreat: Salem on the Brink of Revolution Exhibit Opening Reception and Lecture
DESCRIPTION:Before Lexington and Concord\, there was “Leslie’s Retreat” – a confrontation between Salem residents and British soldiers in February 1775. Essex Heritage and its partners are inviting the public and media members to learn about this historic event\, which is part of ongoing efforts to commemorate the 250th anniversary of the American Revolution. \nOn February 26\, 1775\, British Colonel Alexander Leslie brought troops to Salem\, MA to confiscate reported cannons. What he found was a community on edge. Militia members and local citizens blocked access over the North River Bridge preventing the soldiers from completing their search. Though a peaceful agreement was reached\, the standoff highlights the growing tensions that led to the American Revolution. \nLeslie’s Retreat: Salem on the Brink of Revolution\, an upcoming exhibit at the Salem Armory Regional Visitor Center (2 New Liberty Street\, Salem)\, will explore the significance of “Leslie’s Retreat” in American history and the changing legacy of the event over time. This exhibit is a joint effort between the Essex National Heritage Area\, Salem Maritime National Historic Site\, and Minute Man National Historical Park. The free exhibit will be on display from February 21 to April 27\, Wednesday to Sunday\, 10 am to 4 pm. \nAn opening reception and lecture for the exhibit will be held Friday\, February 21 at 5 pm at the Salem Armory Regional Visitor Center. Salem Maritime National Historic Site curator Dr. Emily Murphy will present the free lecture at 6:30 pm. The reception is presented by Essex National Heritage Area\, Salem Maritime National Historic Site\, and Eastern National. \nThis exhibit is also part of a city-wide effort to commemorate the 250th anniversary of Leslie’s Retreat. More information about community events can be found at https://www.salem400.org/leslies-retreat/ and https://essexheritage.org/rev250/
URL:https://massachusetts250.org/event/leslies-retreat-salem-on-the-brink-of-revolution-exhibit-opening-reception-and-lecture/
LOCATION:Salem Armory Visitor Center\, New Liberty Street 2\, Salem\, Massachusetts\, 01970\, United States
CATEGORIES:Anniversary,Event,Exhibit,Speakers
ATTACH;FMTTYPE=image/jpeg:https://massachusetts250.org/wp-content/uploads/2025/02/IMG_4196-scaled.jpeg
ORGANIZER;CN="Essex Heritage":MAILTO:info@essexheritage.org
GEO:42.5227268;-70.8919824
X-APPLE-STRUCTURED-LOCATION;VALUE=URI;X-ADDRESS=Salem Armory Visitor Center New Liberty Street 2 Salem Massachusetts 01970 United States;X-APPLE-RADIUS=500;X-TITLE=New Liberty Street 2:geo:-70.8919824,42.5227268
END:VEVENT
END:VCALENDAR