BEGIN:VCALENDAR
VERSION:2.0
PRODID:-//MA250 - ECPv6.5.1.5//NONSGML v1.0//EN
CALSCALE:GREGORIAN
METHOD:PUBLISH
X-ORIGINAL-URL:https://massachusetts250.org
X-WR-CALDESC:Events for MA250
REFRESH-INTERVAL;VALUE=DURATION:PT1H
X-Robots-Tag:noindex
X-PUBLISHED-TTL:PT1H
BEGIN:VTIMEZONE
TZID:America/New_York
BEGIN:DAYLIGHT
TZOFFSETFROM:-0500
TZOFFSETTO:-0400
TZNAME:EDT
DTSTART:20250309T070000
END:DAYLIGHT
BEGIN:STANDARD
TZOFFSETFROM:-0400
TZOFFSETTO:-0500
TZNAME:EST
DTSTART:20251102T060000
END:STANDARD
END:VTIMEZONE
BEGIN:VEVENT
DTSTART;TZID=America/New_York:20250130T100000
DTEND;TZID=America/New_York:20250130T190000
DTSTAMP:20260421T154639
CREATED:20250114T165811Z
LAST-MODIFIED:20250114T165811Z
UID:10000353-1738231200-1738263600@massachusetts250.org
SUMMARY:Timeline to Independence - Marlborough\, MA Rotating Exhibit
DESCRIPTION:The Marlborough Revolution 250 Committee is hosting a three-part exhibit showcasing our nation’s beginnings through the display of rare artifacts from private collections. \nExhibit 1: Religion & Culture (1624 – 1651) & Early Seeds of Discontent (1651 – 1750)\nJanuary 30\, 2025: 10am – 7pm\nJanuary 31\, 2025: 10am – 4pm\nFebruary 1\, 2025: 10am – 4pm \nExhibit 2: Taxes Imposed & Withdrawn (1751 – 1770) & Building Resentment (1768 – 1774)\nFebruary 27\, 2025: 10am – 7pm\nFebruary 28\, 2025: 10am – 4pm\nMarch 1\, 2025: 10am – 4pm \nExhibit 3: Tensions Escalate (1774 – 1775) & American Revolution (1775 – 1783)\nMarch 27\, 2025: 10am – 7pm\nMarch 28\, 2025: 10am – 4pm\nMarch 29\, 2025: 10am – 4pm
URL:https://massachusetts250.org/event/timeline-to-independence-marlborough-ma-rotating-exhibit/
LOCATION:Marlborough Public Library\, 35 W Main St.\, Marlborough\, MA\, 01752\, United States
CATEGORIES:Exhibit
ATTACH;FMTTYPE=image/png:https://massachusetts250.org/wp-content/uploads/2025/01/Rev-250-Library-Exhibit-Flyer.png
ORGANIZER;CN="Marlborough Revolution 250 Committee":MAILTO:ljaworek@marlboroughedc.com
GEO:42.3460454;-71.5545448
X-APPLE-STRUCTURED-LOCATION;VALUE=URI;X-ADDRESS=Marlborough Public Library 35 W Main St. Marlborough MA 01752 United States;X-APPLE-RADIUS=500;X-TITLE=35 W Main St.:geo:-71.5545448,42.3460454
END:VEVENT
END:VCALENDAR