BEGIN:VCALENDAR
VERSION:2.0
PRODID:-//MA250 - ECPv6.5.1.5//NONSGML v1.0//EN
CALSCALE:GREGORIAN
METHOD:PUBLISH
X-ORIGINAL-URL:https://massachusetts250.org
X-WR-CALDESC:Events for MA250
REFRESH-INTERVAL;VALUE=DURATION:PT1H
X-Robots-Tag:noindex
X-PUBLISHED-TTL:PT1H
BEGIN:VTIMEZONE
TZID:America/New_York
BEGIN:DAYLIGHT
TZOFFSETFROM:-0500
TZOFFSETTO:-0400
TZNAME:EDT
DTSTART:20250309T070000
END:DAYLIGHT
BEGIN:STANDARD
TZOFFSETFROM:-0400
TZOFFSETTO:-0500
TZNAME:EST
DTSTART:20251102T060000
END:STANDARD
END:VTIMEZONE
BEGIN:VEVENT
DTSTART;TZID=America/New_York:20251009T100000
DTEND;TZID=America/New_York:20251010T170000
DTSTAMP:20260424T163213
CREATED:20250814T075242Z
LAST-MODIFIED:20250814T075334Z
UID:10003783-1760004000-1760115600@massachusetts250.org
SUMMARY:Hannah vs Nautilus — 3 Special Sails this October!
DESCRIPTION:October marks the 250th anniversary of the battle between General George Washington’s hired vessel HANNAH and HMS NAUTILUS. This Oct. 9 and 10\, FAME will sail FAME into the waters where the battle was fought and Capt. Mike Rutstein will talk us through every step of the historic encounter. He’ll also cover the aftermath of the battle\, the differing historical accounts\, and finally the efforts to replicate HANNAH which led\, indirectly\, to the building of FAME. \nTickets are $75 and are available only at schoonerfame.com! \nhttps://www.schoonerfame.com/sailing-tours
URL:https://massachusetts250.org/event/hannah-vs-nautilus-3-special-sails-this-october/
LOCATION:MA
CATEGORIES:Event
ATTACH;FMTTYPE=image/jpeg:https://massachusetts250.org/wp-content/uploads/2025/08/Hannah-vs-Nautilus.jpg
END:VEVENT
END:VCALENDAR