BEGIN:VCALENDAR
VERSION:2.0
PRODID:-//MA250 - ECPv6.5.1.5//NONSGML v1.0//EN
CALSCALE:GREGORIAN
METHOD:PUBLISH
X-WR-CALNAME:MA250
X-ORIGINAL-URL:https://massachusetts250.org
X-WR-CALDESC:Events for MA250
REFRESH-INTERVAL;VALUE=DURATION:PT1H
X-Robots-Tag:noindex
X-PUBLISHED-TTL:PT1H
BEGIN:VTIMEZONE
TZID:America/New_York
BEGIN:DAYLIGHT
TZOFFSETFROM:-0500
TZOFFSETTO:-0400
TZNAME:EDT
DTSTART:20250309T070000
END:DAYLIGHT
BEGIN:STANDARD
TZOFFSETFROM:-0400
TZOFFSETTO:-0500
TZNAME:EST
DTSTART:20251102T060000
END:STANDARD
END:VTIMEZONE
BEGIN:VEVENT
DTSTART;TZID=America/New_York:20250701T103000
DTEND;TZID=America/New_York:20250906T123000
DTSTAMP:20260424T190023
CREATED:20250214T203856Z
LAST-MODIFIED:20250717T190222Z
UID:10000943-1751365800-1757161800@massachusetts250.org
SUMMARY:Vineyard Preservation Trust presents: Martha’s Vineyard: A Revolutionary War Refuge Historic Edgartown Walking Tours – Highlighting the Revolutionary War’s Impact on the Island
DESCRIPTION:Martha’s Vineyard: A Revolutionary War Refuge\nMartha’s Vineyard\, known for its whaling heritage and maritime culture\, played a unique and often overlooked role in the Revolutionary War. As a fiercely independent community it was both a refuge and a target\, caught between British occupation on the mainland and the growing struggle for American independence. Join us for a walking tour of historic downtown Edgartown and discover the lasting impact of this pivotal time through the lens of the Trust’s historic properties. Tours offered seasonally Tuesdays-Saturdays 10:30am\, July 1 – September 6. Tour image by Ray Ewing\, courtesy of the Vineyard Gazette.\nTour Highlights Include:\nThe Cooke House (1766): The Martha’s Vineyard Museum’s historic property was home to generations of the Cooke family and the site of Great Harbor’s custom’s house. Learn how Edgartown’s residents’ livelihoods were altered by the conflict and how the infamous Grey’s Raid – the British seizure of nearly 10\,000 sheep in 1778–forever altered the course of the island’s history.\nThe Old Whaling Church & Dr. Daniel Fisher House (Circa. 1840): Discover how the Revolutionary War impacted the whaling industry on the island.\nGen. Benjamin Smith Home/The Vineyard Gazette Building (1760): View the original home of Captain Benjamin Smith\, a Patriot militia commander on Martha’s Vineyard. Now housing the Vineyard Gazette\, one of the nation’s longest-running independent newspapers\, this historic building reflects the island’s Revolutionary past and its ongoing role in public discourse.\nThe Vincent House (1672): What is a broad or a kingboard? Discover the significance of the Eastern White Pine trunks highly prized by the British Empire for their role in securing naval dominance – and how colonists cleverly hid these boards from British authorities.\nAnd much more!
URL:https://massachusetts250.org/event/vineyard-preservation-trust-presents-marthas-vineyard-a-revolutionary-war-refuge-historic-edgartown-walking-tours-highlighting-the-revolutionary-wars-impact-on-the-island/
LOCATION:Vineyard Preservation Trust\, Old Whaling Church\, Main Street 89\, Edgartown\, Massachusetts\, 02539\, United States
CATEGORIES:Event
ATTACH;FMTTYPE=image/jpeg:https://massachusetts250.org/wp-content/uploads/2025/02/re-vincent-house.jpg
ORGANIZER;CN="Vineyard Preservation Trust":MAILTO:thecarnegie@mvpreservation.org
GEO:41.3905702;-70.5151729
X-APPLE-STRUCTURED-LOCATION;VALUE=URI;X-ADDRESS=Vineyard Preservation Trust Old Whaling Church Main Street 89 Edgartown Massachusetts 02539 United States;X-APPLE-RADIUS=500;X-TITLE=Main Street 89:geo:-70.5151729,41.3905702
END:VEVENT
BEGIN:VEVENT
DTSTART;TZID=America/New_York:20250820T190000
DTEND;TZID=America/New_York:20250820T203000
DTSTAMP:20260424T190023
CREATED:20250723T143910Z
LAST-MODIFIED:20250723T143910Z
UID:10001755-1755716400-1755721800@massachusetts250.org
SUMMARY:First Shot of the American Revolution?
DESCRIPTION:Did you know there was a shot fired in Danvers\, MA during August of 1774? \nGeneral Gage’s “87 Days at Danvers” June 2 – August 27\, 1774 \nA presentation and discussion of what should be viewed as the First Campaign of the American Revolutionary War. And\, contrary to popular thought\, within that ‘juggernaut’ perhaps the ‘First’ shot fired in that War possibly occurring in Danvers Massachusetts on August 24\, 1774.
URL:https://massachusetts250.org/event/first-shot-of-the-american-revolution/
LOCATION:Tapley Memorial Hall\, 13 Page Street\, Danvers\, MA\, 01923\, United States
CATEGORIES:Event,Speakers
ATTACH;FMTTYPE=image/jpeg:https://massachusetts250.org/wp-content/uploads/2025/07/Hooper-House-mural-square.jpg
ORGANIZER;CN="Danvers Historical Society":MAILTO:dhs@danvershistory.org
GEO:42.5658882;-70.9371886
X-APPLE-STRUCTURED-LOCATION;VALUE=URI;X-ADDRESS=Tapley Memorial Hall 13 Page Street Danvers MA 01923 United States;X-APPLE-RADIUS=500;X-TITLE=13 Page Street:geo:-70.9371886,42.5658882
END:VEVENT
END:VCALENDAR