BEGIN:VCALENDAR
VERSION:2.0
PRODID:-//MA250 - ECPv6.5.1.5//NONSGML v1.0//EN
CALSCALE:GREGORIAN
METHOD:PUBLISH
X-WR-CALNAME:MA250
X-ORIGINAL-URL:https://massachusetts250.org
X-WR-CALDESC:Events for MA250
REFRESH-INTERVAL;VALUE=DURATION:PT1H
X-Robots-Tag:noindex
X-PUBLISHED-TTL:PT1H
BEGIN:VTIMEZONE
TZID:America/New_York
BEGIN:DAYLIGHT
TZOFFSETFROM:-0500
TZOFFSETTO:-0400
TZNAME:EDT
DTSTART:20250309T070000
END:DAYLIGHT
BEGIN:STANDARD
TZOFFSETFROM:-0400
TZOFFSETTO:-0500
TZNAME:EST
DTSTART:20251102T060000
END:STANDARD
END:VTIMEZONE
BEGIN:VEVENT
DTSTART;VALUE=DATE:20250412
DTEND;VALUE=DATE:20250422
DTSTAMP:20260425T210148
CREATED:20250410T171648Z
LAST-MODIFIED:20250410T171648Z
UID:10001355-1744416000-1745279999@massachusetts250.org
SUMMARY:Arlington Restaurant Week
DESCRIPTION:Arlington Restaurant Week\nSunday\, April 12-Monday\, April 21 \nArlington’s diverse cuisine\, representing all corners of the world\, will be on display during Arlington Restaurant Week. Running from Sunday\, April 12 through Monday\, April 21\, Arlington Restaurant Week will encompass Patriots’ Day Weekend 2025 and will celebrate 250 years since the Battle of Menotomy which took place at the beginning of the American Revolution. Participating restaurants will feature culinary specials and entertainment. \nArlington offers a thriving arts scene\, boutique galleries\, independent theaters\, diverse dining\, public art and access to the Minuteman Bikeway all within five square miles. This blend of history\, natural beauty and vibrant arts makes Arlington a destination for foodies and history buffs just in time to kick off the 250th anniversary of the start of the American Revolution.
URL:https://massachusetts250.org/event/arlington-restaurant-week/
LOCATION:MA
CATEGORIES:Culinary,Event
ATTACH;FMTTYPE=image/png:https://massachusetts250.org/wp-content/uploads/2025/04/Leader-Bank-Colors_Banner_Restaurant-Week-Logo.png
ORGANIZER;CN="Town of Arlington":MAILTO:kluczai@town.arlington.ma.us
END:VEVENT
BEGIN:VEVENT
DTSTART;TZID=America/New_York:20250413T130000
DTEND;TZID=America/New_York:20250413T140000
DTSTAMP:20260425T210148
CREATED:20250314T183456Z
LAST-MODIFIED:20250331T185122Z
UID:10001106-1744549200-1744552800@massachusetts250.org
SUMMARY:Westford Rev 250: The Westford Girls Scouts presents; "A Day for Doughnuts\, April 19\, 1775"
DESCRIPTION:Join us for “A Day for Doughnuts\,” a one-act play set on April 19\, 1775. This performance captures the last thing Colonel Robinson said before he left that morning: “Have the girls prepare dough knots and send them to the men for lunch.” \nOlive Prescott\, Lt. Col. John Robinson’s great-granddaughter\, recounts the April 19\, 1775 events\, including her ancestor’s significant role on that celebrated day. In her narrative\, Olive combines family memories\, town records accounts\, and local historians’ reports. \nShe describes how Huldah\, Robinson’s wife\, their three daughters\, and their servant Anna prepared many doughnuts to feed over 100 men from Westford who were heading to fight in Concord. \nWestford History proudly includes accounts of Lt. Col. John Robinson and the brave participation of the Westford Militia Companies in the colonial resistance and revolution on that important day in April 1775. The events at the North Bridge in Concord solidified Lt. Col. John Robinson’s status as a courageous American hero of liberty whose valiant actions contributed to securing our American freedom. \nSuggested Donation: $10 per person
URL:https://massachusetts250.org/event/westford-rev-250-the-westford-girls-scouts-presents-a-day-for-doughnuts-april-19-1775/
LOCATION:Westford Museum\, 2 Boston Rd\, Westford MA\, Boston Road 2\, Westford\, MA\, 01886\, United States
CATEGORIES:Drama,Event
ATTACH;FMTTYPE=image/png:https://massachusetts250.org/wp-content/uploads/2025/03/drawing.png
ORGANIZER;CN="Westford Historical Society":MAILTO:director@museum.westford.org
GEO:42.5803939;-71.4377731
X-APPLE-STRUCTURED-LOCATION;VALUE=URI;X-ADDRESS=Westford Museum 2 Boston Rd Westford MA Boston Road 2 Westford MA 01886 United States;X-APPLE-RADIUS=500;X-TITLE=Boston Road 2:geo:-71.4377731,42.5803939
END:VEVENT
BEGIN:VEVENT
DTSTART;TZID=America/New_York:20250413T130000
DTEND;TZID=America/New_York:20250413T150000
DTSTAMP:20260425T210148
CREATED:20250122T211037Z
LAST-MODIFIED:20250131T193551Z
UID:10000391-1744549200-1744556400@massachusetts250.org
SUMMARY:"Spies Among Us" year long exhibit opening on February 6th 2025
DESCRIPTION:“Spies Among Us” will open on Thursday\, February 6th at 10 a.m. during the museum’s first Thursday opening hours. We will be open from 10 a.m. to 4 p.m. on February 6th and will be open every Thursday going forward from 10-4. We will also showcase the exhibit during our February Second Sunday Open House on Sunday\, February 9th from 1 p.m. to 3 p.m. \nThe exhibit will recall the story of General Gage’s spies who visited the Tavern in 1775\, explore examples of espionage on both sides\, and examine the many ways of spying that were used during the American Revolution. \nSpycraft played a pivotal role during the American Revolution\, with both the Continental Army and British forces using intelligence operations to gain strategic advantages. The Golden Ball Tavern and its proprietor Isaac Jones\, played host on a few occasions to British spies sent\, by General Thomas Gage\, to survey the towns that were scattered around the area from Boston to Worcester. This was just one of the British military’s tactics for keeping the Patriots in line. On the American side\, espionage was essential in countering the British military’s superior resources and manpower. \nThe spycraft of the American Revolution was marked by its ingenuity\, the use of civilian networks\, and the blending of military and civilian espionage tactics. Though it was often risky and unreliable\, intelligence-gathering operations played a critical role in the eventual success of the American cause\, allowing the Continental Army to take advantage of British vulnerabilities and ultimately secure victory. \nJoin us as we introduce our new exhibit and our new Thursday opening hours. The museum will continue to be open every second Sunday of the month for our Second Sunday Open House Tours and will now be open every Thursday from 10 a.m. to 4 p.m.\nWe look forward to welcoming you!
URL:https://massachusetts250.org/event/spies-among-us-year-long-exhibit-opening-on-february-6th-2025/2025-04-13/
LOCATION:Golden Ball Tavern Museum\, Boston Post Road 662\, Weston\, Massachusetts\, 02493\, United States
CATEGORIES:Commemoration,Event,Exhibit
ATTACH;FMTTYPE=image/png:https://massachusetts250.org/wp-content/uploads/2025/01/General-gages-instructions-page-1.png
ORGANIZER;CN="Golden Ball Tavern Museum":MAILTO:gbtmuseum@gmail.com
GEO:42.365745;-71.309473
X-APPLE-STRUCTURED-LOCATION;VALUE=URI;X-ADDRESS=Golden Ball Tavern Museum Boston Post Road 662 Weston Massachusetts 02493 United States;X-APPLE-RADIUS=500;X-TITLE=Boston Post Road 662:geo:-71.309473,42.365745
END:VEVENT
BEGIN:VEVENT
DTSTART;TZID=America/New_York:20250413T130000
DTEND;TZID=America/New_York:20250413T160000
DTSTAMP:20260425T210148
CREATED:20250206T213237Z
LAST-MODIFIED:20250206T213237Z
UID:10000934-1744549200-1744560000@massachusetts250.org
SUMMARY:Barrett Farm Open House & Programs (Minute Man NHP)
DESCRIPTION:On April 19th\, 1775 a contingent of about 120\, British Soldiers marched over the North Bridge to Barrett’s farm in search of military arms and supplies. During this open house program explore the interior of this 319 year old home\, talk with park staff about military preparations in 1775\, and learn the story of Rebeckah Barrett who went toe to toe with the British Soldiers searching her home. \nSchedule of Events: \n11:00 am- Military Supplies lecture (1 hour)\nFrom cannons to salted fish\, Concord became a major hub of military supply in 1775. Over the course of a few months the Barrett farm became a focal point of the logistics of war. Join Historian Joel Bohy for a special 250th anniversary lecture about the collection of Military supplies in Concord before\, during\, and after April 0f 1775. This lecture will require prior registration. Check back soon for more details \n1:00 pm- Barrett Farm Open House \n2:00 pm- Join the artillery program (30 Minutes)\nSee if you have what it takes to be an 18th century artillerist in this non-firing hands-on experience. Join a Park Ranger for an interactive program about 18th century cannons and their use on the battlefield. \n4:00 pm- Site Closed \nParking:\nColonel James Barrett House: 448 Barrett’s Mill Road\, Concord MA 01742 \nThis event is co-sponsored by Friends of Minute Man National Park
URL:https://massachusetts250.org/event/barrett-farm-open-house-programs-minute-man-nhp/
LOCATION:Minute Man National Historical Park\, 74 Liberty Street\, Concord\, MA\, 01742\, United States
CATEGORIES:Anniversary,Commemoration,Event,Exhibit,Outdoors,Reenactment,Speakers
ATTACH;FMTTYPE=image/jpeg:https://massachusetts250.org/wp-content/uploads/2025/02/Barrett-house-scaled.jpg
ORGANIZER;CN="Minute Man National Historical Park":MAILTO:mark_powell@nps.gov
GEO:42.4679346;-71.3545038
X-APPLE-STRUCTURED-LOCATION;VALUE=URI;X-ADDRESS=Minute Man National Historical Park 74 Liberty Street Concord MA 01742 United States;X-APPLE-RADIUS=500;X-TITLE=74 Liberty Street:geo:-71.3545038,42.4679346
END:VEVENT
BEGIN:VEVENT
DTSTART;TZID=America/New_York:20250413T140000
DTEND;TZID=America/New_York:20250413T170000
DTSTAMP:20260425T210148
CREATED:20250310T180708Z
LAST-MODIFIED:20250331T185226Z
UID:10000997-1744552800-1744563600@massachusetts250.org
SUMMARY:50th Anniversary Celebration and Rededication
DESCRIPTION:The Museum of Our National Heritage opened on April 20\, 1975. The museum\, now known as the Scottish Rite Masonic Museum & Library\, was a Bicentennial gift to the nation from the Scottish Rite Freemasons of the Northern Masonic Jurisdiction. Join us on Sunday\, April 13\, 2025\, to kick off the museum’s 50th anniversary celebration! \nThis special event will feature a rededication of the museum as well as the opportunity to see the museum’s two new gallery exhibitions: “Looking Back\, Moving Forward: 50 Years of Collecting” and “Protest & Promise: The American Revolution in Lexington.” This event launches a year of celebratory anniversary programming\, including gallery talks\, engaging lectures\, and new exhibitions. Come celebrate with us as we begin our next half century! \nAdmission is free. Please register yourself and any guests in advance. Questions? Contact us at 781-861-6559 or info@srmml.org.
URL:https://massachusetts250.org/event/50th-anniversary-celebration-and-rededication/
LOCATION:Scottish Rite Masonic Museum & Library\, 33 Marrett Road\, Lexington\, MA\, 02421\, United States
CATEGORIES:Anniversary,Black History,Celebration,Commemoration,Event,Exhibit,Women's History
ATTACH;FMTTYPE=image/png:https://massachusetts250.org/wp-content/uploads/2025/03/scottish.png
ORGANIZER;CN="Scottish Rite Masonic Museum &amp%3B Library":MAILTO:info@srmml.org
GEO:42.4367685;-71.2141633
X-APPLE-STRUCTURED-LOCATION;VALUE=URI;X-ADDRESS=Scottish Rite Masonic Museum & Library 33 Marrett Road Lexington MA 02421 United States;X-APPLE-RADIUS=500;X-TITLE=33 Marrett Road:geo:-71.2141633,42.4367685
END:VEVENT
END:VCALENDAR