BEGIN:VCALENDAR
VERSION:2.0
PRODID:-//MA250 - ECPv6.5.1.5//NONSGML v1.0//EN
CALSCALE:GREGORIAN
METHOD:PUBLISH
X-WR-CALNAME:MA250
X-ORIGINAL-URL:https://massachusetts250.org
X-WR-CALDESC:Events for MA250
REFRESH-INTERVAL;VALUE=DURATION:PT1H
X-Robots-Tag:noindex
X-PUBLISHED-TTL:PT1H
BEGIN:VTIMEZONE
TZID:America/New_York
BEGIN:DAYLIGHT
TZOFFSETFROM:-0500
TZOFFSETTO:-0400
TZNAME:EDT
DTSTART:20250309T070000
END:DAYLIGHT
BEGIN:STANDARD
TZOFFSETFROM:-0400
TZOFFSETTO:-0500
TZNAME:EST
DTSTART:20251102T060000
END:STANDARD
END:VTIMEZONE
BEGIN:VEVENT
DTSTART;TZID=America/New_York:20251202T180000
DTEND;TZID=America/New_York:20251202T193000
DTSTAMP:20260424T122941
CREATED:20251117T214404Z
LAST-MODIFIED:20251117T214404Z
UID:10003950-1764698400-1764703800@massachusetts250.org
SUMMARY:The First Commander Remembered: Washington’s Legacy in Cambridge
DESCRIPTION:To mark the 250th anniversaries of the American Revolution and the founding of the United States\, a coalition of Cambridge non-profits and government agencies will present Washington in American Memory\, a seven-part speaker series taking place in-person and online. \nDebunk myths and trace the evolution of the public memory of George Washington in Cambridge\, Massachusetts\, featuring:\n– J.L. Bell\, author of The Road to Concord: How Four Stolen Cannon Ignited the Revolutionary War and proprietor of Boston1775.net\n– Charles Sullivan\, co-author of Building Old Cambridge: Architecture and Development and Executive Director of the Cambridge Historical Commission \nThis speaker series is made possible through the generous support of America’s National Parks\, a nonprofit partner of the National Park Service. It is presented in partnership by the National Park Service/Longfellow House-Washington’s Headquarters National Historic Site\, History Cambridge\, Cambridge Public Library\, Cambridge Historical Commission\, and Cambridge MA250.
URL:https://massachusetts250.org/event/the-first-commander-remembered-washingtons-legacy-in-cambridge/
LOCATION:Cambridge Public Library\, Broadway 449\, Cambridge\, Massachusetts\, 02138\, United States
CATEGORIES:Commemoration,Event,Speakers
ATTACH;FMTTYPE=image/png:https://massachusetts250.org/wp-content/uploads/2025/11/Banner-image.png
ORGANIZER;CN="National Park Service":MAILTO:mark_powell@nps.gov
GEO:42.3737951;-71.1101296
X-APPLE-STRUCTURED-LOCATION;VALUE=URI;X-ADDRESS=Cambridge Public Library Broadway 449 Cambridge Massachusetts 02138 United States;X-APPLE-RADIUS=500;X-TITLE=Broadway 449:geo:-71.1101296,42.3737951
END:VEVENT
BEGIN:VEVENT
DTSTART;TZID=America/New_York:20251206T080000
DTEND;TZID=America/New_York:20251206T170000
DTSTAMP:20260424T122941
CREATED:20251124T205841Z
LAST-MODIFIED:20251124T205841Z
UID:10004259-1765008000-1765040400@massachusetts250.org
SUMMARY:Handmade Craft Demonstration and Sale
DESCRIPTION:Erich and Janice Steinhagen bring their 18th century craft techniques all the way from Connecticut for a two-day holiday season residency as they demonstrate redware pottery production and the fiber art of spinning in our Revere Room. Erich will be throwing pots on the wheel while Janice spins sheep’s wool or flax into yarn. Finished products will be available for sale! \nWhile the crafters share their techniques on the ground floor of our Visitor Center\, R.P. Hale will provide an 18th and 19th century Advent soundtrack in the second-floor exhibit space\, playing the harpsichord and virginal\, he meticulously crafted himself based on period originals.
URL:https://massachusetts250.org/event/handmade-craft-demonstration-and-sale/2025-12-06/1/
LOCATION:Paul Revere House\, 19 North Square\, Boston\, 02113\, United States
CATEGORIES:Celebration,Event,Reenactment,Women's History
ATTACH;FMTTYPE=image/png:https://massachusetts250.org/wp-content/uploads/2025/11/Sat-Dec-6-2025-Craft-Poster.png
ORGANIZER;CN="Paul Revere House":MAILTO:emily@paulreverehouse.org
GEO:42.363739;-71.0537
X-APPLE-STRUCTURED-LOCATION;VALUE=URI;X-ADDRESS=Paul Revere House 19 North Square Boston 02113 United States;X-APPLE-RADIUS=500;X-TITLE=19 North Square:geo:-71.0537,42.363739
END:VEVENT
BEGIN:VEVENT
DTSTART;TZID=America/New_York:20251206T110000
DTEND;TZID=America/New_York:20251206T150000
DTSTAMP:20260424T122941
CREATED:20251124T205841Z
LAST-MODIFIED:20251124T205841Z
UID:10004260-1765018800-1765033200@massachusetts250.org
SUMMARY:Handmade Craft Demonstration and Sale
DESCRIPTION:Erich and Janice Steinhagen bring their 18th century craft techniques all the way from Connecticut for a two-day holiday season residency as they demonstrate redware pottery production and the fiber art of spinning in our Revere Room. Erich will be throwing pots on the wheel while Janice spins sheep’s wool or flax into yarn. Finished products will be available for sale! \nWhile the crafters share their techniques on the ground floor of our Visitor Center\, R.P. Hale will provide an 18th and 19th century Advent soundtrack in the second-floor exhibit space\, playing the harpsichord and virginal\, he meticulously crafted himself based on period originals.
URL:https://massachusetts250.org/event/handmade-craft-demonstration-and-sale/2025-12-06/2/
LOCATION:Paul Revere House\, 19 North Square\, Boston\, 02113\, United States
CATEGORIES:Celebration,Event,Reenactment,Women's History
ATTACH;FMTTYPE=image/png:https://massachusetts250.org/wp-content/uploads/2025/11/Sat-Dec-6-2025-Craft-Poster.png
ORGANIZER;CN="Paul Revere House":MAILTO:emily@paulreverehouse.org
GEO:42.363739;-71.0537
X-APPLE-STRUCTURED-LOCATION;VALUE=URI;X-ADDRESS=Paul Revere House 19 North Square Boston 02113 United States;X-APPLE-RADIUS=500;X-TITLE=19 North Square:geo:-71.0537,42.363739
END:VEVENT
BEGIN:VEVENT
DTSTART;TZID=America/New_York:20251206T130000
DTEND;TZID=America/New_York:20251206T140000
DTSTAMP:20260424T122941
CREATED:20250609T192902Z
LAST-MODIFIED:20250609T192902Z
UID:10001477-1765026000-1765029600@massachusetts250.org
SUMMARY:Burial Hill Tour Series – Revolutionary Connections
DESCRIPTION:The Plymouth Antiquarian Society and Pilgrim Hall Museum announce their continuing partnership in a free public tour series of Plymouth’s historic Burial Hill for the 2025 season. Each first Saturday of the month a thematic tour of the ancient burying ground will reveal facets of Plymouth’s evolving story over generations. This year honors the 250th Anniversary of the American Revolution with a series theme of “Revolutionary Connections.” Each monthly tour highlights the Revolutionary era in Plymouth with insights into South Shore connections to America’s contest for independence. Presenters include local historians and authors who share their expertise on a range of topics\, highlighting art\, history\, and culture atop the open-air history museum in the heart of downtown Plymouth\, Burial Hill. \nSevere weather may cancel tour. Stay up to date with us on our Facebook page and visit pilgrimhall.org or plymouthantiquarian.org for more information on the continuing Burial Hill tour series.
URL:https://massachusetts250.org/event/burial-hill-tour-series-revolutionary-connections/2025-12-06/
LOCATION:Plymouth Burial Hill Cemetery\, Town Square 19\, Plymouth\, Massachusetts\, 02360\, United States
CATEGORIES:Anniversary,Commemoration,Event,Memorial,Outdoors,Speakers
ATTACH;FMTTYPE=image/jpeg:https://massachusetts250.org/wp-content/uploads/2025/06/Burial-Hill-Plymouth-Ted-Curtin.jpg
ORGANIZER;CN="Plymouth Antiquarian Society":MAILTO:info@plymouthantiquarian.org
GEO:41.9554698;-70.6649745
X-APPLE-STRUCTURED-LOCATION;VALUE=URI;X-ADDRESS=Plymouth Burial Hill Cemetery Town Square 19 Plymouth Massachusetts 02360 United States;X-APPLE-RADIUS=500;X-TITLE=Town Square 19:geo:-70.6649745,41.9554698
END:VEVENT
BEGIN:VEVENT
DTSTART;TZID=America/New_York:20251207T110000
DTEND;TZID=America/New_York:20251207T150000
DTSTAMP:20260424T122941
CREATED:20251124T205918Z
LAST-MODIFIED:20251124T205918Z
UID:10004261-1765105200-1765119600@massachusetts250.org
SUMMARY:Handmade Craft Demonstration and Sale
DESCRIPTION:Erich and Janice Steinhagen bring their 18th century craft techniques all the way from Connecticut for a two-day holiday season residency as they demonstrate redware pottery production and the fiber art of spinning in our Revere Room. Erich will be throwing pots on the wheel while Janice spins sheep’s wool or flax into yarn. Finished products will be available for sale! \nWhile the crafters share their techniques on the ground floor of our Visitor Center\, R.P. Hale will provide an 18th and 19th century Advent soundtrack in the second-floor exhibit space\, playing the harpsichord and virginal he meticulously crafted himself based on period originals.
URL:https://massachusetts250.org/event/handmade-craft-demonstration-and-sale-2/
LOCATION:Paul Revere House\, 19 North Square\, Boston\, 02113\, United States
CATEGORIES:Celebration,Event,Reenactment,Women's History
ATTACH;FMTTYPE=image/png:https://massachusetts250.org/wp-content/uploads/2025/11/Sun-Dec-7-2025-Craft-Poster.png
ORGANIZER;CN="Paul Revere House":MAILTO:emily@paulreverehouse.org
GEO:42.363739;-71.0537
X-APPLE-STRUCTURED-LOCATION;VALUE=URI;X-ADDRESS=Paul Revere House 19 North Square Boston 02113 United States;X-APPLE-RADIUS=500;X-TITLE=19 North Square:geo:-71.0537,42.363739
END:VEVENT
BEGIN:VEVENT
DTSTART;TZID=America/New_York:20251207T130000
DTEND;TZID=America/New_York:20251207T160000
DTSTAMP:20260424T122941
CREATED:20251117T214026Z
LAST-MODIFIED:20251117T214026Z
UID:10003937-1765112400-1765123200@massachusetts250.org
SUMMARY:America's Tapestry Community Stitching Event
DESCRIPTION:This year\, the Peabody Historical Society and Museum is partnering with the American Tapestry Project\, inviting visitors to take part in a community stitching activity where you can participate in making history! \nIn commemoration of the 250th\, the American Tapestry Project has designed 13 textile panels depicting lesser-known stories about the original thirteen colonies’ roles in the American Revolution. The Massachusetts panel conveys the history of chocolate milling and its entanglements with slavery. It has been traveling across the state to give residents the chance to contribute to this collaborative art project! Once all 13 panels are completed\, they will go on an exhibition tour across the United States between 2026-2028. \nThis activity will be held during our Holiday Open House where visitors can tour our 17th century historic house which will be decorated for the holidays. While you are here\, you can enjoy music and light refreshments. Visitors of all ages and skill levels are invited. Supplies and instruction will be provided by the state’s panel coordination team\, led by Denise De More. \nCome celebrate the collective threads of our nation’s founding. Even if you think you know about the Revolutionary period\, these panels are guaranteed to teach you something new!
URL:https://massachusetts250.org/event/americas-tapestry-community-stitching-event/
LOCATION:Smith Barn\, 38 Felton St.\, Peabody\, MA\, 01960\, United States
CATEGORIES:Commemoration,Event
ATTACH;FMTTYPE=image/png:https://massachusetts250.org/wp-content/uploads/2025/11/Open-House-Image.png
ORGANIZER;CN="Peabody Historical Society and Museum":MAILTO:info@peabodyhistorical.org
GEO:42.4525339;-71.022413
X-APPLE-STRUCTURED-LOCATION;VALUE=URI;X-ADDRESS=Smith Barn 38 Felton St. Peabody MA 01960 United States;X-APPLE-RADIUS=500;X-TITLE=38 Felton St.:geo:-71.022413,42.4525339
END:VEVENT
BEGIN:VEVENT
DTSTART;TZID=America/New_York:20251213T120000
DTEND;TZID=America/New_York:20251213T150000
DTSTAMP:20260424T122941
CREATED:20251208T154346Z
LAST-MODIFIED:20251208T154346Z
UID:10004271-1765627200-1765638000@massachusetts250.org
SUMMARY:Lexington History Museums Presents the 1773 Tea Burning Reenactment - A Lex250 Signature Event
DESCRIPTION:On December 13\, 1773\, unfair British taxes were on everyone’s mind as three ships sat in Boston harbor\, carrying shipments of East India Company tea. Lexington Town Meeting concluded a multi-day debate with a resolution to stop purchasing or drinking imported British tea. The crowd spilled out onto the common behind the meeting house and made a bonfire\, throwing the entire town’s supply of tea into it. Three days later\, the Boston Tea Party would make headlines\, but Lexington was there first. \nJoin Lexington History Museums for Lexington’s Annual Tea Burning Reenactment. Take part in fun\, interactive activities to learn more about why tea was so important to the Revolution. Meet with the Lexington residents of 1773\, portrayed by the Lexington Minute Men\, to hear their side of the story\, find out where tea comes from\, and end the day by gathering around the fire and burning the tea!
URL:https://massachusetts250.org/event/lexington-history-museums-presents-the-1773-tea-burning-reenactment-a-lex250-signature-event/
LOCATION:Buckman Tavern\, 1 Bedford Street\, Lexington\, 02420\, United States
CATEGORIES:Anniversary,Event,Reenactment
ATTACH;FMTTYPE=image/png:https://massachusetts250.org/wp-content/uploads/2025/12/Tea-Burning-Graphic.png
ORGANIZER;CN="Lex250":MAILTO:monamidroy@gmail.com
GEO:42.4492773;-71.2297485
X-APPLE-STRUCTURED-LOCATION;VALUE=URI;X-ADDRESS=Buckman Tavern 1 Bedford Street Lexington 02420 United States;X-APPLE-RADIUS=500;X-TITLE=1 Bedford Street:geo:-71.2297485,42.4492773
END:VEVENT
END:VCALENDAR