BEGIN:VCALENDAR
VERSION:2.0
PRODID:-//MA250 - ECPv6.5.1.5//NONSGML v1.0//EN
CALSCALE:GREGORIAN
METHOD:PUBLISH
X-ORIGINAL-URL:https://massachusetts250.org
X-WR-CALDESC:Events for MA250
REFRESH-INTERVAL;VALUE=DURATION:PT1H
X-Robots-Tag:noindex
X-PUBLISHED-TTL:PT1H
BEGIN:VTIMEZONE
TZID:America/New_York
BEGIN:DAYLIGHT
TZOFFSETFROM:-0500
TZOFFSETTO:-0400
TZNAME:EDT
DTSTART:20260308T070000
END:DAYLIGHT
BEGIN:STANDARD
TZOFFSETFROM:-0400
TZOFFSETTO:-0500
TZNAME:EST
DTSTART:20261101T060000
END:STANDARD
END:VTIMEZONE
BEGIN:VEVENT
DTSTART;TZID=America/New_York:20260507T133000
DTEND;TZID=America/New_York:20260507T143000
DTSTAMP:20260421T041617
CREATED:20260409T201339Z
LAST-MODIFIED:20260409T201339Z
UID:10008155-1778160600-1778164200@massachusetts250.org
SUMMARY:New England Sweets with Susan Mara Bregman
DESCRIPTION:A chocolate mill opened in Boston in the late 1700s\, setting the stage for New England’s enduring love affair with sweets. Over the following centuries\, the region has become home to an extraordinary variety of baked\, fried\, dipped\, sugared\, and frozen confections. Massachusetts gave us candy classics like Necco Wafers\, Sky Bars\, and Junior Mints.  From Fluffernutters to whoopie pies\, Susan Mara Bregman explores this sugary legacy\, uncovering the stories behind the treats that sweetened New England’s culinary landscape.  \nThe event is co-sponsored by Langley-Adams Library and Nichols Village.  The program will be in the auditorium at Nichols Village\, 1 Nichols Way\, Groveland\, MA.  Enter through the auditorium\, not the main entrance. \nThis program is part of the Revolutionary Library Crawl. Information on the Revolutionary Library Crawl available here:\nhttps://hwlibrary.org/wp-content/uploads/2026/03/Revolutionary-Library-Crawl-Passport.pdf \nBregman is the author of the following books:  New England Neon\, New England Candlepin Bowling and Along Route 1: Maine\, New Hampshire\, and Massachusetts.
URL:https://massachusetts250.org/event/new-england-sweets-with-susan-mara-bregman/
LOCATION:Nichols Village\, Nichols Way 1\, Groveland\, MA\, 01834\, United States
CATEGORIES:Culinary,Event,Speakers
ATTACH;FMTTYPE=image/jpeg:https://massachusetts250.org/wp-content/uploads/2026/04/revolutionary-library-crawl-logo-website-version-2.jpg
ORGANIZER;CN="Langley-Adams Library":MAILTO:snakanishi@langleyadamslib.org
GEO:42.7722699;-71.0100634
X-APPLE-STRUCTURED-LOCATION;VALUE=URI;X-ADDRESS=Nichols Village Nichols Way 1 Groveland MA 01834 United States;X-APPLE-RADIUS=500;X-TITLE=Nichols Way 1:geo:-71.0100634,42.7722699
END:VEVENT
BEGIN:VEVENT
DTSTART;TZID=America/New_York:20260507T180000
DTEND;TZID=America/New_York:20260507T190000
DTSTAMP:20260421T041617
CREATED:20260409T201908Z
LAST-MODIFIED:20260409T201908Z
UID:10008153-1778176800-1778180400@massachusetts250.org
SUMMARY:How to Feed an Army "In search of a bit of gravy" ​ with food historian Stacy Booth
DESCRIPTION:How to Feed an Army “In search of a bit of gravy” with food historian Stacy Booth \n​​~ How was the Continental Army was supplied with food?\n~ How was food cooked and processed?\n~ How was it different from what soldiers ate at home?\n~ How was their diet and and food production different from what we know today? \nThursday\, May 7\, 6:00-7:00pm\, at the History Center\, 97 Main Street\, Andover \nTo Register:  https://www.zeffy.com/en-US/ticketing/colonial-cooking-at-home-and-on-the-campaign-trail
URL:https://massachusetts250.org/event/how-to-feed-an-army-in-search-of-a-bit-of-gravy-with-food-historian-stacy-booth/
LOCATION:Andover Center for History and Culture\, 97 Main Street\, Andover\, MA\, 01810\, United States
CATEGORIES:Culinary,Event,Speakers
ATTACH;FMTTYPE=image/png:https://massachusetts250.org/wp-content/uploads/2026/04/Edited-SQUARE-How-to-feed-an-army-2026.png
ORGANIZER;CN="Andover Center for History and Culture":MAILTO:mtubinis@andoverhistoryandculture.org
GEO:42.653486;-71.1389732
X-APPLE-STRUCTURED-LOCATION;VALUE=URI;X-ADDRESS=Andover Center for History and Culture 97 Main Street Andover MA 01810 United States;X-APPLE-RADIUS=500;X-TITLE=97 Main Street:geo:-71.1389732,42.653486
END:VEVENT
END:VCALENDAR