BEGIN:VCALENDAR
VERSION:2.0
PRODID:-//MA250 - ECPv6.5.1.5//NONSGML v1.0//EN
CALSCALE:GREGORIAN
METHOD:PUBLISH
X-WR-CALNAME:MA250
X-ORIGINAL-URL:https://massachusetts250.org
X-WR-CALDESC:Events for MA250
REFRESH-INTERVAL;VALUE=DURATION:PT1H
X-Robots-Tag:noindex
X-PUBLISHED-TTL:PT1H
BEGIN:VTIMEZONE
TZID:America/New_York
BEGIN:DAYLIGHT
TZOFFSETFROM:-0500
TZOFFSETTO:-0400
TZNAME:EDT
DTSTART:20260308T070000
END:DAYLIGHT
BEGIN:STANDARD
TZOFFSETFROM:-0400
TZOFFSETTO:-0500
TZNAME:EST
DTSTART:20261101T060000
END:STANDARD
END:VTIMEZONE
BEGIN:VEVENT
DTSTART;TZID=America/New_York:20260411T160000
DTEND;TZID=America/New_York:20260411T190000
DTSTAMP:20260421T070724
CREATED:20260309T190113Z
LAST-MODIFIED:20260309T190113Z
UID:10007215-1775923200-1775934000@massachusetts250.org
SUMMARY:An Intimate Evening with Martha and George Washington
DESCRIPTION:Step into the warmth and elegance of the 18th century as we host a special gathering inspired by the hospitality of Martha and George Washington.\nEnjoy an evening of conversation\, refinement\, and colonial charm in a cozy\, historic setting. \nGuests will be treated to a selection of hors d’oeuvres\, along with coffee\, tea\, and fine chocolates—all served in the spirit of early American graciousness. \n🎟 A purchased ticket of $30 is required for admission.\nThis exclusive event offers limited space to preserve its intimate atmosphere.\nhttps://www.eventbrite.com/e/an-intimate-evening-with-martha-george-washington-tickets-1982625301648?utm-campaign=social&utm-content=attendeeshare&utm-medium=discovery&utm-term=listing&utm-source=cp&aff=ebdsshcopyurl \nJoin us for a memorable night that blends history\, flavor\, and fellowship.\nThis program is supported in part by the Fall River Cultural Council a local agency which is supported by the Mass Cultural Council a state agency.
URL:https://massachusetts250.org/event/an-intimate-evening-with-martha-and-george-washington/
LOCATION:Lafayette-Durfee House\, Cherry Street 94\, Fall River\, Massachusetts\, 02722\, United States
CATEGORIES:Culinary,Event,Speakers
ATTACH;FMTTYPE=image/png:https://massachusetts250.org/wp-content/uploads/2026/03/George-and-Martha-Washington.png
ORGANIZER;CN="Lafayette-DurfeeHouse":MAILTO:fi1755rw@yahoo.com
GEO:41.7059568;-71.1571145
X-APPLE-STRUCTURED-LOCATION;VALUE=URI;X-ADDRESS=Lafayette-Durfee House Cherry Street 94 Fall River Massachusetts 02722 United States;X-APPLE-RADIUS=500;X-TITLE=Cherry Street 94:geo:-71.1571145,41.7059568
END:VEVENT
END:VCALENDAR