BEGIN:VCALENDAR
VERSION:2.0
PRODID:-//MA250 - ECPv6.5.1.5//NONSGML v1.0//EN
CALSCALE:GREGORIAN
METHOD:PUBLISH
X-WR-CALNAME:MA250
X-ORIGINAL-URL:https://massachusetts250.org
X-WR-CALDESC:Events for MA250
REFRESH-INTERVAL;VALUE=DURATION:PT1H
X-Robots-Tag:noindex
X-PUBLISHED-TTL:PT1H
BEGIN:VTIMEZONE
TZID:America/New_York
BEGIN:DAYLIGHT
TZOFFSETFROM:-0500
TZOFFSETTO:-0400
TZNAME:EDT
DTSTART:20250309T070000
END:DAYLIGHT
BEGIN:STANDARD
TZOFFSETFROM:-0400
TZOFFSETTO:-0500
TZNAME:EST
DTSTART:20251102T060000
END:STANDARD
END:VTIMEZONE
BEGIN:VEVENT
DTSTART;TZID=America/New_York:20250410T190000
DTEND;TZID=America/New_York:20250410T200000
DTSTAMP:20260423T095016
CREATED:20250328T163000Z
LAST-MODIFIED:20250407T190751Z
UID:10001213-1744311600-1744315200@massachusetts250.org
SUMMARY:A Revolution on Tap: Tavern Culture and the Road Through Somerville to Lexington
DESCRIPTION:What better way to honor the generation of 1775 than to enjoy the ales and ciders many of them drank to drown out the latest outrages from Great Britain? Brandeis Professor Dan Breen will deliver a captivating lecture on New England’s tavern culture and its relevance to the Revolution. Discover how long-gone or remarkably remaining watering holes contributed to the early Revolutionary spirit.
URL:https://massachusetts250.org/event/a-revolution-on-tap-tavern-culture-and-the-road-through-somerville-to-lexington/
LOCATION:Aeronaut Brewery\, Tyler Street 14\, Somerville\, Massachusetts\, 02143\, United States
CATEGORIES:Celebration,Commemoration,Culinary,Speakers
ATTACH;FMTTYPE=image/png:https://massachusetts250.org/wp-content/uploads/2025/03/somerville-museum.png
ORGANIZER;CN="Somerville Museum":MAILTO:grace@somervillemuseum.org
GEO:42.3815386;-71.1055806
X-APPLE-STRUCTURED-LOCATION;VALUE=URI;X-ADDRESS=Aeronaut Brewery Tyler Street 14 Somerville Massachusetts 02143 United States;X-APPLE-RADIUS=500;X-TITLE=Tyler Street 14:geo:-71.1055806,42.3815386
END:VEVENT
BEGIN:VEVENT
DTSTART;VALUE=DATE:20250412
DTEND;VALUE=DATE:20250422
DTSTAMP:20260423T095016
CREATED:20250410T171648Z
LAST-MODIFIED:20250410T171648Z
UID:10001355-1744416000-1745279999@massachusetts250.org
SUMMARY:Arlington Restaurant Week
DESCRIPTION:Arlington Restaurant Week\nSunday\, April 12-Monday\, April 21 \nArlington’s diverse cuisine\, representing all corners of the world\, will be on display during Arlington Restaurant Week. Running from Sunday\, April 12 through Monday\, April 21\, Arlington Restaurant Week will encompass Patriots’ Day Weekend 2025 and will celebrate 250 years since the Battle of Menotomy which took place at the beginning of the American Revolution. Participating restaurants will feature culinary specials and entertainment. \nArlington offers a thriving arts scene\, boutique galleries\, independent theaters\, diverse dining\, public art and access to the Minuteman Bikeway all within five square miles. This blend of history\, natural beauty and vibrant arts makes Arlington a destination for foodies and history buffs just in time to kick off the 250th anniversary of the start of the American Revolution.
URL:https://massachusetts250.org/event/arlington-restaurant-week/
LOCATION:Massachusetts
CATEGORIES:Culinary,Event
ATTACH;FMTTYPE=image/png:https://massachusetts250.org/wp-content/uploads/2025/04/Leader-Bank-Colors_Banner_Restaurant-Week-Logo.png
ORGANIZER;CN="Town of Arlington":MAILTO:kluczai@town.arlington.ma.us
END:VEVENT
BEGIN:VEVENT
DTSTART;TZID=America/New_York:20250413T180000
DTEND;TZID=America/New_York:20250413T213000
DTSTAMP:20260423T095016
CREATED:20250331T171455Z
LAST-MODIFIED:20250407T190858Z
UID:10001223-1744567200-1744579800@massachusetts250.org
SUMMARY:Le Chapître de la Naissance de la Révolution Exclusive Dinner
DESCRIPTION:Embark on an exclusive culinary revolution! The Inn at Hastings Park\, Boston area’s only Relais & Châteaux property located in historic Lexington\, MA\, and Executive Chef Alissa Tsukakoshi\, in partnership with the Chaîne des Rôtisseurs of Boston a modern eight-course paired menu inspired by Colonial flavors\, honoring the 250th Anniversary of the American Revolution \nChaîne des Rôtisseurs is an International Association of Gastronomy with nearly 21\,000 members from around the world that brings together foodie enthusiasts who share the same values of quality\, fine dining\, the encouragement of the culinary arts\, and the pleasures of the table. The esteemed group\, which rarely opens its dinners to the public\, is providing this exclusive opportunity at The Inn at Hastings Park for one night only. \nThe Inn proudly boasts two Chaîne des Rôtisseurs professional members: Proprietor Maître Hôtelier Trisha Pérez Kennealy and Director of Sales & Marketing Maître de Table Hôtelier Shiobanne Karampekios. \nThe evening commences with a spirited cocktail reception\, serenaded by fife and drum\, before unveiling a clandestine (shhh…) 8-course paired menu. In true Chaîne des Rôtisseurs tradition\, the gastronomic journey remains a secret until seating. However\, guests can anticipate a masterclass in modern New England cuisine\, as Executive Chef Alissa Tsukakoshi and her team present a menu brimming with artistry and a few revolutionary twists. \nBegins at 6:00 pm. $250.00 per person for Boston Bailliage members (includes taxes/fees) / $275.00 per person non-members (includes taxes/fees). All guests attending must be 21 years of age or older.
URL:https://massachusetts250.org/event/le-chapitre-de-la-naissance-de-la-revolution-exclusive-dinner/
LOCATION:The Inn at Hastings Park\, The Inn at Hastings Park | Town Meeting Bistro\, Lexington\, 02421\, United States
CATEGORIES:Commemoration,Culinary
ATTACH;FMTTYPE=image/png:https://massachusetts250.org/wp-content/uploads/2025/03/rotisseurs.png
ORGANIZER;CN="The Inn at Hastings Park":MAILTO:dining@innathastingspark.com
GEO:42.4495505;-71.2364674
X-APPLE-STRUCTURED-LOCATION;VALUE=URI;X-ADDRESS=The Inn at Hastings Park The Inn at Hastings Park | Town Meeting Bistro Lexington 02421 United States;X-APPLE-RADIUS=500;X-TITLE=The Inn at Hastings Park | Town Meeting Bistro:geo:-71.2364674,42.4495505
END:VEVENT
BEGIN:VEVENT
DTSTART;TZID=America/New_York:20250414T180000
DTEND;TZID=America/New_York:20250414T233000
DTSTAMP:20260423T095016
CREATED:20250404T203758Z
LAST-MODIFIED:20250410T152031Z
UID:10001230-1744653600-1744673400@massachusetts250.org
SUMMARY:British Landing Site & Pub Trivia
DESCRIPTION:Learn about the landing site of the British regulars on the night of April 18\, 1775\, and then gather at Lamplighter CX for a fun evening of pub trivia with a focus on the American Revolution. \nVisit the landing site of the British troops in East Cambridge\, then raise a pint at LamplighterCX to celebrate the Revolutionary ideas on which our country was founded. Test your knowledge of Revolutionary history with King Trivia! \nA historic night of Pub Trivia. Patriots and Loyalists welcome. \n6 p.m.\, Meet at Centanni Way near Second St.\, East Cambridge\, MA 02141 \n7 p.m. Trivia at LamplighterCX\, 110 N. First St. East Cambridge\, MA 02141
URL:https://massachusetts250.org/event/british-landing-site-pub-trivia/
LOCATION:Centanni Park and Lamplighter CX\, North First Street 110\, Cambridge\, Massachusetts\, 02141\, United States
CATEGORIES:Culinary,Event
ORGANIZER;CN="City of Cambridge":MAILTO:psaffari@cambridgema.gov
GEO:42.372213;-71.0753146
X-APPLE-STRUCTURED-LOCATION;VALUE=URI;X-ADDRESS=Centanni Park and Lamplighter CX North First Street 110 Cambridge Massachusetts 02141 United States;X-APPLE-RADIUS=500;X-TITLE=North First Street 110:geo:-71.0753146,42.372213
END:VEVENT
BEGIN:VEVENT
DTSTART;TZID=America/New_York:20250418T080000
DTEND;TZID=America/New_York:20250418T170000
DTSTAMP:20260423T095016
CREATED:20250326T164238Z
LAST-MODIFIED:20250407T191319Z
UID:10001294-1744963200-1744995600@massachusetts250.org
SUMMARY:250th Anniversary Paul Revere Midnight Ride Dinner & Candlelight Procession at The Inn at Hastings Park
DESCRIPTION:On the evening of April 18\, 1775\, Paul Revere was summoned and given the task of riding on horseback from Charlestown to Lexington\, approx. 12.5 miles\, to inform two leaders of the Sons of Liberty\, John Hancock and Samuel Adams who were staying in Lexington\, with the news that British soldiers stationed in Boston were about to march into the countryside northwest of the town. During his famous Midnight Ride\, Revere alerted the countryside of the British military movements with shouts of “the Redcoats are coming!” In the early morning on April 19\, 1775\, Capt. John Parker led 77 local militiamen and faced arriving British troops. Someone — still unknown to this day — fired a shot\, which provoked the start of the American Revolution. \nTo honor the 250th anniversary of this historic ride\, The Inn at Hastings Park\, Boston area’s only Relais & Châteaux property located in historic Lexington\, MA\, is offering a special four-course Colonial-themed feast created by Executive Chef Alissa Tsukakoshi paired with local area brews and spirits from 6 – 8 p.m. in a communal dining setting in Town Meeting Bistro. As a nod to Paul Revere\, a portrait of him on horseback is featured over the fireplace. This dinner is for adults only\, 21+ / $150/person\, plus tax & gratuity. \nFollowing the dinner at 8:15\, guests gather in the foyer of the Inn to receive a candle lit lantern and are guided on a 10-minute walk to the Hancock-Clark House to watch a 30-minute dramatized and theatrical reenactment as Paul Revere (and William Dawes)\, fellow Sons of Liberty\, rode hard from Boston arriving in Lexington just before midnight to warn Patriot leaders John Hancock and Samuel Adams\, who were staying in town\, of the impending British raid.
URL:https://massachusetts250.org/event/250th-anniversary-paul-revere-midnight-ride-dinner-candlelight-procession-at-the-inn-at-hastings-park/2025-04-18/1/
LOCATION:The Inn at Hastings Park\, The Inn at Hastings Park | Town Meeting Bistro\, Lexington\, 02421\, United States
CATEGORIES:Anniversary,Celebration,Culinary,Reenactment
ATTACH;FMTTYPE=image/png:https://massachusetts250.org/wp-content/uploads/2025/03/dinner.png
ORGANIZER;CN="The Inn at Hastings Park":MAILTO:dining@innathastingspark.com
GEO:42.4495505;-71.2364674
X-APPLE-STRUCTURED-LOCATION;VALUE=URI;X-ADDRESS=The Inn at Hastings Park The Inn at Hastings Park | Town Meeting Bistro Lexington 02421 United States;X-APPLE-RADIUS=500;X-TITLE=The Inn at Hastings Park | Town Meeting Bistro:geo:-71.2364674,42.4495505
END:VEVENT
BEGIN:VEVENT
DTSTART;TZID=America/New_York:20250418T163000
DTEND;TZID=America/New_York:20250418T200000
DTSTAMP:20260423T095016
CREATED:20250407T181816Z
LAST-MODIFIED:20250407T181816Z
UID:10001255-1744993800-1745006400@massachusetts250.org
SUMMARY:Carbo Loading Menu at il Casale Lexington before 111th Patriots' Day 5-Mile Road Race
DESCRIPTION:Located in the heart of Lexington Center\, il Casale Lexington will be celebrating the 250th anniversary of the Battle of Lexington with a carbo-loading menu ahead of the 111th Patriots’ Day 5-mile road\, revolutionary-inspired specialty cocktails\, a themed live jazz brunch\, and extended hours to accommodate the influx of visitors. Additional details below: \nCarbo Loading Menu (Fri\, April 18th from 4:30-9pm): il Casale Lexington will offer a carbo loading menu for dine-ins on April 18 ahead of 111th Patriots’ Day 5-Mile Road Race on April 19\, which will feature its Tufoli al Pomodoro (tubular pasta\, San Marzano tomato sugo\, grana Padano\, basil) at ½ off\, Tagliatelle Bolognese (9 hour ragu of beef\, pork\, veal\, chicken\, mirepoix\, vino Sangiovese\, a little sundried tomato paste\, sage)\, Spaghetti Ai Frutti Di Mare (shrimp\, mussels\, white wine saffron broth\, garlic\, parsley)\, and more.
URL:https://massachusetts250.org/event/carbo-loading-menu-at-il-casale-lexington-before-111th-patriots-day-5-mile-road-race/
LOCATION:il Casale Lexington\, 1727 Massachusetts Ave\, Lexington\, 02420\, United States
CATEGORIES:Celebration,Culinary
ATTACH;FMTTYPE=image/jpeg:https://massachusetts250.org/wp-content/uploads/2025/04/Carbo-Loading-Lexington-scaled.jpg
ORGANIZER;CN="il Casale Lexington":MAILTO:dena@denapublicrelations.com
GEO:42.4473151;-71.2266447
X-APPLE-STRUCTURED-LOCATION;VALUE=URI;X-ADDRESS=il Casale Lexington 1727 Massachusetts Ave Lexington 02420 United States;X-APPLE-RADIUS=500;X-TITLE=1727 Massachusetts Ave:geo:-71.2266447,42.4473151
END:VEVENT
BEGIN:VEVENT
DTSTART;TZID=America/New_York:20250418T180000
DTEND;TZID=America/New_York:20250418T220000
DTSTAMP:20260423T095016
CREATED:20250326T164238Z
LAST-MODIFIED:20250407T191319Z
UID:10001209-1744999200-1745013600@massachusetts250.org
SUMMARY:250th Anniversary Paul Revere Midnight Ride Dinner & Candlelight Procession at The Inn at Hastings Park
DESCRIPTION:On the evening of April 18\, 1775\, Paul Revere was summoned and given the task of riding on horseback from Charlestown to Lexington\, approx. 12.5 miles\, to inform two leaders of the Sons of Liberty\, John Hancock and Samuel Adams who were staying in Lexington\, with the news that British soldiers stationed in Boston were about to march into the countryside northwest of the town. During his famous Midnight Ride\, Revere alerted the countryside of the British military movements with shouts of “the Redcoats are coming!” In the early morning on April 19\, 1775\, Capt. John Parker led 77 local militiamen and faced arriving British troops. Someone — still unknown to this day — fired a shot\, which provoked the start of the American Revolution. \nTo honor the 250th anniversary of this historic ride\, The Inn at Hastings Park\, Boston area’s only Relais & Châteaux property located in historic Lexington\, MA\, is offering a special four-course Colonial-themed feast created by Executive Chef Alissa Tsukakoshi paired with local area brews and spirits from 6 – 8 p.m. in a communal dining setting in Town Meeting Bistro. As a nod to Paul Revere\, a portrait of him on horseback is featured over the fireplace. This dinner is for adults only\, 21+ / $150/person\, plus tax & gratuity. \nFollowing the dinner at 8:15\, guests gather in the foyer of the Inn to receive a candle lit lantern and are guided on a 10-minute walk to the Hancock-Clark House to watch a 30-minute dramatized and theatrical reenactment as Paul Revere (and William Dawes)\, fellow Sons of Liberty\, rode hard from Boston arriving in Lexington just before midnight to warn Patriot leaders John Hancock and Samuel Adams\, who were staying in town\, of the impending British raid.
URL:https://massachusetts250.org/event/250th-anniversary-paul-revere-midnight-ride-dinner-candlelight-procession-at-the-inn-at-hastings-park/2025-04-18/2/
LOCATION:The Inn at Hastings Park\, The Inn at Hastings Park | Town Meeting Bistro\, Lexington\, 02421\, United States
CATEGORIES:Anniversary,Celebration,Culinary,Reenactment
ATTACH;FMTTYPE=image/png:https://massachusetts250.org/wp-content/uploads/2025/03/dinner.png
ORGANIZER;CN="The Inn at Hastings Park":MAILTO:dining@innathastingspark.com
GEO:42.4495505;-71.2364674
X-APPLE-STRUCTURED-LOCATION;VALUE=URI;X-ADDRESS=The Inn at Hastings Park The Inn at Hastings Park | Town Meeting Bistro Lexington 02421 United States;X-APPLE-RADIUS=500;X-TITLE=The Inn at Hastings Park | Town Meeting Bistro:geo:-71.2364674,42.4495505
END:VEVENT
BEGIN:VEVENT
DTSTART;TZID=America/New_York:20250419T053000
DTEND;TZID=America/New_York:20250419T110000
DTSTAMP:20260423T095016
CREATED:20250403T184406Z
LAST-MODIFIED:20250407T183746Z
UID:10001245-1745040600-1745060400@massachusetts250.org
SUMMARY:Troop 160 Pancake Breakfast
DESCRIPTION:Join us for freshly made pancakes and sausage\, oranges and unlimited beverages– hot coffee/tea\, hot chocolate\, and juice. Matzo\, vegetarian sausage and takeaway options available. \nWhen: Saturday April 19\, from 5:30 a.m. to 11 a.m.\nWhether you’re an early riser or prefer to sleep in a bit\, we’ve got you covered! Come after the re-enactment or take your time getting here. \nWhere: St. Brigid Church’s Keilty Hall\, located at 2001 Massachusetts Avenue.\nYou’ll find us in the handicapped-accessible basement of St. Brigid Church\, just steps away from the excitement of the Town Green re-enactment! Look for signage outside the church main entrance. \nCost: $10 per adult and $5 per child (under 12).\nIndulge in a hearty breakfast that supports a great cause. Cash or check payments are gladly accepted. Plus\, for your convenience\, we’re happy to offer credit card and Apple Pay options\, with a nominal fee. \nCome for a morning filled with scrumptious food\, great company\, and the satisfaction of knowing you’re helping our scouts thrive! Thank you for supporting our sole fund raising event of the year.
URL:https://massachusetts250.org/event/troop-160-pancake-breakfast/
LOCATION:St. Brigid Church\, Massachusetts Avenue 2001\, Lexington\, Massachusetts\, 02421\, United States
CATEGORIES:Celebration,Culinary
ATTACH;FMTTYPE=image/png:https://massachusetts250.org/wp-content/uploads/2025/04/pancake.png
ORGANIZER;CN="BSA Scout Troop 160":MAILTO:carole@troop160lexington.com
GEO:42.449703;-71.2353078
X-APPLE-STRUCTURED-LOCATION;VALUE=URI;X-ADDRESS=St. Brigid Church Massachusetts Avenue 2001 Lexington Massachusetts 02421 United States;X-APPLE-RADIUS=500;X-TITLE=Massachusetts Avenue 2001:geo:-71.2353078,42.449703
END:VEVENT
BEGIN:VEVENT
DTSTART;TZID=America/New_York:20250419T060000
DTEND;TZID=America/New_York:20250419T100000
DTSTAMP:20260423T095016
CREATED:20250407T182301Z
LAST-MODIFIED:20250407T182301Z
UID:10001246-1745042400-1745056800@massachusetts250.org
SUMMARY:Patriots' Day Pancake Breakfast
DESCRIPTION:To celebrate Patriots’ Day\, the Church of Our Redeemer\, 6 Meriam Street\, will host its annual Patriots’ Day Pancake Breakfast Saturday\, April 19 from 6:00 AM to 10:00 AM in the parish hall. A complete breakfast\, including pancakes & sausage\, juice and choice of coffee or hot chocolate is offered. Please join us in the Great Hall\, a warm\, community atmosphere to celebrate the day. Proceeds from the event will benefit local charities.
URL:https://massachusetts250.org/event/patriots-day-pancake-breakfast/
LOCATION:The Church of Our Redeemer\, 6 Meriam Street\, Lexington\, 02420\, United States
CATEGORIES:Celebration,Culinary
ATTACH;FMTTYPE=image/jpeg:https://massachusetts250.org/wp-content/uploads/2025/04/The-Church-of-Our-Redeemer-scaled.jpg
ORGANIZER;CN="The Church of Our Redeemer":MAILTO:yosemite-sam@verizon.net
GEO:42.4496146;-71.2286302
X-APPLE-STRUCTURED-LOCATION;VALUE=URI;X-ADDRESS=The Church of Our Redeemer 6 Meriam Street Lexington 02420 United States;X-APPLE-RADIUS=500;X-TITLE=6 Meriam Street:geo:-71.2286302,42.4496146
END:VEVENT
BEGIN:VEVENT
DTSTART;TZID=America/New_York:20250419T060000
DTEND;TZID=America/New_York:20250419T120000
DTSTAMP:20260423T095016
CREATED:20250326T164403Z
LAST-MODIFIED:20250403T181715Z
UID:10001210-1745042400-1745064000@massachusetts250.org
SUMMARY:250th Anniversary of the Battle of Lexington Patriots’ Day Brunch at The Inn at Hastings Park
DESCRIPTION:On this day celebrating the 250th Anniversary of the Battle of Lexington\, the Inn at Hastings Park’s Town Meeting Bistro will be offering a special Patriot’s Day buffet and á la carte Champagne brunch. Available from after the Battle of Lexington reenactment and before the Town of Lexington’s Patriots’ Day parade. 6 a.m. – 12 p.m. Adults $75\, plus tax & gratuity. Includes: appetizer and dessert buffet plus choice of one entrée and mimosa or sparkling wine. Children 4-12 years of age $40\, plus tax & gratuity. Children 3 and under eat for free.
URL:https://massachusetts250.org/event/250th-anniversary-of-the-battle-of-lexington-patriots-day-brunch-at-the-inn-at-hastings-park/
LOCATION:The Inn at Hastings Park\, The Inn at Hastings Park | Town Meeting Bistro\, Lexington\, 02421\, United States
CATEGORIES:Anniversary,Celebration,Commemoration,Culinary
ATTACH;FMTTYPE=image/jpeg:https://massachusetts250.org/wp-content/uploads/2025/03/InnatHastingsPark.Battle-of-Lexington-Reenactment.jpg
ORGANIZER;CN="The Inn at Hastings Park":MAILTO:dining@innathastingspark.com
GEO:42.4495505;-71.2364674
X-APPLE-STRUCTURED-LOCATION;VALUE=URI;X-ADDRESS=The Inn at Hastings Park The Inn at Hastings Park | Town Meeting Bistro Lexington 02421 United States;X-APPLE-RADIUS=500;X-TITLE=The Inn at Hastings Park | Town Meeting Bistro:geo:-71.2364674,42.4495505
END:VEVENT
BEGIN:VEVENT
DTSTART;TZID=America/New_York:20250419T173000
DTEND;TZID=America/New_York:20250419T200000
DTSTAMP:20260423T095016
CREATED:20250320T181731Z
LAST-MODIFIED:20250331T192538Z
UID:10001169-1745083800-1745092800@massachusetts250.org
SUMMARY:Historic 1700s Colonial Dinner
DESCRIPTION:Longfellow’s Wayside Inn Historic Dinner \nTickets:\n$65 | Per Person ($10 off for those who dress up in colonial attire!) (Tickets at RESY.com)\n$55 | TWIF members (Please call 978-443-1776×1) \nThis event is non-refundable.\nEach ticket includes taxes and gratuity.\nAlcohol served to 21+ only. \nAbout:\nCome celebrate with us at The Historic 1700s Colonial Dinner presented by The Wayside Inn. \n5:30 p.m. – Guest Arrival & Cocktail Hour\nCoow Woow upon arrival\, possible Sudbury Ancient Fifes playing during cocktail hour. Cash bar available. \n6:15 p.m. – Historic discussion around what led to the Revolutionary War & Sudbury’s involvement. \n6:30 p.m. – Presentation and served first course. Colonial Clam Chowder\, Basket of Corn Muffins & Anadama bread. \nBuffet Dinner to follow:\n(includes authentic food from early 1700s) \nFricassee of Chicken with pastry crust\nYe Olde Beef Stew\nTraditional Colonist’s Haddock with cream sauce\nMashed potatoes\nRoot vegetables \n8 p.m.-Ye Olde apple pie with whipped cream
URL:https://massachusetts250.org/event/historic-1700s-colonial-dinner/
LOCATION:Longfellow’s Wayside Inn\, 72 Wayside Inn Road\, Sudbury\, MA\, 01776\, United States
CATEGORIES:Culinary,Event
ATTACH;FMTTYPE=image/png:https://massachusetts250.org/wp-content/uploads/2025/03/dinner-1.png
GEO:42.3572337;-71.4739235
X-APPLE-STRUCTURED-LOCATION;VALUE=URI;X-ADDRESS=Longfellow’s Wayside Inn 72 Wayside Inn Road Sudbury MA 01776 United States;X-APPLE-RADIUS=500;X-TITLE=72 Wayside Inn Road:geo:-71.4739235,42.3572337
END:VEVENT
BEGIN:VEVENT
DTSTART;TZID=America/New_York:20250426T140000
DTEND;TZID=America/New_York:20250426T160000
DTSTAMP:20260423T095016
CREATED:20250314T182610Z
LAST-MODIFIED:20250331T193500Z
UID:10001112-1745676000-1745683200@massachusetts250.org
SUMMARY:Revolutionary Plymouth 250: “Liberty and Tea at the Spooner House”
DESCRIPTION:Step back in time to sample the same varieties of imported teas that the Sons of Liberty defiantly tossed into Boston Harbor\, alongside an herbal “Liberty tea” favored by Patriots in protest. Explore a special exhibition featuring rarely displayed Revolutionary-era artifacts\, and speak to costumed interpreters about the debates that divided Plymouth as residents grappled with the American boycott of British goods.
URL:https://massachusetts250.org/event/revolutionary-plymouth-250-liberty-and-tea-at-the-spooner-house/
LOCATION:Spooner House Museum\, North Street 27\, Plymouth\, Massachusetts\, 02360\, United States
CATEGORIES:Culinary,Event
ATTACH;FMTTYPE=image/png:https://massachusetts250.org/wp-content/uploads/2025/03/house-3.png
ORGANIZER;CN="Plymouth Antiquarian Society":MAILTO:info@plymouthantiquarian.org
GEO:41.9575624;-70.663623
X-APPLE-STRUCTURED-LOCATION;VALUE=URI;X-ADDRESS=Spooner House Museum North Street 27 Plymouth Massachusetts 02360 United States;X-APPLE-RADIUS=500;X-TITLE=North Street 27:geo:-70.663623,41.9575624
END:VEVENT
END:VCALENDAR