BEGIN:VCALENDAR
VERSION:2.0
PRODID:-//MA250 - ECPv6.5.1.5//NONSGML v1.0//EN
CALSCALE:GREGORIAN
METHOD:PUBLISH
X-ORIGINAL-URL:https://massachusetts250.org
X-WR-CALDESC:Events for MA250
REFRESH-INTERVAL;VALUE=DURATION:PT1H
X-Robots-Tag:noindex
X-PUBLISHED-TTL:PT1H
BEGIN:VTIMEZONE
TZID:America/New_York
BEGIN:DAYLIGHT
TZOFFSETFROM:-0500
TZOFFSETTO:-0400
TZNAME:EDT
DTSTART:20250309T070000
END:DAYLIGHT
BEGIN:STANDARD
TZOFFSETFROM:-0400
TZOFFSETTO:-0500
TZNAME:EST
DTSTART:20251102T060000
END:STANDARD
END:VTIMEZONE
BEGIN:VEVENT
DTSTART;TZID=America/New_York:20250305T180000
DTEND;TZID=America/New_York:20250305T193000
DTSTAMP:20260423T152237
CREATED:20250221T142525Z
LAST-MODIFIED:20250221T142537Z
UID:10001004-1741197600-1741203000@massachusetts250.org
SUMMARY:Spirits of Revolution Farm to Vine Dinner featuring Boston’s Bully Boy Distillers
DESCRIPTION:The Inn at Hastings Park\, Boston area’s only Relais & Châteaux property located in historic Lexington\, MA is in the revolutionary spirit! To celebrate the upcoming 250th anniversary of the start of the American Revolution\, this special dinner delves into the storied past of distilled spirits and the intersection of Boston’s history\, craftsmanship and celebration! Executive Chef Alissa Tsukakoshi crafts a delicious four-course Colonial-themed feast and Boston’s Bully Boy Distillers will provide an overview of the who’s who of the Revolutionary War and the distillers who made their mark on the young Republic through each course paired with a proprietary rum\, gin\, whiskey\, or craft-cocktail. Begins at 6 pm in a communal dining setting at Town Meeting Bistro. This dinner is for adults only\, 21+ / $150/person\, plus tax & gratuity.
URL:https://massachusetts250.org/event/spirits-of-revolution-farm-to-vine-dinner-featuring-bostons-bully-boy-distillers-2/
LOCATION:The Inn at Hastings Park\, The Inn at Hastings Park | Town Meeting Bistro\, Lexington\, 02421\, United States
CATEGORIES:Culinary
ATTACH;FMTTYPE=image/jpeg:https://massachusetts250.org/wp-content/uploads/2025/02/InnatHastingsPark.BullyBoyDinner.Mar-5-2025.jpg
ORGANIZER;CN="The Inn at Hastings Park":MAILTO:dining@innathastingspark.com
GEO:42.4495505;-71.2364674
X-APPLE-STRUCTURED-LOCATION;VALUE=URI;X-ADDRESS=The Inn at Hastings Park The Inn at Hastings Park | Town Meeting Bistro Lexington 02421 United States;X-APPLE-RADIUS=500;X-TITLE=The Inn at Hastings Park | Town Meeting Bistro:geo:-71.2364674,42.4495505
END:VEVENT
BEGIN:VEVENT
DTSTART;TZID=America/New_York:20250313T150000
DTEND;TZID=America/New_York:20250313T220000
DTSTAMP:20260423T152237
CREATED:20250314T184015Z
LAST-MODIFIED:20250314T222415Z
UID:10001098-1741878000-1741903200@massachusetts250.org
SUMMARY:Acton 250 Committee’s Isaac Davis Brown Ale 2nd Big Release Party
DESCRIPTION:Have you tried the Acton 250 Committee’s Isaac Davis Brown Ale? If not\, or if you have and just want more\, join us March 13 at Dirigible\nBrewing Company as they reintroduce our commemorative ale in time for the 250th celebration of the American Revolution. This ale is\nrepresentative of one beer style available to the colonial patriots. Dirigible Brewing will have this on draft\, in cans\, and on cask. \nTwisted Pickle Food Truck will be on-site serving meals and sandwiches with the best local ingredients and a lot of attention to every detail. Come try our fine smoked and cured meat and veggie entrees and\, of course\, our unique spin on all things pickled. \nThe Acton Minutemen will be on hand to demonstrate\, and are looking to fire off a cannon for this special occasion at 6 p.m.!
URL:https://massachusetts250.org/event/acton-250-committees-isaac-davis-brown-ale-2nd-big-release-party/
LOCATION:Dirigible Brewing Company\, 24 Porter Road\, Littleton\, MA\, 01460\, United States
CATEGORIES:Celebration,Culinary,Event
ATTACH;FMTTYPE=image/jpeg:https://massachusetts250.org/wp-content/uploads/2025/03/ID-Brown-Ale-Sticker.jpeg
ORGANIZER;CN="Acton 250 Committee":MAILTO:acton250@acton-ma.gov
GEO:42.5281646;-71.5144356
X-APPLE-STRUCTURED-LOCATION;VALUE=URI;X-ADDRESS=Dirigible Brewing Company 24 Porter Road Littleton MA 01460 United States;X-APPLE-RADIUS=500;X-TITLE=24 Porter Road:geo:-71.5144356,42.5281646
END:VEVENT
BEGIN:VEVENT
DTSTART;TZID=America/New_York:20250320T180000
DTEND;TZID=America/New_York:20250320T193000
DTSTAMP:20260423T152237
CREATED:20250314T183239Z
LAST-MODIFIED:20250314T222045Z
UID:10001109-1742493600-1742499000@massachusetts250.org
SUMMARY:Rum Revolution Craft Cocktail Class at The Inn at Hastings Park
DESCRIPTION:The Inn at Hastings Park\, Boston area’s only Relais & Châteaux property located in historic Lexington\, MA is in the revolutionary spirit! To celebrate the upcoming 250th anniversary of the start of the American Revolution\, rum will be the focus of this craft cocktail class. During the colonial era\, Boston was in the business of molasses distillation and rum became plentiful. It was the preferred alcoholic drink of American colonists and\, on average\, colonists consumed 3.7 gallons annually per head by the time of the American Revolution! Today\, rum is again a top contender in popularity. The Inn at Hastings Park’s mixology instructor\, Dipendra Karki\, leads this hour-and-a-half\, expertly guided craft cocktail class. Guests enjoy delicious bar snacks while learning the basics of building the perfect rum cocktails along with takeaway tools to practice the craft at home. What’s included: introduction to various bar tools\, learning measurements and pour counts\, building rum cocktails\, creating creative garnishes\, and introduction to infusions. Must be 21+ to participate. 6 – 7:30 p.m. – $125/person.
URL:https://massachusetts250.org/event/rum-revolution-craft-cocktail-class-at-the-inn-at-hastings-park/
LOCATION:The Inn at Hastings Park\, The Inn at Hastings Park | Town Meeting Bistro\, Lexington\, 02421\, United States
CATEGORIES:Culinary
ATTACH;FMTTYPE=image/png:https://massachusetts250.org/wp-content/uploads/2025/03/Rum-Cocktail-1.png
ORGANIZER;CN="The Inn at Hastings Park":MAILTO:dining@innathastingspark.com
GEO:42.4495505;-71.2364674
X-APPLE-STRUCTURED-LOCATION;VALUE=URI;X-ADDRESS=The Inn at Hastings Park The Inn at Hastings Park | Town Meeting Bistro Lexington 02421 United States;X-APPLE-RADIUS=500;X-TITLE=The Inn at Hastings Park | Town Meeting Bistro:geo:-71.2364674,42.4495505
END:VEVENT
BEGIN:VEVENT
DTSTART;TZID=America/New_York:20250320T180000
DTEND;TZID=America/New_York:20250320T200000
DTSTAMP:20260423T152237
CREATED:20250310T181625Z
LAST-MODIFIED:20250310T190652Z
UID:10001082-1742493600-1742500800@massachusetts250.org
SUMMARY:Fireside Chat with Paul Revere at the  Wayside Inn
DESCRIPTION:Join Paul Revere (as portrayed by Michael Lepage) by fireside at the Wayside Inn for a spirited review of the notoriously inaccurate Longfellow poem that immortalized his Midnight Ride. \nHeavy hors d’oeuvres included with the price of a ticket. Drinks available for purchase at the bar. \nTickets $25.00 via Resi: https://resy.com/cities/sudbury-ma/venues/longfellows-wayside-inn/events/paul-revere-fireside-chat-2025-03-20?seats=2&date=2025-03-07 \nMembers of The Wayside Inn Foundation & the Paul Revere House should call the Inn to reserve tickets at the $20.00 member rate: 978-443-1776 x1.
URL:https://massachusetts250.org/event/fireside-chat-with-paul-revere-at-the-wayside-inn/
LOCATION:The Wayside Inn\, Wayside Inn Road 72\, Sudbury\, Massachusetts\, 01776\, United States
CATEGORIES:Anniversary,Commemoration,Culinary,Reenactment
ATTACH;FMTTYPE=image/png:https://massachusetts250.org/wp-content/uploads/2025/03/LongfellowRevere-Fireside-Chat-Instagram-4-x-6-in.png
ORGANIZER;CN="Paul Revere House":MAILTO:emily@paulreverehouse.org
GEO:42.3572337;-71.4739235
X-APPLE-STRUCTURED-LOCATION;VALUE=URI;X-ADDRESS=The Wayside Inn Wayside Inn Road 72 Sudbury Massachusetts 01776 United States;X-APPLE-RADIUS=500;X-TITLE=Wayside Inn Road 72:geo:-71.4739235,42.3572337
END:VEVENT
END:VCALENDAR