BEGIN:VCALENDAR
VERSION:2.0
PRODID:-//MA250 - ECPv6.5.1.5//NONSGML v1.0//EN
CALSCALE:GREGORIAN
METHOD:PUBLISH
X-ORIGINAL-URL:https://massachusetts250.org
X-WR-CALDESC:Events for MA250
REFRESH-INTERVAL;VALUE=DURATION:PT1H
X-Robots-Tag:noindex
X-PUBLISHED-TTL:PT1H
BEGIN:VTIMEZONE
TZID:America/New_York
BEGIN:DAYLIGHT
TZOFFSETFROM:-0500
TZOFFSETTO:-0400
TZNAME:EDT
DTSTART:20260308T070000
END:DAYLIGHT
BEGIN:STANDARD
TZOFFSETFROM:-0400
TZOFFSETTO:-0500
TZNAME:EST
DTSTART:20261101T060000
END:STANDARD
END:VTIMEZONE
BEGIN:VEVENT
DTSTART;TZID=America/New_York:20260925T140000
DTEND;TZID=America/New_York:20261212T143000
DTSTAMP:20260421T155225
CREATED:20260331T151858Z
LAST-MODIFIED:20260331T151858Z
UID:10007307-1790344800-1797085800@massachusetts250.org
SUMMARY:Vineyard Preservation Trust Walking Tour: Independence on Foot
DESCRIPTION:Meet historian Norah Van Riper in Edgartown\, Martha’s Vineyard\, for Independence on Foot\, a spirited walking tour exploring Martha’s Vineyard’s revolutionary past. Beginning at the Vincent House Museum\, this 90-minute walking tour connects Edgartown sites\, stories\, and civic ideals – bringing the Island’s role in the American Revolution and its independent spirit to life. Participating families receive a President’s for Kids activity book.
URL:https://massachusetts250.org/event/vineyard-preservation-trust-walking-tour-independence-on-foot/2026-09-25/
LOCATION:Vincent House\, Main Street 99\, Edgartown\, Massachusetts\, 02539\, United States
CATEGORIES:Celebration,Event
ATTACH;FMTTYPE=image/jpeg:https://massachusetts250.org/wp-content/uploads/2026/03/26_VPT_250thSocial_03-scaled.jpg
ORGANIZER;CN="Vineyard Preservation Trust":MAILTO:thecarnegie@mvpreservation.org
GEO:41.3907859;-70.5157587
X-APPLE-STRUCTURED-LOCATION;VALUE=URI;X-ADDRESS=Vincent House Main Street 99 Edgartown Massachusetts 02539 United States;X-APPLE-RADIUS=500;X-TITLE=Main Street 99:geo:-70.5157587,41.3907859
END:VEVENT
BEGIN:VEVENT
DTSTART;TZID=America/New_York:20260926T140000
DTEND;TZID=America/New_York:20261213T143000
DTSTAMP:20260421T155225
CREATED:20260331T151858Z
LAST-MODIFIED:20260331T151858Z
UID:10007308-1790431200-1797172200@massachusetts250.org
SUMMARY:Vineyard Preservation Trust Walking Tour: Independence on Foot
DESCRIPTION:Meet historian Norah Van Riper in Edgartown\, Martha’s Vineyard\, for Independence on Foot\, a spirited walking tour exploring Martha’s Vineyard’s revolutionary past. Beginning at the Vincent House Museum\, this 90-minute walking tour connects Edgartown sites\, stories\, and civic ideals – bringing the Island’s role in the American Revolution and its independent spirit to life. Participating families receive a President’s for Kids activity book.
URL:https://massachusetts250.org/event/vineyard-preservation-trust-walking-tour-independence-on-foot/2026-09-26/
LOCATION:Vincent House\, Main Street 99\, Edgartown\, Massachusetts\, 02539\, United States
CATEGORIES:Celebration,Event
ATTACH;FMTTYPE=image/jpeg:https://massachusetts250.org/wp-content/uploads/2026/03/26_VPT_250thSocial_03-scaled.jpg
ORGANIZER;CN="Vineyard Preservation Trust":MAILTO:thecarnegie@mvpreservation.org
GEO:41.3907859;-70.5157587
X-APPLE-STRUCTURED-LOCATION;VALUE=URI;X-ADDRESS=Vincent House Main Street 99 Edgartown Massachusetts 02539 United States;X-APPLE-RADIUS=500;X-TITLE=Main Street 99:geo:-70.5157587,41.3907859
END:VEVENT
END:VCALENDAR