BEGIN:VCALENDAR
VERSION:2.0
PRODID:-//MA250 - ECPv6.5.1.5//NONSGML v1.0//EN
CALSCALE:GREGORIAN
METHOD:PUBLISH
X-WR-CALNAME:MA250
X-ORIGINAL-URL:https://massachusetts250.org
X-WR-CALDESC:Events for MA250
REFRESH-INTERVAL;VALUE=DURATION:PT1H
X-Robots-Tag:noindex
X-PUBLISHED-TTL:PT1H
BEGIN:VTIMEZONE
TZID:America/New_York
BEGIN:DAYLIGHT
TZOFFSETFROM:-0500
TZOFFSETTO:-0400
TZNAME:EDT
DTSTART:20250309T070000
END:DAYLIGHT
BEGIN:STANDARD
TZOFFSETFROM:-0400
TZOFFSETTO:-0500
TZNAME:EST
DTSTART:20251102T060000
END:STANDARD
END:VTIMEZONE
BEGIN:VEVENT
DTSTART;TZID=America/New_York:20250417T120000
DTEND;TZID=America/New_York:20250417T133000
DTSTAMP:20260424T154420
CREATED:20250402T172846Z
LAST-MODIFIED:20250407T181048Z
UID:10001260-1744891200-1744896600@massachusetts250.org
SUMMARY:Ken Burns | The American Revolution
DESCRIPTION:Filmmaker Ken Burns to Share Early Look at His New Documentary “The American Revolution” in Lexington and Concord \n \nFilmmaker Ken Burns to Share Early Look at His New Documentary “The American Revolution” in Lexington and Concord \nThe Lex250 Commission and the Concord250 Executive Committee today announced that documentarian Ken Burns will visit Lexington and Concord on April 17 to discuss his new film\, “The American Revolution\,” timed to the start of the War of Independence on April 19\, 1775. \nBurns\, who will be joined by co-directors Sarah Botstein and David Schmidt\, along with historian Rick Atkinson\, author of “The British Are Coming\,” will participate in two events with panel discussions that day: one from 12 to 1:30 p.m. at Cary Memorial Hall in Lexington and another from 7 to 8:30 p.m. at Concord-Carlisle High School in Concord. \nTo find out more\, visit Lex250.org.
URL:https://massachusetts250.org/event/ken-burns-the-american-revolution/
LOCATION:Battin Hall\, Cary Memorial Building\, 1605 Massachusetts Avenue\, Lexington\, 02420\, United States
CATEGORIES:Anniversary,Celebration,Drama,Event,Memorial
ATTACH;FMTTYPE=image/png:https://massachusetts250.org/wp-content/uploads/2025/04/burns.png
ORGANIZER;CN="lex250":MAILTO:lex250@jgrp.net
GEO:42.4469771;-71.2239875
X-APPLE-STRUCTURED-LOCATION;VALUE=URI;X-ADDRESS=Battin Hall Cary Memorial Building 1605 Massachusetts Avenue Lexington 02420 United States;X-APPLE-RADIUS=500;X-TITLE=1605 Massachusetts Avenue:geo:-71.2239875,42.4469771
END:VEVENT
BEGIN:VEVENT
DTSTART;TZID=America/New_York:20250417T173000
DTEND;TZID=America/New_York:20250417T181000
DTSTAMP:20260424T154422
CREATED:20250402T170021Z
LAST-MODIFIED:20250415T165436Z
UID:10001250-1744911000-1744913400@massachusetts250.org
SUMMARY:Patriots' Day Community Sing-along and Flash Mob Performances
DESCRIPTION:Come join this fun Lex250 community sing-along of our very own Lexington Patriots’ Day song\, to the tune of Beethoven’s Ode to Joy! Musicians from our Lexington High School orchestra\, band\, and choir\, together with elementary and middle school musicians will lead the crowd sing-along outside Cary Hall\, at 6pm. Come earlier to watch flash mob performances from 5:30 p.m.
URL:https://massachusetts250.org/event/patriots-day-community-sing-along-and-flash-mob-performances/
LOCATION:Depot Square\, Depot Square\, Lexington\, MA\, 02420\, United States
CATEGORIES:Celebration,Event
ORGANIZER;CN="Lexington High School Flash Mob Club":MAILTO:angtiffany9@gmail.com
GEO:42.4484059;-71.2284345
X-APPLE-STRUCTURED-LOCATION;VALUE=URI;X-ADDRESS=Depot Square Depot Square Lexington MA 02420 United States;X-APPLE-RADIUS=500;X-TITLE=Depot Square:geo:-71.2284345,42.4484059
END:VEVENT
BEGIN:VEVENT
DTSTART;TZID=America/New_York:20250417T183000
DTEND;TZID=America/New_York:20250417T220000
DTSTAMP:20260424T154422
CREATED:20250403T175751Z
LAST-MODIFIED:20250403T175751Z
UID:10001257-1744914600-1744927200@massachusetts250.org
SUMMARY:Awards Ceremony (VO250)
DESCRIPTION:Awards Ceremony and Kickoff for VO250 Program. \nAwards Ceremony in place of the usual Saturday morning\, typically held on the Battle Green.
URL:https://massachusetts250.org/event/awards-ceremony-vo250/
LOCATION:Battin Hall\, Cary Memorial Building\, 1605 Massachusetts Avenue\, Lexington\, 02420\, United States
CATEGORIES:Celebration,Event
ATTACH;FMTTYPE=image/png:https://massachusetts250.org/wp-content/uploads/2025/04/Lex250Primary.png
ORGANIZER;CN="Lex250":MAILTO:monamidroy@gmail.com
GEO:42.4469771;-71.2239875
X-APPLE-STRUCTURED-LOCATION;VALUE=URI;X-ADDRESS=Battin Hall Cary Memorial Building 1605 Massachusetts Avenue Lexington 02420 United States;X-APPLE-RADIUS=500;X-TITLE=1605 Massachusetts Avenue:geo:-71.2239875,42.4469771
END:VEVENT
BEGIN:VEVENT
DTSTART;TZID=America/New_York:20250417T190000
DTEND;TZID=America/New_York:20250417T210000
DTSTAMP:20260424T154422
CREATED:20250409T145335Z
LAST-MODIFIED:20250409T145335Z
UID:10001341-1744916400-1744923600@massachusetts250.org
SUMMARY:Concord250: One-Day Choir with Kenter Davies at the Armory
DESCRIPTION:Join friends and neighbors in this one of a kind collective choral event! Led and arranged by beloved NYC music leader Kenter Davies (who grew up in Sudbury!)\, we’ll explore harmony\, free our voices\, and build community through the song “What a Wonderful World” by Louis Armstrong. There’s no auditions\, no experience necessary\, and no seeking of perfection\, We’ll just be making music for music-making’s sake! \nA timeless classic about the beauty of the natural world and the kindness we can afford one another as humans\, “What a Wonderful World” feels more important than ever to sing. We’ll explore a choral arrangement of the tune featuring lush\, jazzy harmonies. \nDuring our time together we will: \n○ Play singing games to activate our voices\, bodies\, and connection to one another \n○ Work through the song section by section\, infusing some musicality as we go \n○ Discuss the lyrics of the song and what meaning we can find in it \n○ Sing through the song a bunch and explore the different journeys it may take us on! \nA week prior to the event\, you’ll receive the sheet music and vocal demos arrangement of the song to use as a resource. You don’t have to be able to read sheet music\, you can absolutely learn by ear! We encourage folks to arrive familiar with the arrangement\, but there’s no pressure to learn everything in advance. We’ll fill in the gaps for one another as we explore and play along the way! \nWright Tavern Sing is a program sponsored by the Wright Tavern Legacy Trust. We bring communal music events to Concord that are accessible\, joyful\, and bring a sense of belonging and connection to the greater village. For more information\, go to www.wrighttavern.org/sing. \nKenter Davies is a vocal arranger\, music educator\, and choral facilitator based in Brooklyn\, New York. He dedicates his work to creating spaces where people can engage with music free from the pressure of perfection\, but full of complexity and joy. He highlights the journey over the destination and firmly believes in making music for music-making’s sake. \nKenter facilitates One Day Choirs and other music events with the NYC-based creative community\, Gaia Music Collective. He has led One-Day Choirs all across the country\, celebrating the magic that diversity brings to group song. \nGET YOUR TICKETS $10-$25 \nAdd to calendar
URL:https://massachusetts250.org/event/concord250-one-day-choir-with-kenter-davies-at-the-armory/
LOCATION:Concord Armory\, Everett Street 91\, Concord\, Massachusetts\, 01742\, United States
CATEGORIES:Celebration,Event
ATTACH;FMTTYPE=image/png:https://massachusetts250.org/wp-content/uploads/2025/04/sing-kenter.png
ORGANIZER;CN="Concord250":MAILTO:pollyconcord250@gmail.com
GEO:42.4551802;-71.3484174
X-APPLE-STRUCTURED-LOCATION;VALUE=URI;X-ADDRESS=Concord Armory Everett Street 91 Concord Massachusetts 01742 United States;X-APPLE-RADIUS=500;X-TITLE=Everett Street 91:geo:-71.3484174,42.4551802
END:VEVENT
END:VCALENDAR