BEGIN:VCALENDAR
VERSION:2.0
PRODID:-//MA250 - ECPv6.5.1.5//NONSGML v1.0//EN
CALSCALE:GREGORIAN
METHOD:PUBLISH
X-WR-CALNAME:MA250
X-ORIGINAL-URL:https://massachusetts250.org
X-WR-CALDESC:Events for MA250
REFRESH-INTERVAL;VALUE=DURATION:PT1H
X-Robots-Tag:noindex
X-PUBLISHED-TTL:PT1H
BEGIN:VTIMEZONE
TZID:America/New_York
BEGIN:DAYLIGHT
TZOFFSETFROM:-0500
TZOFFSETTO:-0400
TZNAME:EDT
DTSTART:20260308T070000
END:DAYLIGHT
BEGIN:STANDARD
TZOFFSETFROM:-0400
TZOFFSETTO:-0500
TZNAME:EST
DTSTART:20261101T060000
END:STANDARD
END:VTIMEZONE
BEGIN:VEVENT
DTSTART;TZID=America/New_York:20260530T093000
DTEND;TZID=America/New_York:20260530T170000
DTSTAMP:20260421T210852
CREATED:20260421T212116Z
LAST-MODIFIED:20260421T212116Z
UID:10008448-1780133400-1780160400@massachusetts250.org
SUMMARY:Yankee Ingenuity
DESCRIPTION:Yankee Ingenuity begins this May with a series of weekend programs exploring New England’s long-standing role in shaping American innovation. Throughout the month\, local makers\, small businesses\, and community partners will be featured alongside historical interpretation\, illustrating how the region’s economy has long been driven by creativity\, skill\, and practical problem-solving. Organized around four themes—Eat\, Move\, Play\, and Work— this event connects everyday life from the Revolutionary era through the 1830s to the present\, highlighting the businesses and industries that continue to sustain the region today. \nYankee Ingenuity: EAT | May 2 & 3\nThe first weekend of Yankee Ingenuity begins with EAT. Culinary tradition and food production have long been a foundation of New England life. Amelia Simmons’s American Cookery (1796)\, America’s first cookbook\, will be brought to life on hearths similar to those used in her era. Guests will witness the recipes and techniques that defined early American cooking\, featuring distinctly regional ingredients like cornmeal\, pumpkin\, and cranberries that set American cuisine apart from its European roots.  \nYankee Ingenuity: MOVE | May 9 & 10\nThe challenge of transporting people\, goods\, and equipment has been an area of constant innovation in New England. From the ox to the horse\, from the canal boat to the railroad\, each advancement shaped how commerce flowed and communities connected. Discover how the region’s geography and economic needs drove creative solutions to the age-old problem of movement\, transforming local trade into networks that reached across the nation.  \nYankee Ingenuity: PLAY | May 23 – 25\nAll work and no play was not the case for New Englanders\, who brought the same ingenuity to leisure as they did to labor. From hand-crafted games and intricate puzzles to folk crafts and outdoor pastimes\, residents found creative ways to fill their free hours. These diversions weren’t just entertainment\, they reflected the values\, skills\, and social bonds that knit communities together during an era of rapid change and growth.  \nYankee Ingenuity: WORK | May 30 & 31\nLike most of America\, during formative years of the country\, New England was starved for workers\, which led to groundbreaking innovation and mechanization. The Industrial Revolution can claim a large part of its American origins right here in New England\, where water-powered mills\, interchangeable parts\, and factory systems transformed how goods were made. This drive to do more with less labor didn’t just change the economy\, it reshaped the landscape\, the workforce\, and the very nature of American work.
URL:https://massachusetts250.org/event/yankee-ingenuity/2026-05-30/
LOCATION:Old Sturbridge Village\, 1 Old Sturbridge Village Road\, Sturbridge\, MA\, 01566\, United States
CATEGORIES:Celebration,Event,Outdoors
ATTACH;FMTTYPE=image/jpeg:https://massachusetts250.org/wp-content/uploads/2026/04/YankeeIngenuity-Interior-scaled.jpg
ORGANIZER;CN="Old Sturbridge Village":MAILTO:kmorrill@osv.org
GEO:42.1040101;-72.0930962
X-APPLE-STRUCTURED-LOCATION;VALUE=URI;X-ADDRESS=Old Sturbridge Village 1 Old Sturbridge Village Road Sturbridge MA 01566 United States;X-APPLE-RADIUS=500;X-TITLE=1 Old Sturbridge Village Road:geo:-72.0930962,42.1040101
END:VEVENT
END:VCALENDAR