BEGIN:VCALENDAR
VERSION:2.0
PRODID:-//MA250 - ECPv6.5.1.5//NONSGML v1.0//EN
CALSCALE:GREGORIAN
METHOD:PUBLISH
X-WR-CALNAME:MA250
X-ORIGINAL-URL:https://massachusetts250.org
X-WR-CALDESC:Events for MA250
REFRESH-INTERVAL;VALUE=DURATION:PT1H
X-Robots-Tag:noindex
X-PUBLISHED-TTL:PT1H
BEGIN:VTIMEZONE
TZID:America/New_York
BEGIN:DAYLIGHT
TZOFFSETFROM:-0500
TZOFFSETTO:-0400
TZNAME:EDT
DTSTART:20250309T070000
END:DAYLIGHT
BEGIN:STANDARD
TZOFFSETFROM:-0400
TZOFFSETTO:-0500
TZNAME:EST
DTSTART:20251102T060000
END:STANDARD
END:VTIMEZONE
BEGIN:VEVENT
DTSTART;TZID=America/New_York:20250803T133000
DTEND;TZID=America/New_York:20250803T143000
DTSTAMP:20260421T040820
CREATED:20250604T145525Z
LAST-MODIFIED:20250604T145525Z
UID:15825-1754227800-1754231400@massachusetts250.org
SUMMARY:Women of '76
DESCRIPTION:Discover some of the women of 1776 including Baroness von Riedesel\, the wife of a Hessian General and a chronicler of life in military camps; Prudence Wright\, a minute woman and spy catcher; Nancy Hart\, a southern frontierswoman who confronted the enemy and emerged victorious. Explore the stories of these women and others\, both patriot and loyalist\, American and foreign\, who experienced the American Revolution firsthand and\, in some cases\, influenced its course. \nMembers $5/Non Members $10 Children free \nRita Parisi has been captivating audiences for 30 years in the New England area. In 2005\, she established Waterfall Productions to create shows that reflect her love for theatre\, literature\, history\, and costuming. She has had the opportunity to perform these shows throughout New England\, New Jersey\, New York\, and Florida. Rita Parisi is a proud member of SAG/AFTRA\, the largest acting union in the country\, and some of her films have premiered at the Boston
URL:https://massachusetts250.org/event/women-of-76/
LOCATION:1699 Isaac Winslow House\, 634 Careswell St\, Marshfield\, 02050\, United States
CATEGORIES:Event,Reenactment,Women's History
ATTACH;FMTTYPE=image/png:https://massachusetts250.org/wp-content/uploads/2025/06/Screenshot-2025-06-03-at-5.46.38 PM.png
ORGANIZER;CN="Historic Winslow House Association":MAILTO:whaboard@winslowhouse.org
GEO:42.0713374;-70.6730523
X-APPLE-STRUCTURED-LOCATION;VALUE=URI;X-ADDRESS=1699 Isaac Winslow House 634 Careswell St Marshfield 02050 United States;X-APPLE-RADIUS=500;X-TITLE=634 Careswell St:geo:-70.6730523,42.0713374
END:VEVENT
END:VCALENDAR