BEGIN:VCALENDAR
VERSION:2.0
PRODID:-//MA250 - ECPv6.5.1.5//NONSGML v1.0//EN
CALSCALE:GREGORIAN
METHOD:PUBLISH
X-WR-CALNAME:MA250
X-ORIGINAL-URL:https://massachusetts250.org
X-WR-CALDESC:Events for MA250
REFRESH-INTERVAL;VALUE=DURATION:PT1H
X-Robots-Tag:noindex
X-PUBLISHED-TTL:PT1H
BEGIN:VTIMEZONE
TZID:America/New_York
BEGIN:DAYLIGHT
TZOFFSETFROM:-0500
TZOFFSETTO:-0400
TZNAME:EDT
DTSTART:20250309T070000
END:DAYLIGHT
BEGIN:STANDARD
TZOFFSETFROM:-0400
TZOFFSETTO:-0500
TZNAME:EST
DTSTART:20251102T060000
END:STANDARD
END:VTIMEZONE
BEGIN:VEVENT
DTSTART;TZID=America/New_York:20250426T140000
DTEND;TZID=America/New_York:20250426T150000
DTSTAMP:20260424T200647
CREATED:20250310T181315Z
LAST-MODIFIED:20250310T181315Z
UID:10001020-1745676000-1745679600@massachusetts250.org
SUMMARY:Walking Tour: Explore Revolutionary Hingham
DESCRIPTION:Huzzah! Celebrate the 250th anniversary of the “shot heard ’round the world” with a revolutionary tour. In this 55-minute guided walk\, you’ll see surviving homes from the 1700s and discover how ordinary Hinghamites survived the tumultuous years before\, during\, and after the American Revolution. This tour is perfect for history lovers of all ages!
URL:https://massachusetts250.org/event/walking-tour-explore-revolutionary-hingham/2025-04-26/3/
LOCATION:Hingham Heritage Museum\, Main Street 34\, Hingham\, MA\, 02043\, United States
CATEGORIES:Outdoors
GEO:42.2418694;-70.8884264
X-APPLE-STRUCTURED-LOCATION;VALUE=URI;X-ADDRESS=Hingham Heritage Museum Main Street 34 Hingham MA 02043 United States;X-APPLE-RADIUS=500;X-TITLE=Main Street 34:geo:-70.8884264,42.2418694
END:VEVENT
END:VCALENDAR