BEGIN:VCALENDAR
VERSION:2.0
PRODID:-//MA250 - ECPv6.5.1.5//NONSGML v1.0//EN
CALSCALE:GREGORIAN
METHOD:PUBLISH
X-WR-CALNAME:MA250
X-ORIGINAL-URL:https://massachusetts250.org
X-WR-CALDESC:Events for MA250
REFRESH-INTERVAL;VALUE=DURATION:PT1H
X-Robots-Tag:noindex
X-PUBLISHED-TTL:PT1H
BEGIN:VTIMEZONE
TZID:America/New_York
BEGIN:DAYLIGHT
TZOFFSETFROM:-0500
TZOFFSETTO:-0400
TZNAME:EDT
DTSTART:20250309T070000
END:DAYLIGHT
BEGIN:STANDARD
TZOFFSETFROM:-0400
TZOFFSETTO:-0500
TZNAME:EST
DTSTART:20251102T060000
END:STANDARD
END:VTIMEZONE
BEGIN:VEVENT
DTSTART;TZID=America/New_York:20250420T110000
DTEND;TZID=America/New_York:20250420T160000
DTSTAMP:20260425T210611
CREATED:20250221T152634Z
LAST-MODIFIED:20250221T152634Z
UID:10001002-1745146800-1745164800@massachusetts250.org
SUMMARY:"Untold Stories" Exhibition Unveiling & Free Tours
DESCRIPTION:Operated by the Arlington Historical Society\, the historic Jason Russell House was a witness to the fiercest fighting of the Battle of Lexington\, Concord\, Menotomy\, the conflict that marked the beginning of the Revolutionary War. Today\, the House\, still bearing scars from the fight\, is at the heart of the Society’s regional history museum\, offering guided tours and engaging exhibits that highlight the lasting impacts of the American Revolution and Arlington’s broader history. \nOn both Saturday\, April 19\, and Monday\, April 21\, the Arlington Historical Society at the Jason Russell House will be open for FREE admission from 11am to 4pm\, with a special unveiling of UNTOLD STORIES – The Battle of Menotomy\, Voices of the Overlooked\, & Centennial Celebrations exhibition. \nThis commemorative exhibition aims to highlight the Battle of Menotomy as an “Untold Story.” It explores the perspectives of often-overlooked communities involved in the battle and examines how the people of the Commonwealth commemorated\, memorialized\, and celebrated the important anniversaries of this pivotal event\, as the first battle of the American Revolutionary War.
URL:https://massachusetts250.org/event/untold-stories-exhibition-unveiling-free-tours/2025-04-20/
LOCATION:Arlington Historical Society\, Jason Street 7\, Arlington\, MA\, 02476\, United States
CATEGORIES:Exhibit
ATTACH;FMTTYPE=image/jpeg:https://massachusetts250.org/wp-content/uploads/2025/02/1.jpg
ORGANIZER;CN="Arlington Historical Society":MAILTO:contact@arlingtonhistorical.org
GEO:42.4160266;-71.1587071
X-APPLE-STRUCTURED-LOCATION;VALUE=URI;X-ADDRESS=Arlington Historical Society Jason Street 7 Arlington MA 02476 United States;X-APPLE-RADIUS=500;X-TITLE=Jason Street 7:geo:-71.1587071,42.4160266
END:VEVENT
END:VCALENDAR