BEGIN:VCALENDAR
VERSION:2.0
PRODID:-//MA250 - ECPv6.5.1.5//NONSGML v1.0//EN
CALSCALE:GREGORIAN
METHOD:PUBLISH
X-WR-CALNAME:MA250
X-ORIGINAL-URL:https://massachusetts250.org
X-WR-CALDESC:Events for MA250
REFRESH-INTERVAL;VALUE=DURATION:PT1H
X-Robots-Tag:noindex
X-PUBLISHED-TTL:PT1H
BEGIN:VTIMEZONE
TZID:America/New_York
BEGIN:DAYLIGHT
TZOFFSETFROM:-0500
TZOFFSETTO:-0400
TZNAME:EDT
DTSTART:20250309T070000
END:DAYLIGHT
BEGIN:STANDARD
TZOFFSETFROM:-0400
TZOFFSETTO:-0500
TZNAME:EST
DTSTART:20251102T060000
END:STANDARD
END:VTIMEZONE
BEGIN:VEVENT
DTSTART;TZID=America/New_York:20250921T180000
DTEND;TZID=America/New_York:20250921T200000
DTSTAMP:20260425T063451
CREATED:20250915T133957Z
LAST-MODIFIED:20250922T221253Z
UID:19006-1758477600-1758484800@massachusetts250.org
SUMMARY:Ticonderoga Cannon: Presentation and Firing
DESCRIPTION:Presentation and firing of Cannon to commemorate the movement of Ticonderoga Cannon to Dorchester Heights under the command of Henry Knox in 1775 and 1776. \nDusk & Night Cannon Firing\nColonial Music \n6 PM Sudbury Fyfe & Drum\, Sudbury Militia and Minute\n6:30 – 7:15 p.m. Cannon Display \nFeaturing: Crain’s Artillery\, Brown’s Artillery\, Pawtucket Rangers Artillery\, and the Ancient and Honorable Artillery Company
URL:https://massachusetts250.org/event/ticonderoga-cannon-presentation-and-firing/
LOCATION:South Field\, Wayside Inn\, Dutton Road 35\, Sudbury\, Massachusetts\, 01776\, United States
CATEGORIES:Event
ATTACH;FMTTYPE=image/png:https://massachusetts250.org/wp-content/uploads/2025/09/header.png
ORGANIZER;CN="Sudbury 250 Committee":MAILTO:sudbury250@sudbury.ma.us
GEO:42.3586333;-71.4717605
X-APPLE-STRUCTURED-LOCATION;VALUE=URI;X-ADDRESS=South Field Wayside Inn Dutton Road 35 Sudbury Massachusetts 01776 United States;X-APPLE-RADIUS=500;X-TITLE=Dutton Road 35:geo:-71.4717605,42.3586333
END:VEVENT
END:VCALENDAR