BEGIN:VCALENDAR
VERSION:2.0
PRODID:-//MA250 - ECPv6.5.1.5//NONSGML v1.0//EN
CALSCALE:GREGORIAN
METHOD:PUBLISH
X-WR-CALNAME:MA250
X-ORIGINAL-URL:https://massachusetts250.org
X-WR-CALDESC:Events for MA250
REFRESH-INTERVAL;VALUE=DURATION:PT1H
X-Robots-Tag:noindex
X-PUBLISHED-TTL:PT1H
BEGIN:VTIMEZONE
TZID:America/New_York
BEGIN:DAYLIGHT
TZOFFSETFROM:-0500
TZOFFSETTO:-0400
TZNAME:EDT
DTSTART:20250309T070000
END:DAYLIGHT
BEGIN:STANDARD
TZOFFSETFROM:-0400
TZOFFSETTO:-0500
TZNAME:EST
DTSTART:20251102T060000
END:STANDARD
END:VTIMEZONE
BEGIN:VEVENT
DTSTART;TZID=America/New_York:20250823T130000
DTEND;TZID=America/New_York:20250823T150000
DTSTAMP:20260421T042219
CREATED:20250610T070903Z
LAST-MODIFIED:20250610T070903Z
UID:16066-1755954000-1755961200@massachusetts250.org
SUMMARY:The Tailor’s Craft
DESCRIPTION:Clothing historian Henry Cooke takes on the role of an early Boston tailor. Watch as he “takes the measure” of visitors\, then sits cross-legged\, fashioning waistcoats from luxurious fabrics and “slops” from coarse weaves.
URL:https://massachusetts250.org/event/the-tailors-craft-2/
LOCATION:Paul Revere House\, 19 North Square\, Boston\, 02113\, United States
CATEGORIES:Event
GEO:42.363739;-71.0537
X-APPLE-STRUCTURED-LOCATION;VALUE=URI;X-ADDRESS=Paul Revere House 19 North Square Boston 02113 United States;X-APPLE-RADIUS=500;X-TITLE=19 North Square:geo:-71.0537,42.363739
END:VEVENT
END:VCALENDAR