BEGIN:VCALENDAR
VERSION:2.0
PRODID:-//MA250 - ECPv6.5.1.5//NONSGML v1.0//EN
CALSCALE:GREGORIAN
METHOD:PUBLISH
X-WR-CALNAME:MA250
X-ORIGINAL-URL:https://massachusetts250.org
X-WR-CALDESC:Events for MA250
REFRESH-INTERVAL;VALUE=DURATION:PT1H
X-Robots-Tag:noindex
X-PUBLISHED-TTL:PT1H
BEGIN:VTIMEZONE
TZID:America/New_York
BEGIN:DAYLIGHT
TZOFFSETFROM:-0500
TZOFFSETTO:-0400
TZNAME:EDT
DTSTART:20260308T070000
END:DAYLIGHT
BEGIN:STANDARD
TZOFFSETFROM:-0400
TZOFFSETTO:-0500
TZNAME:EST
DTSTART:20261101T060000
END:STANDARD
END:VTIMEZONE
BEGIN:VEVENT
DTSTART;TZID=America/New_York:20260415T080000
DTEND;TZID=America/New_York:20260415T170000
DTSTAMP:20260425T082559
CREATED:20251117T214333Z
LAST-MODIFIED:20251117T214333Z
UID:10003946-1776240000-1776272400@massachusetts250.org
SUMMARY:The Role of the Press in the American Revolution
DESCRIPTION:18th century newspapers and pamphlets were essential to the dissemination of information and were instrumental in fanning the flames of discord on both sides of the revolutionary conflict. However\, how did printers get their information? This interactive program\, with the added component of 18th century material culture items\, focuses on the incredible process of typesetting and the role that printing and propaganda played in the pivotal events leading up to the American Revolution. \nMichele Gabrielson is a local history teacher and historic interpreter of the 18th century. When she is not teaching in the classroom\, Michele can be found leading tours\, lectures\, and demonstrations at historic sites in the greater Boston area. She specializes in interpreting the history of colonial women printers\, the stories of loyalist refugees\, and of 18th century chocolate makers! Most recently\, she has taken on building a first-person impression of the revolutionary playwright and poet Mercy Otis Warren. Michele additionally serves as the secretary for the newly formed Mercy Otis Warren Society\, dedicated to helping preserve the contributions of Mercy\, is a member of the Authenticity Standards Committee for Minuteman National Historic Park\, and is the coordinator for the Battle Road Guides for the annual reenactment of the Battle of Lexington and Concord. She was awarded a 2024 Rising Star Award for Public History by the Massachusetts History Alliance for her programming titled\, “The Revolutionary Classroom\,” and named a finalist for the 2024 Massachusetts History Teacher of the Year. She has been named the Massachusetts Daughters of the American Revolution’s Outstanding History Teacher of the Year for 2025 and the 2025 winner of the Fred Graham Award for Excellence in Teaching from the Massachusetts Society of the Cincinnati.
URL:https://massachusetts250.org/event/the-role-of-the-press-in-the-american-revolution/2026-04-15/1/
LOCATION:Bigelow Library\, Walnut Street 54\, Clinton\, MA\, 01510\, United States
CATEGORIES:Exhibit,Speakers,Women's History
ATTACH;FMTTYPE=image/png:https://massachusetts250.org/wp-content/uploads/2025/11/michele-g-with-her-printing-press.png
ORGANIZER;CN="Bigelow Fre Public Library":MAILTO:illcl@cwmars.org
GEO:42.4174145;-71.6833522
X-APPLE-STRUCTURED-LOCATION;VALUE=URI;X-ADDRESS=Bigelow Library Walnut Street 54 Clinton MA 01510 United States;X-APPLE-RADIUS=500;X-TITLE=Walnut Street 54:geo:-71.6833522,42.4174145
END:VEVENT
END:VCALENDAR