BEGIN:VCALENDAR
VERSION:2.0
PRODID:-//MA250 - ECPv6.5.1.5//NONSGML v1.0//EN
CALSCALE:GREGORIAN
METHOD:PUBLISH
X-WR-CALNAME:MA250
X-ORIGINAL-URL:https://massachusetts250.org
X-WR-CALDESC:Events for MA250
REFRESH-INTERVAL;VALUE=DURATION:PT1H
X-Robots-Tag:noindex
X-PUBLISHED-TTL:PT1H
BEGIN:VTIMEZONE
TZID:America/New_York
BEGIN:DAYLIGHT
TZOFFSETFROM:-0500
TZOFFSETTO:-0400
TZNAME:EDT
DTSTART:20250309T070000
END:DAYLIGHT
BEGIN:STANDARD
TZOFFSETFROM:-0400
TZOFFSETTO:-0500
TZNAME:EST
DTSTART:20251102T060000
END:STANDARD
END:VTIMEZONE
BEGIN:VEVENT
DTSTART;TZID=America/New_York:20250506T180000
DTEND;TZID=America/New_York:20250506T193000
DTSTAMP:20260421T042636
CREATED:20250409T143425Z
LAST-MODIFIED:20250409T143425Z
UID:13722-1746554400-1746559800@massachusetts250.org
SUMMARY:The Great Debate Part 2: Patriots & Loyalists
DESCRIPTION:The year is 1775—tensions with the British Crown are rising\, and one question is on every colonist’s mind: Would you fight for independence as a Patriot or remain loyal to the British Crown as a Loyalist? \nJoin us as our two historians face yet another Great Debate that divided colonists and even families during the American Revolution. David Goss will argue the case for Loyalists\, and Charlie Newhall will argue the case for Patriots. Both sides will defend their beliefs about freedom\, loyalty\, and the future of the colonies. \nThe debate will be moderated by David Olson former Editor-in-Chief of the Salem News \nAudience members will have the chance to ask questions\, challenge perspectives\, and even cast their vote at the end! \nThis program is part of Essex County Revolution 250 – an initiative of Essex Heritage in partnership with Massachusetts Rev250 and dozens of regional museums\, heritage sites\, and organizations\, with the intention of raising awareness and highlighting the diverse stories of Essex County\, Massachusetts residents\, free and unfree\, during the American Revolutionary period.
URL:https://massachusetts250.org/event/the-great-debate-part-2-patriots-loyalists/
LOCATION:Salem Armory Visitor Center\, New Liberty Street 2\, Salem\, Massachusetts\, 01970\, United States
CATEGORIES:Event,Speakers
ATTACH;FMTTYPE=image/jpeg:https://massachusetts250.org/wp-content/uploads/2025/04/https___cdn.evbuc_.com_images_970187873_145681493684_1_original.jpg
ORGANIZER;CN="Essex Heritage":MAILTO:info@essexheritage.org
GEO:42.5227268;-70.8919824
X-APPLE-STRUCTURED-LOCATION;VALUE=URI;X-ADDRESS=Salem Armory Visitor Center New Liberty Street 2 Salem Massachusetts 01970 United States;X-APPLE-RADIUS=500;X-TITLE=New Liberty Street 2:geo:-70.8919824,42.5227268
END:VEVENT
END:VCALENDAR