BEGIN:VCALENDAR
VERSION:2.0
PRODID:-//MA250 - ECPv6.5.1.5//NONSGML v1.0//EN
CALSCALE:GREGORIAN
METHOD:PUBLISH
X-WR-CALNAME:MA250
X-ORIGINAL-URL:https://massachusetts250.org
X-WR-CALDESC:Events for MA250
REFRESH-INTERVAL;VALUE=DURATION:PT1H
X-Robots-Tag:noindex
X-PUBLISHED-TTL:PT1H
BEGIN:VTIMEZONE
TZID:America/New_York
BEGIN:DAYLIGHT
TZOFFSETFROM:-0500
TZOFFSETTO:-0400
TZNAME:EDT
DTSTART:20260308T070000
END:DAYLIGHT
BEGIN:STANDARD
TZOFFSETFROM:-0400
TZOFFSETTO:-0500
TZNAME:EST
DTSTART:20261101T060000
END:STANDARD
END:VTIMEZONE
BEGIN:VEVENT
DTSTART;TZID=America/New_York:20260101T113000
DTEND;TZID=America/New_York:20260101T130000
DTSTAMP:20260425T203927
CREATED:20260105T155631Z
LAST-MODIFIED:20260105T155631Z
UID:22644-1767267000-1767272400@massachusetts250.org
SUMMARY:The 250th First Flag Raising on Prospect Hill
DESCRIPTION:On\, January 1\, 1776\, George Washington ordered the raising of the “Grand Union Flag” over Prospect Hill.\nThe First Flag symbolized both the defiance and resolve of the Continental Army as they entered a critical phase of the Siege of Boston. This year’s milestone 250th annivesary expands the traditional military ceremony to better reflect the full diversity of people whose labor\, courage and aspirations shaped the Revolution. With participation by militia from Charlestown\, Bedford\, Rhode Island and more. Sing along to Revolutionary songs and enjoy special appearances by George Washington on horseback\, and Black Revolutionary Soldier “Primus Hall” and a reading of Phyllis Wheatley’s Poem\, “To His Excellency George Washington” written to Washington only a couple months prior to the flag raising. Hot drinks and pastries will be available. \n11:30 am – Join a procession from Somerville City Hall\, 93 Highland Ave\, led by Fife and Drummers and George Washington on his horse\n12-1pm – Attend the Flag raising ceremony at Prospect Hill. All are welcome to bring national flags of any stripes\, and children will make their own.
URL:https://massachusetts250.org/event/the-250th-first-flag-raising-on-prospect-hill/
LOCATION:Prospect Hill Park\, 68 Munroe Street\, Somerville\, MA\, 02143\, United States
CATEGORIES:Anniversary,Black History,Celebration,Commemoration,Event,Outdoors,Parades
ATTACH;FMTTYPE=image/png:https://massachusetts250.org/wp-content/uploads/2025/12/Screenshot-2025-12-22-at-1.34.51 PM.png
ORGANIZER;CN="Somerville Museum":MAILTO:grace@somervillemuseum.org
GEO:42.3817102;-71.0935465
X-APPLE-STRUCTURED-LOCATION;VALUE=URI;X-ADDRESS=Prospect Hill Park 68 Munroe Street Somerville MA 02143 United States;X-APPLE-RADIUS=500;X-TITLE=68 Munroe Street:geo:-71.0935465,42.3817102
END:VEVENT
END:VCALENDAR