BEGIN:VCALENDAR
VERSION:2.0
PRODID:-//MA250 - ECPv6.5.1.5//NONSGML v1.0//EN
CALSCALE:GREGORIAN
METHOD:PUBLISH
X-WR-CALNAME:MA250
X-ORIGINAL-URL:https://massachusetts250.org
X-WR-CALDESC:Events for MA250
REFRESH-INTERVAL;VALUE=DURATION:PT1H
X-Robots-Tag:noindex
X-PUBLISHED-TTL:PT1H
BEGIN:VTIMEZONE
TZID:America/New_York
BEGIN:DAYLIGHT
TZOFFSETFROM:-0500
TZOFFSETTO:-0400
TZNAME:EDT
DTSTART:20250309T070000
END:DAYLIGHT
BEGIN:STANDARD
TZOFFSETFROM:-0400
TZOFFSETTO:-0500
TZNAME:EST
DTSTART:20251102T060000
END:STANDARD
END:VTIMEZONE
BEGIN:VEVENT
DTSTART;TZID=America/New_York:20250514T100000
DTEND;TZID=America/New_York:20250514T123000
DTSTAMP:20260425T180027
CREATED:20250107T185245Z
LAST-MODIFIED:20250107T185245Z
UID:8111-1747216800-1747225800@massachusetts250.org
SUMMARY:Siege of Boston 250th Special Anniversary Tour
DESCRIPTION:Join Hub Town Tours as we commemorate the 250th anniversary of the Siege of Boston\, the opening phase of the American Revolutionary War. We will explore life in and around Boston during its occupation by British troops in 1775 and highlight the efforts of Provincial forces led by General George Washington. This 2.5-hour walking tour will travel along the Freedom Trail and follow in the footsteps of Colonial Bostonians\, all of whom grappled with the difficult – yet essential – question of loyalty or rebellion to crown and country. As we travel past historic landmarks from Revolutionary Boston\, your guide shares the gripping story of a small colonial town careening toward war with the British empire.
URL:https://massachusetts250.org/event/siege-of-boston-250th-special-anniversary-tour/
CATEGORIES:Anniversary,Commemoration,Outdoors
ATTACH;FMTTYPE=image/jpeg:https://massachusetts250.org/wp-content/uploads/2025/01/Paul_Revere_Statue_Old_North_Church-2-1-scaled.jpeg
ORGANIZER;CN="Hub Town Tours":MAILTO:help@hubtowntours.com
END:VEVENT
END:VCALENDAR